{"text_format":"1","workbook":"xlsx","n_sheets":4,"sheets":["Read Me","Runoff Field ID-1","Drift Field ID- 1","(locked calculator functions)"],"not_rendered":{"charts":0,"images":0,"macros":1,"external_links":0,"defined_names":124,"comments":0,"pivot_tables":0},"unopened":[],"bounds":{"document_bytes":16777216,"sheet_cells":100000,"rows_first":2000,"rows_last":500,"rows_between":2000,"halvings":0,"cell_chars":16384,"cell_head_chars":4096},"cells_cut":0,"cells_raw":0,"read":"whole","date_system":"1900"}

{"sheet":"Read Me","index":0,"n_rows":75,"n_cols":5,"rows_kept":75,"cut":false,"hidden":false,"merged":[[73,1,73,2],[74,1,74,2],[4,0,4,2],[0,0,0,2],[41,0,41,2],[42,0,42,2],[15,0,15,2],[40,0,40,2],[38,0,38,2],[39,0,39,2],[37,0,37,2],[35,0,35,2],[33,0,33,2],[31,0,31,2],[29,0,29,2],[34,0,34,2],[36,0,36,2],[28,0,28,2],[30,0,30,2],[32,0,32,2],[12,0,12,2],[23,0,23,2],[27,0,27,2],[25,0,25,2],[16,0,16,2],[24,0,24,2],[26,0,26,2],[22,0,22,2],[19,0,19,2],[18,0,18,2],[17,0,17,2],[20,0,20,2],[3,0,3,2],[5,0,5,2],[21,0,21,2],[13,0,13,2],[6,0,6,2],[9,0,9,2],[10,0,10,2],[8,0,8,2],[7,0,7,2],[44,0,44,2],[45,0,45,2],[46,0,46,2],[47,0,47,2],[48,0,48,2],[66,0,66,2],[67,0,67,2],[69,0,69,2],[70,0,70,2],[50,1,50,4],[55,1,55,4],[62,0,62,2],[63,0,63,2],[64,0,64,2],[65,0,65,2],[57,0,57,2],[58,0,58,2],[59,0,59,2],[60,0,60,2],[61,0,61,2]]}
["The Spray Drift and Runoff Mitigation Calculator is a tool for informational purposes to assist the user in determining whether the necessary level of mitigation has been met before applying a pesticide product. \n\nThe runoff calculator can help assess the potential number of runoff mitigation points available for the mitigation and runoff mitigation relief measures entered by the user. The actual number of runoff mitigaiton points achieved is dependent on design and implementation of mitigation measures in accordance with relevant criteria and standard  practices their descriptions on EPA’s Mitigation Menu Website (https://www.epa.gov/pesticides/mitigation-menu-measure-descriptions). \n\nThe spray drift calculator can help assess the spray drift buffer reductions when considering label use information and spray drift requirements, planned methods of appllication, and mitigation measures. Reductions in ecological spray drift buffers is In accordance with relevant criteria and standard  practices descriptions on EPA’s Mitigation Menu Website (https://www.epa.gov/pesticides/mitigation-menu-measure-descriptions).\n\nNote that each measure in the calculator includes a link that directs you to the detailed description of each measure on this website EPA’s Mitigation Menu Website. "]
[]
["Spray Drift and Runoff Mitigation Calculator Version 2.0 Dated 4-29-25"]
["Ecological runoff/erosion mitigation measures, efficacy and individual mitigation points reflect the Ecological Mitigation Support Document (version 2.0) and are consistent with EPA's Mitigation Menu Website at https://www.epa.gov/pesticides/mitigation-menu."]
["IMPORTANT: This calculator is designed for use on Excel 2016 or newer.  Several of the calculator functions may not work properly on Excel versions prior to the 2016 release. "]
["The mitigation and mitigation relief measures in this calculator link to their corresponding descriptions on EPA's Mitigation Menu Website. "]
["EPA's Mitigation Menu Website also includes a crosswalk document to help you understand how voluntary programs that utilize conservation practices can fulfill EPA label requirements"]
["Runoff Calculator Section"]
["This runoff calculator is intended to simplify the calculation of mitigation points for an individual field/management unit.  The calculator also includes fields that can be useful for keeping track of information on a field by field basis for later use."]
["The calculator auto processes mitigation points and provides a summation of the field/management unit mitigation points.  If the user does not include entries in the \"Application Parameters\" section then the summation of points provided in the green cells at the bottom of the calculator would be applicable to all agricultural pesticides used on the field/management unit."]
["Definition of Field or Management Unit: A field or management unit is defined as the single contiguous piece of land that is managed as a single unit in production or in preparation for production of a single crop. A uniform field (continuous managed area for cultivation) may be sub-divided based upon different crops (e.g., vegetables and leafy greens) or sub-divided based upon different features (e.g., flat portion and contoured portion).  EPA's mitigation measures are applicable to the use as related to these units of management. "]
[]
["Clear All User Inputs Button - This will clear out all user inputs within the active worksheet. Once cleared, it cannot be undone. The user would need to reenter the information."]
["Create New Worksheet for another Field/Management Unit Button - This will prompt the user to enter a new field/management unit identification name. It will create a new worksheet named with the user supplied identification name. The new worksheet is cleared out of all user inputs. "]
[]
["Description of sections within the runoff calculator"]
["General Field/Management Unit Information (Optional Section)"]
["This calculator is intended for use on an individual field/management unit scale"]
["This section is provided to aid in the organization of calculator results."]
["This section is not used to calculate total points for the field/management unit."]
["Other Landscape Considerations"]
["This section allows the user to indicate if the area downslope (down gradient) from the field/management unit is for 1000 ft or more entirely made up of landscape areas indicated in the provided table."]
["Systems that Capture Runoff and Discharge"]
["This section consolidates the systems that capture runoff and discharge that are included in EPA's Mitigation Menu Website. Some of these systems receive mitigation points, while others fulfill runoff/erosion mitigation requirements on their own (i.e., \"No Additional Runoff/Erosion Mitigation Needed\")."]
["Pesticide Runoff Vulnerability"]
["This section provides two drop down selection cells where users would select the State and County where the field/management unit is located."]
["Conservation Program and Runoff/Erosion Specialists/Mitigation Tracking"]
["This section provides two drop down selection cells where users would indicate if they are tracking their mitigations for the field/management unit (worksheets saved in this calculator or printed and saved would count for this point), and whether they are working with a runoff/erosion specialist or are in a conservation program, or in an EPA-Qualified Conservation Program (see criteria on EPA's mitigation measure website)."]
["Field Characteristics"]
["This section provides EPA's field slope and soil type mitigation measures.  See EPA's mitigation measure website for more details."]
["In-Field Mitigation Measures"]
["This section provides EPA's in-field mitigation measures. The calculator combines subcategories of EPA's mitigation measures (e.g., Reduced Tillage Management) to enable the user to select from drop down menus the applicable condition with their field/managment unit. See EPA's mitigation measure website for more details on these mitigation measures."]
["Field-adjacent Mitigation Measures"]
["This section provides EPA's adjacent to the field mitigation measures. The calculator combines subcategories of EPA's mitigation measures (e.g., Reduced Tillage Management) to enable the user to select from drop down menus the applicable condition with their field/management unit. See EPA's mitigation measure website for more details on these mitigation measures."]
["Other Mitigation Measures"]
["This section auto processes the user inputs in the \"Systems that Capture Runoff and Discharge\", \"In-field Mitigation Measures\", and \"Adjacent to the Field Mitigation Measures\" sections to provide a point if the user indicated measures from two or more of these sections. "]
["Resulting mitigation Points for the Field without application parameters will be Provided in Green Cells"]
["This section provides the results of the calculator and indicates the summation of points the field/management unit based on user inputs. When appropriate, this section will also indicate if the user inputs have resulted in \"No Additional Runoff/Erosion Mitigation Needed\" and states \"Field Meets Runoff/Erosion Mitigation Requirements\".  Note that you are required to comply with the most restrictive requirements across product labels used in the application and any applicable bulletins, which may be achieving a minimum number of runoff/erosion mitigation points (for which you would use this calculator), but could also be other restrictions (e.g., use prohibition, timing restriction, application method prohibition, sandy soil application restriction, subset of menu measures)."]
["Application Parameters"]
["This section considers conditions specific to the application of a particular product or active ingredient. "]
["Base mitigation points for a field/management unit can be calculated without having this section filled out. This would provide non-application specific calculator results."]
["Resulting Mitigation Points for the Field and Application Parameters will be Provided in Blue Cells"]
["This section provides the results of the calculator and indicates the summation of points the field/management unit plus any mitigation points associated with the application parameters section based on user inputs. When appropriate, this section will also indicate if the user inputs have resulted in \"No Additional Runoff/Erosion Mitigation Needed\" and states \"Field Meets Runoff/Erosion Mitigation Requirements\".  Note that you are required to comply with the most restrictive requirements across product labels used in the application and any applicable bulletins, which may be achieving a minimum number of runoff/erosion mitigation points (for which you would use this calculator), but could also be other restrictions (e.g., use prohibition, timing restriction, application method prohibition, sandy soil application restriction, subset of menu measures)."]
[]
["Spray Drift Calculator Section"]
["This spray drift calculator is intended to simplify the calculation of adjusted ecological spray drift buffers for an individual field/management unit as related to a specific pesticide application.  The spray drift calculator also includes places to add information that can be useful for keeping track of information on a field by field basis for later use."]
["The spray drift calculator auto processes reductions in ecological spray drift buffer distances and provides the adjusted ecological spray drift buffer for the applicaiton and applicable mitigation measures.  "]
["Clear All User Inputs Button - This will clear out all user inputs within the active worksheet. Once cleared, it cannot be undone. The user would need to reenter the information."]
["Create New Worksheet for another Field/Management Unit Button - This will prompt the user to enter a new field/management unit identification name. It will create a new worksheet named with the user supplied identification name. The new worksheet is cleared out of all user inputs. "]
[]
["Maximum Spray Drift Buffer Reference Table (use product label for product specific buffers)","Distances in Feet"]
["Application Method and Droplet Size","Fine Droplet","Medium Droplet","Coarse Droplet","Very Coarse or Coarser Droplet"]
["Aerial Application",400,300,170,110]
["Ground High Boom (>3 ft above ground or canopy)",100,25,15,15]
["Ground Low Boom (<3 ft above ground or canopy)",50,25,15,15]
["Airblast","85 (droplet size not applicable at this time)"]
[]
["Description of sections within the spray drift calculator"]
["General Field/Management Unit Information (Optional Section)"]
["This calculator is intended for use on an individual field/management unit scale"]
["This section is provided to aid in the organization of calculator results."]
["This section is not used to calculate ecologial spray drift buffers."]
["Conditions Not Requiring Ecological Spray Drift Buffers. \nNote: Spray buffers may be required for other reasons (e.g., protection of human health)."]
["This section allows for the user to input responses for conditions that would result in no ecological spray drift buffer needed.  The responses in this section are automatically incorporated into the ground, aerial and airblast sections of the calculator. "]
["Ground Application Ecological Spray Buffer Mitigation"]
["This section allows for the user to input responses for specific product label requirements, as well as planned adjustments in the droplet size, boom height, and applicaiton rate.  The applicaiton assumes a single application within the calculator. This section also considers all mitigaiton measures and buffer reduction conditions currently available for ground spray applicaitons.  The responses in this section are automatically incorporated into the green colored cell that provides the adjusted ecolgical spray drift buffer. "]
["Aerial Application Ecological Spray Buffer Mitigation"]
["This section allows for the user to input responses for specific product label requirements, as well as planned adjustments in the droplet size, and applicaiton rate.  The applicaiton assumes a single application within the calculator. This section also considers all mitigaiton measures and buffer reduction conditions currently available for aerial spray applicaitons.  The responses in this section are automatically incorporated into the green colored cell that provides the adjusted ecolgical spray drift buffer. "]
[]
["Airblast Application Ecological Spray Buffer Mitigation"]
["This section allows for the user to input responses for specific product label requirements, as well as planned adjustments in the applicaiton rate.  The applicaiton assumes a single application within the calculator. This section also considers all mitigaiton measures and buffer reduction conditions currently available for airblast spray applicaitons.  The responses in this section are automatically incorporated into the green colored cell that provides the adjusted ecolgical spray drift buffer. "]
[]
["Version Notes:","Updates to New version"]
["Version 2.0 Dated 4-29-25","formula revisions to enable calculator use on Excel 2016, 2019, and 365. \nAdded or adjusted runoff measures: expanded definition of conservation programs to include \"EPA-Qualified Conservation Program\"; added PAM measure; expanded definition of Predominantly Sandy Soils measure; fixed error in the calculation of points for reduced area treated.\nAdded spray drift calculator functions"]
["Version 1.0 Dated 10-15-24","first version of the calculator"]

{"sheet":"Runoff Field ID-1","index":1,"n_rows":70,"n_cols":6,"rows_kept":70,"cut":false,"hidden":false,"merged":[[56,0,56,2],[0,0,0,3],[1,0,1,3],[6,0,6,3],[10,0,10,3],[14,0,14,3],[18,0,18,3],[23,0,23,3],[28,0,28,3],[41,0,41,3],[51,0,51,3],[55,0,55,3],[2,0,2,1],[3,0,3,1],[4,0,4,1],[57,0,57,2],[59,0,59,3],[67,0,67,3],[68,0,68,2],[69,0,69,2]]}
["EPA provides this calculator for informational purposes to assist the user in determining whether the necessary level of mitigation has been met before applying a pesticide product.  Certain mitigation may be required through labeling that directs users to access the mitigation menu website and achieve a certain number of mitigation points. The calculator may also be used as a mitigation tracker.\n\nIn the worksheet below:\n- select from the drop down box or enter value in all cells highlighted in orange (note: a drop down box will show when the user clicks on the relevant cell). Results for the field/management unit are provided in Green shaded cells\n- if additional mitigation may be necessary, results for the pesticide application mitigations and the field/management unit points are provided in Blue shaded cells. These two sources of mitigation points are summarized to provide the total mitigation points for the field/management unit and the pesticide product application mitigations. \n- click on the Mitigation Measure Title (bolded) to go directly to the mitigation measure description on EPA's Mitigation Menu Website. \n- to duplicate this worksheet for an additional field(s)/management unit(s) use the button \"Create New Worksheet for Another Field/Management Unit\"\n- to clear all user inputs on this worksheet use the button \"Clear all user inputs\".\n\nCAUTION: This calculator will allow the user to input mitigation measures that are logically incompatible (e.g., no till and reservoir till). Users are responsible for ensuring that the mitigation measures they input are possible and represent the management used on their field/management unit."]
["General Field/Management Unit Information (Optional Information- Does not Impact Calculation)"]
["Name:"]
["Date:"]
["Field/Management Unit Identification:"]
[]
["Other Landscape Considerations"]
["Category","Hyperlink to EPA Description","Select Value","Number of points"]
["Mitigation Relief if the Area at Least 1000 Feet Down-Gradient from the Treated Farm/Field Contains Only Managed Areas.\nManaged areas are defined as:  \n• Agricultural fields, pastures, forage fields, and private rangelands, including untreated portions of the treated field; \n• Roads, paved or gravel surfaces, mowed grassy/fallowed areas adjacent to field, and areas of bare ground from recent plowing or grading that are contiguous with the treated area;  \n• Buildings and their perimeters, silos, or other man-made structures with walls and/or roof; \n• Areas present and/or maintained as a runoff/erosion measure as listed on EPA’s Mitigation Menu website. Examples include vegetative filter strips (VFS), field borders, grassed waterways, vegetated ditches, riparian areas, managed/constructed wetlands, or other areas of intentional habitat improvement; \n• Areas present and/or maintained as a drift buffer reduction measure as listed on EPA’s Mitigation Menu website. Examples include vegetative windbreaks, hedgerows, shelterbelts, riparian areas, private forests, woodlots, and shrublands; \n• Conservation Reserve Program (CRP) and Agricultural Conservation Easement Program (ACEP) lands (applicators may need to ensure that pesticide use does not cause degradation of the CRP habitat). \n• On-farm contained irrigation water resources that are not connected to adjacent water bodies, including on-farm irrigation canals and ditches, water conveyances, managed irrigation/runoff retention basins, farm ponds, and tailwater collection ponds.","Hyperlink","make selection",{"$f":"IF(C9=\"yes\",\"No Additional Runoff/Erosion Mitigation Needed\",\"Continue Calculating Mitigation Points\")","v":"Continue Calculating Mitigation Points"}]
[]
["Systems that Capture Runoff and Discharge"]
["Category","Hyperlink to EPA Description","Select Value","Number of points"]
["Systems that Capture Runoff and Discharge (water retention pond, sediment control basin, irrigation tailwater return system, perimeter berm system (present at the time of application and throughout the cropping season), subsurface or tile drainage with a controlled outlet or without a controlled outlet)","Hyperlink","make selection",{"$f":"IF(OR(C13=\"Perimeter Berm System\",C13=\"Irrigation Tailwater Return System\",C13=\"Subsurface or Tile Drainage with Controlled Outlet\"),\"No Additional Runoff/Erosion Mitigation Needed\",IF(OR(C13=\"Water Retention Pond\",C13=\"Sediment Control Basin\"),2,IF(C13=\"Subsurface or Tile Drainage without Controlled Outlet\",1,0)))","v":0}]
[]
["Pesticide Runoff Vulnerability"]
["Select State","Select County","Hyperlink to EPA Description","Number of points"]
["make selection","make selection","Hyperlink",{"$f":"IFERROR(VLOOKUP(CONCATENATE(A17,\", \",B17),'(locked calculator functions)'!P:Q,2,FALSE),\"Select state then county from dropdown menus to the left\")","v":"Select state then county from dropdown menus to the left"}]
[]
["Conservation Program and Runoff/Erosion Specialists/Mitigation Tracking"]
["Category","Hyperlink to EPA Description","Select Value","Number of points"]
["Mitigation Tracking","Hyperlink","make selection",{"$f":"IF(C21=\"make selection\",0,(IF(C21=\"no\",0,1)))","v":0}]
["Follow Recommendations from a Runoff/Erosion Specialist or Participate in a Qualifying Conservation Program","Hyperlink","make selection",{"$f":"IF(C22=\"Working with a runoff/erosion specialist\",1,IF(C22=\"Participating in a conservation program (2 points)\",2,IF(C22=\"Participating in an EPA Qualified Conservation Program (9+ points)\",9,0)))","v":0}]
[]
["Field Characteristics"]
["Category","Hyperlink to EPA Description","Select Value","Number of points"]
["Field with Slope ≤3% (naturally low slope or flat fields; flat laser leveled fields)","Hyperlink","make selection",{"$f":"IF(C26=\"yes\",2,0)","v":0}]
["Predominantly Sandy Soils (fields with 10-20% clay and 50-90% sand [includes loam, silt loam, or silt soil] without a restrictive layer that impedes the movement of water through the soil [also described as Hydrologic Soil Group B]). This option can only be used if the product label does not prohibit application on sandy soils.","Hyperlink","make selection",{"$f":"IF(C27=\"Predominately sandy soils: Fields with ≤10% clay and ≥90% sand (HSG A type soils)\",3,IF(C27=\"Moderately sandy soils: Fields with 10-20% clay and 50-90% sand (HSG B type soils).\",2,0))","v":0}]
[]
["In-Field Mitigation Measures"]
["Category","Hyperlink to EPA Description","Select Value","Number of points"]
["Conservation Tillage (no-till, perennial crop (e.g., orchards that are not tilled), reduced tillage, strip tillage, ridge tillage, mulch tillage)","Hyperlink","make selection",{"$f":"IF(OR(C31=\"Reduced Tillage\",C31=\"Strip Till\",C31=\"Mulch Tillage\",C31=\"Ridge Tillage\"),2,(IF(OR(C31=\"Perennial Crop\",C31=\"No Till\"),3,0)))","v":0}]
["Reservoir Tillage (reservoir tillage, furrow diking, basin tillage)","Hyperlink","make selection",{"$f":"IF(C32=\"yes\", 3,0)","v":0}]
["Contour Farming (contour farming, contour tillage, contour orchard and perennial crops)","Hyperlink","make selection",{"$f":"IF(C33=\"yes\", 2,0)","v":0}]
["Vegetative Strips – In-Field (inter-row vegetated strips, strip cropping or intercropping, alley cropping, prairie strips, contour buffer strips, contour strip cropping, vegetative barrier (occurring in a contoured field))","Hyperlink","make selection",{"$f":"IF(C34=\"yes\", 2,0)","v":0}]
["Terrace Farming (terrace farming, terracing, field terracing)","Hyperlink","make selection",{"$f":"IF(C35=\"yes\", 2,0)","v":0}]
["Cover Crop or Continuous Ground Cover (cover crop, double cropping, relay cropping)","Hyperlink","make selection",{"$f":"IF(C36=\"tillage used to terminate cover crop\", 1,(IF(C36=\"short term cover crop no till\",2,(IF(C36=\"long term cover crop no till\",3,0)))))","v":0}]
["Irrigation Water Management (use of soil moisture sensors/evapotranspiration meters with center pivots & sprinklers, above ground drip tape, drip emitters, micro-sprinklers, use of below tarp irrigation, below ground drip tape, flood or furrow irrigation with computerized hole selection and/or surge valves, dry farming, non-irrigated lands)","Hyperlink","make selection",{"$f":"IF(OR(C37=\"non-irrigated lands\",C37=\"dry farming\",C37=\"below ground drip tape\",C37=\"below tarp irrigation\"),3,(IF(OR(C37=\"drip emitters\",C37=\"above ground drip tape\",C37=\"micro-sprinklers\",C37=\"flood or furrow irrigation with computerized hole selection and/or surge valves\",C37=\"soil moisture sensors/evapotranspiration meters with center pivots & sprinklers\"),2,0)))","v":0}]
["Mulching with Natural and Artificial Materials (mulching with permeable artificial materials (i.e., landscape fabrics, synthetic mulches), mulching with natural materials)","Hyperlink","make selection",{"$f":"IF(C38=\"Mulching with natural materials\",3,IF(C38=\"Mulching with artificial materials\",1,0))","v":0}]
["Anionic Polyacrylamide (PAM)","Hyperlink","make selection",{"$f":"IF(C39=\"yes\", 2,0)","v":0}]
["Erosion Barriers (wattles, silt fences)","Hyperlink","make selection",{"$f":"IF(C40=\"yes\", 2,0)","v":0}]
[]
["Field-adjacent Mitigation Measures"]
["Category","Hyperlink to EPA Description","Select Value","Number of points"]
["Grassed Waterway","Hyperlink","make selection",{"$f":"IF(C44=\"yes\", 2,0)","v":0}]
["Vegetative Filter Strips or Field Border adjacent to field","Hyperlink","make selection",{"$f":"IF(C45=\"20 to <30 ft Vegetative filter strip (VFS), field border\",1,IF(C45=\"30 to <60 ft Vegetative filter strip (VFS), field border\",2,IF(C45=\">60 ft Vegetative filter strip (VFS), field border\",3,0)))","v":0}]
["Vegetated Ditch","Hyperlink","make selection",{"$f":"IF(C46=\"yes\",1,0)","v":0}]
["Riparian Forest Buffer; Riparian Herbaceous Cover","Hyperlink","make selection",{"$f":"IF(C47=\"20 to <30 ft Riparian forest buffer, riparian herbaceous cover\",1,IF(C47=\"30 to <60 ft Riparian forest buffer, riparian herbaceous cover \",2,IF(C47=\">60 ft Riparian forest buffer, riparian herbaceous cover\",3,0)))","v":0}]
["Constructed and Natural Wetlands (constructed and natural wetlands, wetland and riparian landscape/habitat improvement)","Hyperlink","make selection",{"$f":"IF(C48=\"yes\", 3,0)","v":0}]
["Terrestrial Habitat Landscape Improvement (critical area planting, cross wind trap strips, hedgerow planting, herbaceous wind barriers, windbreak-shelterbelt establishment and renovation, tree shrub planting, forest stand improvement, upland wildlife habitat management)","Hyperlink","make selection",{"$f":"IF(C49=\"20 to <30 ft Terrestrial Landscape/habitat improvement \",1,IF(C49=\"30 to <60 ft Terrestrial Landscape/ habitat improvement\",2,IF(C49=\">60 ft Terrestrial Landscape/ habitat improvement\",3,0)))","v":0}]
["Filtering Devices (filters, sleeves, socks, or filtration units containing activated carbon or compost amendments)","Hyperlink","make selection",{"$f":"IF(C50=\"Containing Activated Carbon\",3,IF(C50=\"Containing Compost\",1,0))","v":0}]
[]
["Other Mitigation Measures"]
["Category","Hyperlink to EPA Description","Response based on selections above","Number of points"]
["Using mitigation measures from multiple categories (practices from at least two of the following categories: in-field, field-adjacent, or systems that capture runoff and discharge)","Hyperlink",{"$f":"IF(OR(AND('Runoff Field ID-1'!F57=\"yes\",'Runoff Field ID-1'!F58=\"yes\"),AND('Runoff Field ID-1'!F57=\"yes\",'Runoff Field ID-1'!F59=\"yes\"),AND('Runoff Field ID-1'!F58=\"yes\",'Runoff Field ID-1'!F59=\"yes\")),\"yes\",\"no\")","v":"no"},{"$f":"IF(C54=\"No\",0,1)","v":0}]
[]
["Resulting Mitigation Points for the Field will be Provided in Green Cells"]
["Does field/management unit need runoff/erosion mitigation?",null,null,{"$f":"IF(OR(D58>=9,,D13=\"No Additional Runoff/Erosion Mitigation Needed\",D9=\"No Additional Runoff/Erosion Mitigation Needed\"),\"No Additional Runoff/Erosion Mitigation Needed - Field/Management Unit Meets Runoff/Erosion Mitigation Requirements\",\"Compare Total Field/Management Unit Points (Green Cell below) to Label Required Points\")","v":"Compare Total Field/Management Unit Points (Green Cell below) to Label Required Points"},null,{"$f":"IF(SUM(COUNTIF($D31:$D40,\">=1\"))>=1,\"yes\",\"no\")","v":"no"}]
["Total mitigation points for field/management unit",null,null,{"$f":"SUM(D54,D44:D50,D31:D40,D26:D27,D9,D13,D21:D22,D17)","v":0},null,{"$f":"IF(SUM(COUNTIF($D44:$D50,\">=1\"))>=1,\"yes\",\"no\")","v":"no"}]
[null,null,null,null,null,{"$f":"IF($D13>=1,\"yes\",\"no\")","v":"no"}]
["Application Parameters"]
["Category","Hyperlink to EPA Description","Enter or Select Value","Number of points"]
["Is the planned application a: soil injection; tree injection; chemigation applied subsurface or under impermeable plastic mulch; spot treatment (<1,000 square feet being treated); treatment of the farm/field less than 1/10th of an acre?","Hyperlink","make selection",{"$f":"IF(C62=\"yes\",\"No Additional Runoff/Erosion Mitigation Needed\",0)","v":0}]
["Enter Maximum Labeled Annual Application Rate for the Active Ingredient and Planned Use (keep units of application the same; e.g., oz product/A; maximum annual applcation rate could be different for the active ingredients in each product, use the highest annual application rate for each active ingredient across all products planned for application)","Hyperlink","Enter information from product label(s)"]
["Enter Planned Annual Application Rate for all Applications of this Active Ingredient (keep units of application the same; e.g., oz product/A; annuall application rate = the total amount of active ingredient applied to this field)","Hyperlink","Enter planned application information",{"$f":"IF(OR(C63=\"\",C64=\"\"),\"Provide Application Rate in cells B63 and B64\",IF(C63>C64,\"Maintain an efficacious rate, see product label\",IF(C64>C63,\"Do not apply more than labeled maximum annual application rate for the active ingredients\",\"\")))","v":"Do not apply more than labeled maximum annual application rate for the active ingredients"}]
["Calculated percent reduction based on information provided in cells B63 and B64",null,{"$f":"IFERROR(IF(OR(C63=\"\",C64=\"\"),\"Enter annual application rates in cells B63 and B64\",IF(C64>C63,\"Do not apply more than labeled maximum annual application rate for the active ingredients\",(1-(C64/C63)))),\"Enter annual application rates in cells B63 and B64\")","v":"Do not apply more than labeled maximum annual application rate for the active ingredients"},{"$f":"IF(OR(C63=\"Enter information from product label(s)\",C63=\"\",C64=\"Enter planned application information\",C64=\"\"),0,IF(AND(C65>=0.1,C65<0.3),1,IF(AND(C65>=0.3,C65<0.6),2,IF(C65>=0.6,3,0))))","v":0}]
["Reduction in the proportion of field treated (enter % field area treated using banded application, partial field treatment, ground precision sprayer, smart sprayer, or other specialized method)","Hyperlink",0,{"$f":"IF(AND(C66>0,C66<=0.3),4,IF(AND(C66>0.3,C66<=0.6),3,IF(AND(C66<=0.9, C66>0.6),2,0)))","v":0}]
["Soil incorporation (watering-in or mechanical incorporation before a runoff producing event; a runoff producing event is considered as follows:  \n- A 50% or greater chance of rainfall of 1 inch or more is expected to occur within 48 hours of the application as predicted by the NOAA/National Weather Service, AND  \n- The precipitation potential is 50% or greater at any point during the 48-hr period)","Hyperlink","make selection",{"$f":"IF(C67=\"yes\", 1,0)","v":0}]
["Resulting Mitigation Points for the Field and Application Parameters will be Provided in Blue Cells"]
["Does field/management unit need runoff/erosion mitigation?",null,null,{"$f":"IF(OR(D57=\"No Additional Runoff/Erosion Mitigation Needed - Field/Management Unit Meets Runoff/Erosion Mitigation Requirements\",D70>=9,D62=\"No Additional Runoff/Erosion Mitigation Needed\"),\"No Additional Runoff/Erosion Mitigation Needed - Field/Management Unit Meets Runoff/Erosion Mitigation Requirements\",\"Compare Total Points (Blue Cell below) for the Field/management Unit and Applicaiton Parameters to Label Required Points\")","v":"Compare Total Points (Blue Cell below) for the Field/management Unit and Applicaiton Parameters to Label Required Points"}]
["Total mitigation points for product or chemical and field/management unit mitigation points",null,null,{"$f":"SUM(D62:D67,D58)","v":0}]

{"sheet":"Drift Field ID- 1","index":2,"n_rows":43,"n_cols":9,"rows_kept":43,"cut":false,"hidden":false,"merged":[[8,0,8,3],[1,0,1,3],[0,0,0,6],[42,3,42,4],[33,3,33,4],[22,3,22,4],[12,0,12,6],[9,0,9,3],[10,0,10,3],[7,0,7,6],[37,2,42,2],[13,2,21,2],[25,2,33,2],[36,0,36,6]]}
["EPA provides this calculator for informational purposes to assist the user in determining whether the necessary level of mitigation has been met before applying a pesticide product.  This calculator may also be used with maximum aerial and ground ecological spray buffer distances to better understand field specific spay ecological drift mitigation needs for many products. Certain mitigation may be required through labeling that directs users to access the mitigation menu website and achieve a certain ecological spray drift buffer distance. The calculator may also be used as a mitigation tracker.\n\nIn the worksheet below:\n- select from the drop down box or enter value in all cells highlighted in orange (note: a drop down box will show when the user clicks on the relevant cell). Results for the adjusted spray drift buffers are provided in green shaded cells\n- click on the Mitigation Measure Title (bolded) to go directly to the mitigation measure description on EPA's Mitigation Menu Website. \n- to duplicate this worksheet for an additional field(s)/management unit(s) use the button \"Create New Worksheet for another Field/Management Unit\"\n- to clear all user inputs on this worksheet use the button \"Clear all user inputs\"."]
["General Field/Management Unit Information (Optional Section)"]
["Name"]
["Date"]
["Field/Management Unit Identification"]
[]
[]
[]
["Conditions Not Requiring Ecological Spray Drift Buffers. \nNote: Spray buffers may be required for other reasons (e.g., protection of human health).",null,null,null,"Hyperlink to EPA Description","Select Value","Reduction in Spray Buffer"]
["Do the planned application conditions fit any of these descriptions:\n-\tChemigation methods, including: micro-sprinklers, drip-tape, drip emitters, subsurface or flood, and under non-permeable plastic surfaces\n-\tIn-furrow sprays when nozzle height is <8 inches above soil surface;\n-\tTree trunk drench, tree trunk paint, tree injection;\n-\tSoil injection;\n-\tSolid formulations that are used as a solid; and\n-\tLess than 1/10 acre (<4356 square feet) treated and Spot treatment: <1000 square feet treated (e.g., when applied with backpack or hand held sprayers). ",null,null,null,"Hyperlink","make selection",{"$f":"IF(F10=\"yes\",\"No Ecological Spray Drift Buffer is Needed\",\"See Spray Buffer Distance Requirements on Label\")","v":"See Spray Buffer Distance Requirements on Label"}]
["Are managed areas the only landscapes downwind for at least the length of the label required buffer?\nManaged areas are defined as:  \n• Agricultural fields, pastures, forage fields, and private rangelands, including untreated portions of the treated field; \n• Roads, paved or gravel surfaces, mowed grassy/fallowed areas adjacent to field, and areas of bare ground from recent plowing or grading that are contiguous with the treated area;  \n• Buildings and their perimeters, silos, or other man-made structures with walls and/or roof; \n• Areas present and/or maintained as a runoff/erosion measure as listed on EPA’s Mitigation Menu website. Examples include vegetative filter strips (VFS), field borders, grassed waterways, vegetated ditches, riparian areas, managed/constructed wetlands, or other areas of intentional habitat improvement; \n• Areas present and/or maintained as a drift buffer reduction measure as listed on EPA’s Mitigation Menu website. Examples include vegetative windbreaks, hedgerows, shelterbelts, riparian areas, private forests, woodlots, and shrublands; \n• Conservation Reserve Program (CRP) and Agricultural Conservation Easement Program (ACEP) lands (applicators may need to ensure that pesticide use does not cause degradation of the CRP habitat). \n• On-farm contained irrigation water resources that are not connected to adjacent water bodies, including on-farm irrigation canals and ditches, water conveyances, managed irrigation/runoff retention basins, farm ponds, and tailwater collection ponds.",null,null,null,"Hyperlink","make selection",{"$f":"IF(F11=\"yes\",\"No Ecological Spray Drift Buffer is Needed\",\"These areas may be included in the spray buffer distance\")","v":"These areas may be included in the spray buffer distance"}]
[]
["Ground Boom Application Ecological Spray Buffer Mitigation"]
["Product Specific Application Information","Select or Enter Value",null,"Ground Application Ecological Drift Buffer Reduction Options","Select or Enter Value","Percent Reduction in Ecological Spray Buffer Distance","Hyperlink to EPA Description"]
["Enter Ecological Spray Drift Buffer Distance from Product Label or Bulletins Live!Two (ft) as Applicable","Enter information from product label",null,"Reduced Single Application Rate (automatically calculated based on product entry information in cells B16, B17, B20 and B21)",{"$f":"IFERROR(1-(B21/B20),\"\")","v":""},{"$f":"IFERROR(IF(OR(B20=\"\",B21=\"\"),\"Provide application rates in cells B20 and B21\",E15*100),\"Provide application rate entry in cells B20 and B21\")","v":"Provide application rate entry in cells B20 and B21"},"Hyperlink"]
["Select Minimum Spray Droplet Size Indicated on Product Label","Enter information from product label",null,"Select the width of the application area or number of acres to be applied ","make selection",{"$f":"IF(E16=\"Less than 1/10 acre treated\",\"No Ecological Spray Mitigation is Needed\",IF(E16=\"Width of treated area <80ft (i.e., field border application) or application area less than 1 acre\",75,IF(E16=\"Width of treated area 80ft up to 200ft or area treated 1 acre up to 4 acres \",35,IF(E16=\"Width of treated area larger than 200ft up to 400 ft or area treated larger than 4 acres up to 10 acres \",15,0))))","v":0},"Hyperlink"]
["Select Spray Droplet Size for Planned Application","Enter planned application information",null,"Low Boom Application (24 inches or less above ground or crop canopy; applicable only for fine droplets)","make selection",{"$f":"IFERROR(IF(OR(B19=\"Enter information from product label\",B19=\"\",B19=\"Consider this later\"),\"Provide boom height in cell B19\",IF(E17=\"no\",0,IF(B19=\"Low Boom\",\"Check boom height entry in cell B19, this buffer reduction is only applicable for changing High Boom to Low Boom\",IF(B18<>\"\",\"Check Droplet Size Selection in cells B16 and B17\",IF(AND(B17=\"Fine\",E17=\"Yes\"),50,IF(AND(B17<>\"Fine\",E17=\"Yes\"),\"Only applicable for Fine droplets, check droplet entry in cell B17\",0)))))),\"Check values entered in cells B17, B20, and B21\")","v":"Provide boom height in cell B19"},"Hyperlink"]
[null,{"$f":"IF(OR(OR(B17=\"\",B17=\"Enter planned application information\"),OR(B16=\"Enter information from product label\",B16=\"\")),\"Select droplet size from dropdowns in B16 and B17\",IF((VLOOKUP(B17,'(locked calculator functions)'!$E19:$F25,2,FALSE))>=(VLOOKUP(B16,'(locked calculator functions)'!$E19:$F25,2,FALSE)),\"\",\"Only Apply Required Droplet Size on Label or Larger\"))","v":"Select droplet size from dropdowns in B16 and B17"},null,"Droplet Size Reduction (automatically calculated based on product entry information in cells B16 and B17)",{"$f":"IF(OR(B17=\"Consider this later\",B16=\"Consider this later\"),\"Only Apply Required Droplet Size on Label or Larger\",IF(AND(B16=\"Medium\",OR(B17=\"Coarse\",B17=\"Very Coarse or coarser\")),\"Maximum Buffer identified, Coarse or coarser droplet buffer is 15ft and is used in calculation in cell F34\",IF(AND(B16=\"Fine\",B17=\"Medium\"),\"75%\",IF(AND(B16=\"Fine\",OR(B17=\"Coarse\",B17=\"Very Coarse or coarser\")),\"85%\",\"Only applicable if product label allows medium or finer droplets, and intended application droplet is coarser than the label\"))))","v":"Only applicable if product label allows medium or finer droplets, and intended application droplet is coarser than the label"},{"$f":"IF(OR(B17=\"Consider this later\",B16=\"Consider this later\"),\"Only Apply Required Droplet Size on Label or Larger\",IF(AND(B16=\"Medium\",OR(B17=\"Coarse\",B17=\"Very Coarse or coarser\")),\"Maximum Buffer identified, Coarse or coarser droplet buffer is 15ft and is used in calculation in cell F34\",IF(AND(B16=\"Fine\",B17=\"Medium\"),75,IF(AND(B16=\"Fine\",OR(B17=\"Coarse\",B17=\"Very Coarse or coarser\")),85,\"Only applicable if product label allows medium or finer droplets, and intended application droplet is coarser than the label\"))))","v":"Only applicable if product label allows medium or finer droplets, and intended application droplet is coarser than the label"},"Hyperlink",{"$f":"IF(AND(B15=25,B16=\"Medium\"),\"yes\",\"\")","v":""},{"$f":"IF(AND(H18=\"yes\",OR(B17=\"Coarse\",B17=\"Very Coarse or coarser\")),15,B15)","v":"Enter information from product label"}]
["For  Ground Sprays Select Required Boom Height Stated on the Label (Select High Boom (greater than 24 inches above ground or crop canopy) or Low Boom (24 inches or less above ground or crop canopy)","Enter information from product label",null,"For Herbicide Application ONLY \nUse of Drift Reducing Agents (select droplet size)","make selection",{"$f":"IF(OR(E19=\"make selection\",E19=\"\"),0,IF(OR(B17=\"Enter information from product lable\",B17=\"\"),\"Check Droplet Size Selection in Cell B17\",IF(AND(E19=\"yes\",B17=\"Medium\"),30,IF(AND(E19=\"yes\",OR(B17=\"Coarse\",B16=\"Very Coarse or coarser\")),15,0))))","v":0},"Hyperlink"]
["Enter Required Maximum Labeled Application Rate for Planned Use (keep units of application the same; e.g., oz product/A)","Enter information from product label",null,"Hooded Sprayers, Layby Nozzles, Drop Nozzles","make selection",{"$f":"IF(E20=\"make selection\",0,IF(OR(E20=\"\",E20=\"Not Applicable\"),0,IF(OR(E20=\"Over-the-top Hooded Sprayer\",E20=\"Sprays below crop using drop nozzles\",E20=\"Sprays below crop using layby nozzles\"), 50,75)))","v":0},"Hyperlink"]
["Enter Planned Application Rate for this Application (keep units of application the same; e.g., oz product/A)","Enter planned application information",null,"Select Applicable Downwind windbreak/hedgerow/ riparian/forest/ woodlots/shrubland","make selection",{"$f":"IF(OR(E21=\"make selection\",E21=\"Not applicable\",E21=\"\"),0,IF(E21=\"basic windbreak/hedgerow/artificial screen\",50,IF(E21=\"advanced windbreak/hedgerow/artificial screen\",75,IF(E21=\"riparian/forests/woodlots/shrubland of > 60 ft width\",100))))","v":0},"Hyperlink"]
[null,{"$f":"IF(OR(B20=\"\",B21=\"\"),\"Provide Application Rate in cells B20 and B21\",IF(B20>B21,\"Maintain an efficacious rate, see product label\",IF(B20<B21,\"Do not apply at a rate higher than the maximum single application rate on the product label\",\"\")))","v":"Do not apply at a rate higher than the maximum single application rate on the product label"},null,"Relative humidity is 60% or more at time of application? (select \"yes\" or \"no\")","make selection",{"$f":"IF(OR(E22=\"Not applicable\",E22=\"make selection\",E22=\"\"),0,IF(E22=\"yes\",10,0))","v":0},"Hyperlink"]
[null,null,null,"Adjusted Ground Spray Drift Buffer (ft)",null,{"$f":"IFERROR(IF(OR(G10=\"No Ecological Spray Drift Buffer is Needed\",G11=\"No Ecological Spray Drift Buffer is Needed\",F15=\"No Ecological Spray Drift Buffer is Needed\",F16=\"No Ecological Spray Drift Buffer is Needed\",),\"No Ecological Spray Drift Buffer is Needed\",IF(((((1-(SUM(F$15:F$22)/100))*I18))<10),\"No Ecological Spray Drift Buffer is Needed\",(MROUND(((1-(SUM(F$15:F$22)/100))*I18),5)))),\"Enter product label information in cells B15, B16, B19 and B20\")","v":"Enter product label information in cells B15, B16, B19 and B20"}]
[]
["Aerial Application Ecological Spray Buffer Mitigation"]
["Product Specific Application Information","Select or Enter Value",null,"Aerial Application Ecological Drift Buffer Reduction Options","Select or Enter Value","Percent Reduction in Ecological Spray Buffer Distance","Hyperlink to EPA Description"]
["Enter Ecological Spray Drift Buffer Distance from Product Label or Bulletins Live!Two (ft) as Applicable","Enter information from product label",null,"Reduced Single Application Rate (automatically calculated based on product entry information in cells B31 and B32)",{"$f":"IFERROR(1-(B32/B31),\"\")","v":""},{"$f":"IF(E27=\"\",\"Check application rate entry in cells B31 and B32\",E27*100)","v":"Check application rate entry in cells B31 and B32"},"Hyperlink"]
["Select Minimum Spray Droplet Size Indicated on Product Label","Enter information from product label",null,"Reduced Buffer For Larger Droplet Size Applied (automatically calculated based on product entry information in Cells B28 and B29)",{"$f":"IF(B30<>\"\",\"Check Droplet Size Selection in Cells B28 and B29\",IF(AND(B28=\"Fine\",H28=\"yes\",B29=\"Medium\"),\"Maximum Buffer identified, medium droplet buffer is 300ft and is used in calculation in cell F34\",IF(AND(B28=\"Fine\",H28=\"yes\",B29=\"Coarse\"),\"Maximum Buffer identified, coarse droplet buffer is 170ft and is used in calculation in cell F34\",IF(AND(B28=\"Fine\",H28=\"yes\",B29=\"Very Coarse or coarser\"),\"Maximum Buffer identified, Very Coarse or coarser droplet buffer is 110ft and is used in calculation in cell F34\",IF(AND(B28=\"Fine\",H28=\"\",B29=\"Medium\"),\"25%\",IF(AND(B28=\"Fine\",H28=\"\",B29=\"Coarse\"),\"55%\",IF(AND(B28=\"Fine\",H28=\"\",B29=\"Very Coarse or coarser\"),\"70%\",IF(AND(B28=\"Medium\",H28=\"yes\",B29=\"Coarse\"),\"Maximum Buffer identified, coarse droplet buffer is 170ft and is used in calculation in cell F34\",IF(AND(B28=\"Medium\",H28=\"yes\",B29=\"Very Coarse or coarser\"),\"Maximum Buffer identified, Very Coarse or coarser droplet buffer is 110ft and is used in calculation in cell F34\",IF(AND(B28=\"Coarse\",H28=\"yes\",B29=\"Very Coarse or coarser\"),\"Maximum Buffer identified, Very Coarse or coarser droplet buffer is 110ft and is used in calculation in cell F34\",IF(AND(B28=\"Medium\",H28=\"\",B29=\"Coarse\"),\"40%\",IF(AND(B28=\"Medium\",H28=\"\",B29=\"Very Coarse or coarser\"),\"60%\",IF(AND(B28=\"Coarse\",H28=\"\",B29=\"Very Coarse or coarser\"),\"20%\",\"Droplet Size Selected To Be Applied Does Not Reduce Buffer\")))))))))))))","v":"Check Droplet Size Selection in Cells B28 and B29"},{"$f":"IF(H28=\"yes\",\"Maximum Buffer identified Droplet Specific Maximum Buffer Used in cell F34\",IF(AND(B28=\"Fine\",H28=\"\",B29=\"Medium\"),25,IF(AND(B28=\"Fine\",H28=\"\",B29=\"Coarse\"),55,IF(AND(B28=\"Fine\",H28=\"\",B29=\"Very Coarse or coarser\"),70,IF(AND(B28=\"Medium\",H28=\"\",B29=\"Coarse\"),40,IF(AND(B28=\"Medium\",H28=\"\",B29=\"Very Coarse or coarser\"),60,IF(AND(B28=\"Coarse\",H28=\"\",B29=\"Very Coarse or coarser\"),20,\"Droplet Size Selected To Be Applied Does Not Reduce Buffer\")))))))","v":"Droplet Size Selected To Be Applied Does Not Reduce Buffer"},"Hyperlink",{"$f":"IF(OR(AND(B27=400,B28=\"Fine\"),AND(B27=300,B28=\"Medium\"),AND(B27=170,B28=\"Coarse\"),AND(B27=110,B28=\"Very coarse or coarser\")),\"yes\",\"\")","v":""},{"$f":"IF(AND(H28=\"yes\",B29=\"Medium\"),300,IF(AND(H28=\"yes\",B29=\"Coarse\"),170,IF(AND(H28=\"yes\",B29=\"Very Coarse or coarser\"),110,B27)))","v":"Enter information from product label"}]
["Select Spray Droplet Size for Planned Application","Enter planned application information",null,"Select the width of the application area or number of acres to be applied ","make selection",{"$f":"IF(E29='(locked calculator functions)'!A21,55,IF('Drift Field ID- 1'!E29='(locked calculator functions)'!A22,20,IF('Drift Field ID- 1'!E29='(locked calculator functions)'!A23,10,0)))","v":0},"Hyperlink"]
[null,{"$f":"IF(AND(B27=400,B28=\"Fine\",OR(B29=\"\",B29=\"Enter planned application information\",B29=\"Fine\")),\"50% reduced boom length required\",IF(OR(OR(B29=\"\",B29=\"Enter information from product label\"),OR(B28=\"Enter information from product label\",B28=\"\")),\"Select droplet size from dropdowns in B28 and B29\",IF(VLOOKUP(B29,'(locked calculator functions)'!$E19:$F25,2,FALSE)>=VLOOKUP(B28,'(locked calculator functions)'!$E19:$F25,2,FALSE),\"\",\"Only Apply Required Droplet Size on Label or Larger\")))","v":"Select droplet size from dropdowns in B28 and B29"},null,"For Herbicide Application ONLY \nUse of Drift Reducing Agents (select droplet size)","make selection",{"$f":"IF(OR(E30=\"make selection\",E30=\"Not applicable\",E30=\"\"),0,IF(B30<>\"\",\"Check Droplet Size Selection in Cells B28 and B29\",IF(AND(E30=\"yes\",B29=\"Medium\"),30,IF(AND(E30=\"yes\",OR(B29=\"Coarse\",B29=\"Very Coarse or coarser\")),15,0))))","v":0},"Hyperlink"]
["Enter Required Maximum Labeled Application Rate for Planned Use (keep units of application the same; e.g., oz product/A)","Enter information from product label",null,"50% reduced boom length during application (select windspeed at time of application)","make selection",{"$f":"IF(AND(OR(B29=\"\",B29=\"Enter planed application information\",B30=\"50% reduced boom length required\"),OR(E31=\"Standard Boom Length of 75% at <10 mph\",E31=\"\",E31=\"make selection\")),\"50% reduced boom length required\",IF(OR(E31=\"Standard Boom Length of 75% at <10 mph\",E31=\"\",E31=\"make selection\"),0,IF(AND(B30=\"50% reduced boom length required\",OR(E31=\"Reduced Boom Length 50% and Windspeed <10 mph at time of application\",E31=\"Reduced Boom Length 50% and Windspeed 10 to 15 mph at time of application\")),\"No reduction for application conditions, check droplet size and buffer distances entered in cells B27, B28 and B29\",IF(E31=\"Reduced Boom Length 50% and Windspeed 10 to 15 mph at time of application\",50,65))))","v":0},"Hyperlink"]
["Enter Planned Application Rate for this Application (keep units of application the same; e.g., oz product/A)","Enter planned application information",null,"Select Applicable Downwind windbreak/hedgerow/ riparian/forest/ woodlots/shrubland","make selection",{"$f":"IF(OR(E32=\"make selection\",E32=\"Not applicable\",E32=\"\"),0,IF(E32=\"basic windbreak/hedgerow/artificial screen\",50,IF(E32=\"advanced windbreak/hedgerow/artificial screen\",75,IF(E32=\"riparian/forests/woodlots/shrubland of > 60 ft width\",100))))","v":0},"Hyperlink"]
[null,{"$f":"IF(OR(B31=\"\",B32=\"\"),\"Provide Application Rate in cells B31 and B32\",IF(B31>B32,\"Maintain an efficacious rate, see product label\",IF(B31<B32,\"Do not apply at a rate higher than the maximum single application rate on the product label\",\"\")))","v":"Do not apply at a rate higher than the maximum single application rate on the product label"},null,"Relative humidity is 60% or more at time of application? (select \"yes\" or \"no\")","make selection",{"$f":"IF(OR(E33=\"Not applicable\",E33=\"make selection\",E33=\"\"),0,IF(E33=\"yes\",10,0))","v":0},"Hyperlink"]
[null,null,null,"Adjusted Aerial Spray Drift Buffer (ft)",null,{"$f":"IFERROR(IF(OR(G10=\"No Ecological Spray Drift Buffer is Needed\",G11=\"No Ecological Spray Drift Buffer is Needed\"),\"No Ecological Spray Drift Buffer is Needed\",IF(OR(B27=\"\",B27=\"Enter information from product label\"),\"Enter product label information in cell B27\",IF((SUM(F27:F33)/100)>=100,\"No Ecological Spray Drift Buffer Needed\",IF((MROUND((1-(SUM(F27:F33)/100))*I28,5)<10),\"No Ecological Spray Drift Buffer Needed\",(MROUND((1-(SUM(F27:F33)/100))*I28,5)))))),\"Enter product label information in cells B27, B28, and B29\")","v":"Enter product label information in cell B27"},null,{"$f":"IF(AND(OR(AND(B27=400,B28=\"Fine\"),AND(B27=\"300\",B28=\"Medium\"),AND(B27=170,B28=\"Coarse\"),AND(B27=110,B28=\"Very Coarse or coarser\")),B29<>B28),IF(B29=\"Medium\",300,IF(B29=\"Coarse\",170,IF(B29=\"Very Coarse or coarser\",110,B27))))","v":false}]
[]
[]
["Airblast Application Ecological Spray Buffer Mitigation"]
["Product Specific Application Information","Select or Enter Value",null,"Airblast Application Ecological Drift Buffer Reduction Options","Select Spray Equipment","Percent Reduction in Ecological Spray Buffer Distance","Hyperlink to EPA Description"]
["Enter Ecological Spray Drift Buffer Distance from Product Label or Bulletins Live!Two as Applicable (units are in feet)","Enter information from product label",null,"Reduced Single Application Rate (automatically calculated based on product entry information in cells B40 and B41)","Select spray equipment",{"$f":"IFERROR(IF(OR(B41=\"\",B40=\"\"),\"Provide application rate information in cells B40 and B41\",IF(E39=\"Select Spray Equipment\",\"Select Equipment from dropdown in cell E39\",IF(E39=\"Targeted Application Equipment - Pulse Width Modulated Nozzles with Canopy Sensing Equipment (turns nozzles off when canopy not present)\",(1-(B41/B40))*100,IF(E39=\"Typical Spray Equipment with deflectors\",(((1-(B41/B40))/2*100)+10),IF(E39=\"Typical Spray Equipment\",(1-(B41/B40))/2*100,0))))),\"Enter product label information in cells B39 and B40\")","v":"Select Equipment from dropdown in cell E39"},"Hyperlink"]
["Enter Required Maximum Labeled Application Rate for Planned Use (keep units of application the same; e.g., oz product/A)","Enter information from product label",null,"Number of Rows Upwind Treated (Select from dropdown in cell E40)","Select number of rows treated",{"$f":"IF(E40=\"1 row treated\",70,IF(E40=\"2 to 4 rows treated\",30,IF(E40=\"5 to 10 rows treated\",15,0)))","v":0},"Hyperlink"]
["Enter Planned Application Rate for this Application (keep units of application the same; e.g., oz product/A)","Enter planned application information",null,"Skipping the last downwind row?","make selection",{"$f":"IF(E41=\"yes\",50,0)","v":0},"Hyperlink"]
[null,{"$f":"IF(OR(B40=\"\",B41=\"\"),\"Provide Application Rate in cells B40 and B41\",IF(B40>B41,\"Maintain an efficacious rate, see product label\",IF(B40<B41,\"Do not apply at a rate higher than the maximum single application rate on the product label\",\"\")))","v":"Do not apply at a rate higher than the maximum single application rate on the product label"},null,"Select Applicable Downwind windbreak/hedgerow/ riparian/forest/ woodlots/shrubland","make selection",{"$f":"IF(OR(E42=\"make selection\",E42=\"Not applicable\",E42=\"\"),0,IF(E42=\"basic windbreak/hedgerow/artificial screen\",50,IF(E42=\"advanced windbreak/hedgerow/artificial screen\",75,IF(E42=\"riparian/forests/woodlots/shrubland of > 60 ft width\",100))))","v":0},"Hyperlink"]
[null,null,null,"Adjusted Airblast Spray Drift Buffer (ft)",null,{"$f":"IFERROR(IF(OR(G10=\"No Ecological Spray Drift Buffer is Needed\",G11=\"No Ecological Spray Drift Buffer is Needed\"),\"No Ecological Spray Drift Buffer Needed\",IF(B39=\"\",\"If making airblast application enter label information in cell B39\",IF(E39=\"Select Spray Equipment\",\"Select Equipment from dropdown in cell E39\",IF((SUM(F39:F42)>=100),\"No Ecological Spray Drift Buffer Needed\",IF((MROUND((1-(SUM(F39:F42)/100))*B39,5)<10),\"No Ecological Spray Drift Buffer Needed\",MROUND((1-(SUM(F39:F42)/100))*B39,5)))))),\"Enter product label information in cells B39 and B40\")","v":"Select Equipment from dropdown in cell E39"}]

{"sheet":"(locked calculator functions)","index":3,"n_rows":3110,"n_cols":67,"rows_kept":3110,"cut":false,"hidden":true,"merged":[]}
["Worksheet contains lookup tables for dropdown menus in the calculator.  Do not modify.",null,null,null,null,null,null,null,null,null,null,null,null,"State","County","Column1","Credit",null,"Alabama","Arizona","Arkansas","California","Colorado","Connecticut","Delaware","District_of_Columbia","Florida","Georgia","Idaho","Illinois","Indiana","Iowa","Kansas","Kentucky","Louisiana","Maine","Maryland","Massachusetts","Michigan","Minnesota","Mississippi","Missouri","Montana","Nebraska","Nevada","New_Hampshire","New_Jersey","New_Mexico","New_York","North_Carolina","North_Dakota","Ohio","Oklahoma","Oregon","Pennsylvania","Rhode_Island","South_Carolina","South_Dakota","Tennessee","Texas","Utah","Vermont","Virginia","Washington","West_Virginia","Wisconsin","Wyoming"]
[null,"Terrestrial habitat improvement","Adjacent to field carbon amendments","Water Control Systems","Riparian area","Vegetative buffer strip","Irrigation","Reduced Tillage","Cover Crop","Working with a specialist or conservation program","make selection","mulching",null,"Alabama","Autauga County",{"$f":"CONCATENATE(tLists4[[#This Row],[State]],\", \",tLists4[[#This Row],[County]])","v":"Alabama, Autauga County"},2,null,"Autauga County","Apache County","Arkansas County","Alameda County","Adams County","Capitol Planning Region","Kent County","District of Columbia","Alachua County","Appling County","Ada County","Adams County","Adams County","Adair County","Allen County","Adair County","Acadia Parish","Androscoggin County","Allegany County","Barnstable County","Alcona County","Aitkin County","Adams County","Adair County","Beaverhead County","Adams County","Carson City","Belknap County","Atlantic County","Bernalillo County","Albany County","Alamance County","Adams County","Adams County","Adair County","Baker County","Adams County","Bristol County","Abbeville County","Aurora County","Anderson County","Anderson County","Beaver County","Addison County","Accomack County","Adams County","Barbour County","Adams County","Albany County"]
[null,"make selection","make selection","make selection","make selection","make selection","make selection","make selection","make selection",null,"yes","make selection",null,"Alabama","Baldwin County",{"$f":"CONCATENATE(tLists4[[#This Row],[State]],\", \",tLists4[[#This Row],[County]])","v":"Alabama, Baldwin County"},"Not Eligible for Credit",null,"Baldwin County","Cochise County","Ashley County","Alpine County","Alamosa County","Greater Bridgeport Planning Region","New Castle County",null,"Baker County","Atkinson County","Adams County","Alexander County","Allen County","Adams County","Anderson County","Allen County","Allen Parish","Aroostook County","Anne Arundel County","Berkshire County","Alger County","Anoka County","Alcorn County","Andrew County","Big Horn County","Antelope County","Churchill County","Carroll County","Bergen County","Catron County","Allegany County","Alexander County","Barnes County","Allen County","Alfalfa County","Benton County","Allegheny County","Kent County","Aiken County","Beadle County","Bedford County","Andrews County","Box Elder County","Bennington County","Albemarle County","Asotin County","Berkeley County","Ashland County","Big Horn County"]
[null,"not applicable","not applicable","not applicable","not applicable","not applicable","not applicable","not applicable","not applicable","make selection","no","not applicable",null,"Alabama","Barbour County",{"$f":"CONCATENATE(tLists4[[#This Row],[State]],\", \",tLists4[[#This Row],[County]])","v":"Alabama, Barbour County"},2,null,"Barbour County","Coconino County","Baxter County","Amador County","Arapahoe County","Lower Connecticut River Valley Planning Region","Sussex County",null,"Bay County","Bacon County","Bannock County","Bond County","Bartholomew County","Allamakee County","Atchison County","Anderson County","Ascension Parish","Cumberland County","Baltimore City","Bristol County","Allegan County","Becker County","Amite County","Atchison County","Blaine County","Arthur County","Clark County","Cheshire County","Burlington County","Chaves County","Bronx County","Alleghany County","Benson County","Ashland County","Atoka County","Clackamas County","Armstrong County","Newport County","Allendale County","Bennett County","Benton County","Angelina County","Cache County","Caledonia County","Alexandria City","Benton County","Boone County","Barron County","Campbell County"]
[null,"20 to <30 ft Terrestrial Landscape/habitat improvement ","Containing Activated Carbon","Irrigation Tailwater Return System","20 to <30 ft Riparian forest buffer, riparian herbaceous cover","20 to <30 ft Vegetative filter strip (VFS), field border","above ground drip tape","Mulch Tillage","long term cover crop no till","Not Applicable",null,"Mulching with artificial materials",null,"Alabama","Bibb County",{"$f":"CONCATENATE(tLists4[[#This Row],[State]],\", \",tLists4[[#This Row],[County]])","v":"Alabama, Bibb County"},2,null,"Bibb County","Gila County","Benton County","Butte County","Archuleta County","Naugatuck Valley Planning Region",null,null,"Bradford County","Baker County","Bear Lake County","Boone County","Benton County","Appanoose County","Barber County","Ballard County","Assumption Parish","Franklin County","Baltimore County","Dukes County","Alpena County","Beltrami County","Attala County","Audrain County","Broadwater County","Banner County","Douglas County","Coos County","Camden County","Cibola County","Broome County","Anson County","Billings County","Ashtabula County","Beaver County","Clatsop County","Beaver County","Providence County","Anderson County","Bon Homme County","Bledsoe County","Aransas County","Carbon County","Chittenden County","Alleghany County","Chelan County","Braxton County","Bayfield County","Carbon County"]
[null,"30 to <60 ft Terrestrial Landscape/ habitat improvement","Containing Compost","Perimeter Berm System","30 to <60 ft Riparian forest buffer, riparian herbaceous cover ","30 to <60 ft Vegetative filter strip (VFS), field border","below ground drip tape","No Till","short term cover crop no till","Working with a runoff/erosion specialist",null,"Mulching with natural materials",null,"Alabama","Blount County",{"$f":"CONCATENATE(tLists4[[#This Row],[State]],\", \",tLists4[[#This Row],[County]])","v":"Alabama, Blount County"},"Not Eligible for Credit",null,"Blount County","Graham County","Boone County","Calaveras County","Baca County","Northeastern Connecticut Planning Region",null,null,"Brevard County","Baldwin County","Benewah County","Brown County","Blackford County","Audubon County","Barton County","Barren County","Avoyelles Parish","Hancock County","Calvert County","Essex County","Antrim County","Benton County","Benton County","Barry County","Carbon County","Blaine County","Elko County","Grafton County","Cape May County","Colfax County","Cattaraugus County","Ashe County","Bottineau County","Athens County","Beckham County","Columbia County","Bedford County","Washington County","Bamberg County","Brookings County","Blount County","Archer County","Daggett County","Essex County","Amelia County","Clallam County","Brooke County","Brown County","Converse County"]
[null,">60 ft Terrestrial Landscape/ habitat improvement",null,"Water Retention Pond",">60 ft Riparian forest buffer, riparian herbaceous cover",">60 ft Vegetative filter strip (VFS), field border","below tarp irrigation","Perennial Crop","tillage used to terminate cover crop","Participating in a conservation program (2 points)",null,null,null,"Alabama","Bullock County",{"$f":"CONCATENATE(tLists4[[#This Row],[State]],\", \",tLists4[[#This Row],[County]])","v":"Alabama, Bullock County"},"Not Eligible for Credit",null,"Bullock County","Greenlee County","Bradley County","Colusa County","Bent County","Northwest Hills Planning Region",null,null,"Broward County","Banks County","Bingham County","Bureau County","Boone County","Benton County","Bourbon County","Bath County","Beauregard Parish","Kennebec County","Caroline County","Franklin County","Arenac County","Big Stone County","Bolivar County","Barton County","Carter County","Boone County","Esmeralda County","Hillsborough County","Cumberland County","Curry County","Cayuga County","Avery County","Bowman County","Auglaize County","Blaine County","Coos County","Berks County",null,"Barnwell County","Brown County","Bradley County","Armstrong County","Davis County","Franklin County","Amherst County","Clark County","Cabell County","Buffalo County","Crook County"]
[null,null,null,"Sediment Control Basin",null,null,"drip emitters","Reduced Tillage",null,"Participating in an EPA Qualified Conservation program (9+ points)",null,null,null,"Alabama","Butler County",{"$f":"CONCATENATE(tLists4[[#This Row],[State]],\", \",tLists4[[#This Row],[County]])","v":"Alabama, Butler County"},"Not Eligible for Credit",null,"Butler County","La Paz County","Calhoun County","Contra Costa County","Boulder County","South Central Connecticut Planning Region",null,null,"Calhoun County","Barrow County","Blaine County","Calhoun County","Brown County","Black Hawk County","Brown County","Bell County","Bienville Parish","Knox County","Carroll County","Hampden County","Baraga County","Blue Earth County","Calhoun County","Bates County","Cascade County","Box Butte County","Eureka County","Merrimack County","Essex County","De Baca County","Chautauqua County","Beaufort County","Burke County","Belmont County","Bryan County","Crook County","Blair County",null,"Beaufort County","Brule County","Campbell County","Atascosa County","Duchesne County","Grand Isle County","Appomattox County","Columbia County","Calhoun County","Burnett County","Fremont County"]
[null,null,null,"Subsurface or Tile Drainage with Controlled Outlet",null,null,"dry farming","Ridge Tillage",null,null,null,null,null,"Alabama","Calhoun County",{"$f":"CONCATENATE(tLists4[[#This Row],[State]],\", \",tLists4[[#This Row],[County]])","v":"Alabama, Calhoun County"},2,null,"Calhoun County","Maricopa County","Carroll County","Del Norte County","Broomfield County","Southeastern Connecticut Planning Region",null,null,"Charlotte County","Bartow County","Boise County","Carroll County","Carroll County","Boone County","Butler County","Boone County","Bossier Parish","Lincoln County","Cecil County","Hampshire County","Barry County","Brown County","Carroll County","Benton County","Chouteau County","Boyd County","Humboldt County","Rockingham County","Gloucester County","Doña Ana County","Chemung County","Bertie County","Burleigh County","Brown County","Caddo County","Curry County","Bradford County",null,"Berkeley County","Buffalo County","Cannon County","Austin County","Emery County","Lamoille County","Arlington County","Cowlitz County","Clay County","Calumet County","Goshen County"]
[null,null,null,"Subsurface or Tile Drainage without Controlled Outlet",null,null,"flood or furrow irrigation with computerized hole selection and/or surge valves","Strip Till",null,"Predominantly Sandy Soils",null,null,null,"Alabama","Chambers County",{"$f":"CONCATENATE(tLists4[[#This Row],[State]],\", \",tLists4[[#This Row],[County]])","v":"Alabama, Chambers County"},2,null,"Chambers County","Mohave County","Chicot County","El Dorado County","Chaffee County","Western Connecticut Planning Region",null,null,"Citrus County","Ben Hill County","Bonner County","Cass County","Cass County","Bremer County","Chase County","Bourbon County","Caddo Parish","Oxford County","Charles County","Middlesex County","Bay County","Carlton County","Chickasaw County","Bollinger County","Custer County","Brown County","Lander County","Strafford County","Hudson County","Eddy County","Chenango County","Bladen County","Cass County","Butler County","Canadian County","Deschutes County","Bucks County",null,"Calhoun County","Butte County","Carroll County","Bailey County","Garfield County","Orange County","Augusta County","Douglas County","Doddridge County","Chippewa County","Hot Springs County"]
[null,null,null,null,null,null,"micro-sprinklers",null,null,"make selection",null,null,null,"Alabama","Cherokee County",{"$f":"CONCATENATE(tLists4[[#This Row],[State]],\", \",tLists4[[#This Row],[County]])","v":"Alabama, Cherokee County"},2,null,"Cherokee County","Navajo County","Clark County","Fresno County","Cheyenne County",null,null,null,"Clay County","Berrien County","Bonneville County","Champaign County","Clark County","Buchanan County","Chautauqua County","Boyd County","Calcasieu Parish","Penobscot County","Dorchester County","Nantucket County","Benzie County","Carver County","Choctaw County","Boone County","Daniels County","Buffalo County","Lincoln County","Sullivan County","Hunterdon County","Grant County","Clinton County","Brunswick County","Cavalier County","Carroll County","Carter County","Douglas County","Butler County",null,"Charleston County","Campbell County","Carter County","Bandera County","Grand County","Orleans County","Bath County","Ferry County","Fayette County","Clark County","Johnson County"]
[null,null,null,null,null,null,"non-irrigated lands",null,null,"No",null,null,null,"Alabama","Chilton County",{"$f":"CONCATENATE(tLists4[[#This Row],[State]],\", \",tLists4[[#This Row],[County]])","v":"Alabama, Chilton County"},2,null,"Chilton County","Pima County","Clay County","Glenn County","Clear Creek County",null,null,null,"Collier County","Bibb County","Boundary County","Christian County","Clay County","Buena Vista County","Cherokee County","Boyle County","Caldwell Parish","Piscataquis County","Frederick County","Norfolk County","Berrien County","Cass County","Claiborne County","Buchanan County","Dawson County","Burt County","Lyon County",null,"Mercer County","Guadalupe County","Columbia County","Buncombe County","Dickey County","Champaign County","Cherokee County","Gilliam County","Cambria County",null,"Cherokee County","Charles Mix County","Cheatham County","Bastrop County","Iron County","Rutland County","Bedford County","Franklin County","Gilmer County","Columbia County","Laramie County"]
[null,null,null,null,null,null,"soil moisture sensors/evapotranspiration meters with center pivots & sprinklers",null,null,"Moderately sandy soils: Fields with 10-20% clay and 50-90% sand (HSG B type soils).",null,null,null,"Alabama","Choctaw County",{"$f":"CONCATENATE(tLists4[[#This Row],[State]],\", \",tLists4[[#This Row],[County]])","v":"Alabama, Choctaw County"},"Not Eligible for Credit",null,"Choctaw County","Pinal County","Cleburne County","Humboldt County","Conejos County",null,null,null,"Columbia County","Bleckley County","Butte County","Clark County","Clinton County","Butler County","Cheyenne County","Bracken County","Cameron Parish","Sagadahoc County","Garrett County","Plymouth County","Branch County","Chippewa County","Clarke County","Butler County","Deer Lodge County","Butler County","Mineral County",null,"Middlesex County","Harding County","Cortland County","Burke County","Divide County","Clark County","Choctaw County","Grant County","Cameron County",null,"Chester County","Clark County","Chester County","Baylor County","Juab County","Washington County","Bland County","Garfield County","Grant County","Crawford County","Lincoln County"]
[null,null,null,null,null,null,null,null,null,"Predominately sandy soils: Fields with ≤10% clay and ≥90% sand (HSG A type soils)",null,null,null,"Alabama","Clarke County",{"$f":"CONCATENATE(tLists4[[#This Row],[State]],\", \",tLists4[[#This Row],[County]])","v":"Alabama, Clarke County"},2,null,"Clarke County","Santa Cruz County","Cleveland County","Imperial County","Costilla County",null,null,null,"DeSoto County","Brantley County","Camas County","Clay County","Crawford County","Calhoun County","Clark County","Breathitt County","Catahoula Parish","Somerset County","Harford County","Suffolk County","Calhoun County","Chisago County","Clay County","Caldwell County","Fallon County","Cass County","Nye County",null,"Monmouth County","Hidalgo County","Delaware County","Cabarrus County","Dunn County","Clermont County","Cimarron County","Harney County","Carbon County",null,"Chesterfield County","Clay County","Claiborne County","Bee County","Kane County","Windham County","Botetourt County","Grant County","Greenbrier County","Dane County","Natrona County"]
[null,null,null,null,null,null,null,null,null,null,null,null,null,"Alabama","Clay County",{"$f":"CONCATENATE(tLists4[[#This Row],[State]],\", \",tLists4[[#This Row],[County]])","v":"Alabama, Clay County"},2,null,"Clay County","Yavapai County","Columbia County","Inyo County","Crowley County",null,null,null,"Dixie County","Brooks County","Canyon County","Clinton County","Daviess County","Carroll County","Clay County","Breckinridge County","Claiborne Parish","Waldo County","Howard County","Worcester County","Cass County","Clay County","Coahoma County","Callaway County","Fergus County","Cedar County","Pershing County",null,"Morris County","Lea County","Dutchess County","Caldwell County","Eddy County","Clinton County","Cleveland County","Hood River County","Centre County",null,"Clarendon County","Codington County","Clay County","Bell County","Millard County","Windsor County","Bristol City","Grays Harbor County","Hampshire County","Dodge County","Niobrara County"]
[null,null,null,null,null,null,null,null,null,null,null,null,null,"Alabama","Cleburne County",{"$f":"CONCATENATE(tLists4[[#This Row],[State]],\", \",tLists4[[#This Row],[County]])","v":"Alabama, Cleburne County"},"Not Eligible for Credit",null,"Cleburne County","Yuma County","Conway County","Kern County","Custer County",null,null,null,"Duval County","Bryan County","Caribou County","Coles County","Dearborn County","Cass County","Cloud County","Bullitt County","Concordia Parish","Washington County","Kent County",null,"Charlevoix County","Clearwater County","Copiah County","Camden County","Flathead County","Chase County","Storey County",null,"Ocean County","Lincoln County","Erie County","Camden County","Emmons County","Columbiana County","Coal County","Jackson County","Chester County",null,"Colleton County","Corson County","Cocke County","Bexar County","Morgan County",null,"Brunswick County","Island County","Hancock County","Door County","Park County"]
[null,null,null,"Hooded, layby, and drop nozzle spray methods",null,null,null,null,null,null,null,null,null,"Alabama","Coffee County",{"$f":"CONCATENATE(tLists4[[#This Row],[State]],\", \",tLists4[[#This Row],[County]])","v":"Alabama, Coffee County"},2,null,"Coffee County",null,"Craighead County","Kings County","Delta County",null,null,null,"Escambia County","Bulloch County","Cassia County","Cook County","Decatur County","Cedar County","Coffey County","Butler County","De Soto Parish","York County","Montgomery County",null,"Cheboygan County","Cook County","Covington County","Cape Girardeau County","Gallatin County","Cherry County","Washoe County",null,"Passaic County","Los Alamos County","Essex County","Carteret County","Foster County","Coshocton County","Comanche County","Jefferson County","Clarion County",null,"Darlington County","Custer County","Coffee County","Blanco County","Piute County",null,"Buchanan County","Jefferson County","Hardy County","Douglas County","Platte County"]
["Number of Passes Aerial","Windbreak","ground sprays",null,"Ground Spray Droplet Size on Label",null,"Ground Boom Height","Reduced Boom Length",null,null,null,null,null,"Alabama","Colbert County",{"$f":"CONCATENATE(tLists4[[#This Row],[State]],\", \",tLists4[[#This Row],[County]])","v":"Alabama, Colbert County"},2,null,"Colbert County",null,"Crawford County","Lake County","Denver County",null,null,null,"Flagler County","Burke County","Clark County","Crawford County","DeKalb County","Cerro Gordo County","Comanche County","Caldwell County","East Baton Rouge Parish",null,"Prince George's County",null,"Chippewa County","Cottonwood County","DeSoto County","Carroll County","Garfield County","Cheyenne County","White Pine County",null,"Salem County","Luna County","Franklin County","Caswell County","Golden Valley County","Crawford County","Cotton County","Josephine County","Clearfield County",null,"Dillon County","Davison County","Crockett County","Borden County","Rich County",null,"Buckingham County","King County","Harrison County","Dunn County","Sheridan County"]
["make selection","make selection","not applicable","make selection",null,null,"Low Boom","make selection",null,null,null,null,null,"Alabama","Conecuh County",{"$f":"CONCATENATE(tLists4[[#This Row],[State]],\", \",tLists4[[#This Row],[County]])","v":"Alabama, Conecuh County"},"Not Eligible for Credit",null,"Conecuh County",null,"Crittenden County","Lassen County","Dolores County",null,null,null,"Franklin County","Butts County","Clearwater County","Cumberland County","Delaware County","Cherokee County","Cowley County","Calloway County","East Carroll Parish",null,"Queen Anne's County",null,"Clare County","Crow Wing County","Forrest County","Carter County","Glacier County","Clay County",null,null,"Somerset County","McKinley County","Fulton County","Catawba County","Grand Forks County","Cuyahoga County","Craig County","Klamath County","Clinton County",null,"Dorchester County","Day County","Cumberland County","Bosque County","Salt Lake County",null,"Buena Vista City","Kitsap County","Jackson County","Eau Claire County","Sublette County"]
["not applicable","not applicable","High boom, coarse DSD","not applicable","Fine",0.5,"High Boom","Standard Boom Length of 75% at <10 mph",null,null,null,null,null,"Alabama","Coosa County",{"$f":"CONCATENATE(tLists4[[#This Row],[State]],\", \",tLists4[[#This Row],[County]])","v":"Alabama, Coosa County"},2,null,"Coosa County",null,"Cross County","Los Angeles County","Douglas County",null,null,null,"Gadsden County","Calhoun County","Custer County","De Witt County","Dubois County","Chickasaw County","Crawford County","Campbell County","East Feliciana Parish",null,"Somerset County",null,"Clinton County","Dakota County","Franklin County","Cass County","Golden Valley County","Colfax County",null,null,"Sussex County","Mora County","Genesee County","Chatham County","Grant County","Darke County","Creek County","Lake County","Columbia County",null,"Edgefield County","Deuel County","Davidson County","Bowie County","San Juan County",null,"Campbell County","Kittitas County","Jefferson County","Florence County","Sweetwater County"]
["1 flight pass or less than 1.5 acres","basic windbreak/hedgerow/artificial screen","High boom, coarse DSD, with drift reducing adjuvant","Over-the-top Hooded Sprayer","Medium",1,"Consider this later","Reduced Boom Length 50% and Windspeed <10 mph at time of application",null,null,null,null,null,"Alabama","Covington County",{"$f":"CONCATENATE(tLists4[[#This Row],[State]],\", \",tLists4[[#This Row],[County]])","v":"Alabama, Covington County"},2,null,"Covington County",null,"Dallas County","Madera County","Eagle County",null,null,null,"Gilchrist County","Camden County","Elmore County","DeKalb County","Elkhart County","Clarke County","Decatur County","Carlisle County","Evangeline Parish",null,"St. Mary's County",null,"Crawford County","Dodge County","George County","Cedar County","Granite County","Cuming County",null,null,"Union County","Otero County","Greene County","Cherokee County","Griggs County","Defiance County","Custer County","Lane County","Crawford County",null,"Fairfield County","Dewey County","Decatur County","Brazoria County","Sanpete County",null,"Caroline County","Klickitat County","Kanawha County","Fond du Lac County","Teton County"]
["2-4 flight passes or 1.5 to less than 6 acres","advanced windbreak/hedgerow/artificial screen","High boom, medium DSD","Row-middle Hooded Sprayer","Coarse",2,null,"Reduced Boom Length 50% and Windspeed 10 to 15 mph at time of application",null,null,null,null,null,"Alabama","Crenshaw County",{"$f":"CONCATENATE(tLists4[[#This Row],[State]],\", \",tLists4[[#This Row],[County]])","v":"Alabama, Crenshaw County"},2,null,"Crenshaw County",null,"Desha County","Marin County","El Paso County",null,null,null,"Glades County","Candler County","Franklin County","Douglas County","Fayette County","Clay County","Dickinson County","Carroll County","Franklin Parish",null,"Talbot County",null,"Delta County","Douglas County","Greene County","Chariton County","Hill County","Custer County",null,null,"Warren County","Quay County","Hamilton County","Chowan County","Hettinger County","Delaware County","Delaware County","Lincoln County","Cumberland County",null,"Florence County","Douglas County","DeKalb County","Brazos County","Sevier County",null,"Carroll County","Lewis County","Lewis County","Forest County","Uinta County"]
["5-8 flight passes or 6 to less than 12 acres","riparian/forests/woodlots/shrubland of > 60 ft width","High boom, medium DSD, with drift reducing adjuvant","Sprays below crop using drop nozzles","Very Coarse or coarser",3,null,null,null,null,null,null,null,"Alabama","Cullman County",{"$f":"CONCATENATE(tLists4[[#This Row],[State]],\", \",tLists4[[#This Row],[County]])","v":"Alabama, Cullman County"},2,null,"Cullman County",null,"Drew County","Mariposa County","Elbert County",null,null,null,"Gulf County","Carroll County","Fremont County","DuPage County","Floyd County","Clayton County","Doniphan County","Carter County","Grant Parish",null,"Washington County",null,"Dickinson County","Faribault County","Grenada County","Christian County","Jefferson County","Dakota County",null,null,null,"Rio Arriba County","Herkimer County","Clay County","Kidder County","Erie County","Dewey County","Linn County","Dauphin County",null,"Georgetown County","Edmunds County","Dickson County","Brewster County","Summit County",null,"Charles City County","Lincoln County","Lincoln County","Grant County","Washakie County"]
[">8 passes or greater than 12 acres",null,"Low boom, coarse DSD","Sprays below crop using layby nozzles",null,4,null,null,null,null,null,null,null,"Alabama","Dale County",{"$f":"CONCATENATE(tLists4[[#This Row],[State]],\", \",tLists4[[#This Row],[County]])","v":"Alabama, Dale County"},2,null,"Dale County",null,"Faulkner County","Mendocino County","Fremont County",null,null,null,"Hamilton County","Catoosa County","Gem County","Edgar County","Fountain County","Clinton County","Douglas County","Casey County","Iberia Parish",null,"Wicomico County",null,"Eaton County","Fillmore County","Hancock County","Clark County","Judith Basin County","Dawes County",null,null,null,"Roosevelt County","Jefferson County","Cleveland County","LaMoure County","Fairfield County","Ellis County","Malheur County","Delaware County",null,"Greenville County","Fall River County","Dyer County","Briscoe County","Tooele County",null,"Charlotte County","Mason County","Logan County","Green County","Weston County"]
[null,null,"Low boom, coarse DSD, with drift reducing adjuvant",null,null,5,null,null,null,null,null,null,null,"Alabama","Dallas County",{"$f":"CONCATENATE(tLists4[[#This Row],[State]],\", \",tLists4[[#This Row],[County]])","v":"Alabama, Dallas County"},"Not Eligible for Credit",null,"Dallas County",null,"Franklin County","Merced County","Garfield County",null,null,null,"Hardee County","Charlton County","Gooding County","Edwards County","Franklin County","Crawford County","Edwards County","Christian County","Iberville Parish",null,"Worcester County",null,"Emmet County","Freeborn County","Harrison County","Clay County","Lake County","Dawson County",null,null,null,"San Juan County","Kings County","Columbus County","Logan County","Fayette County","Garfield County","Marion County","Elk County",null,"Greenwood County","Faulk County","Fayette County","Brooks County","Uintah County",null,"Charlottesville City","Okanogan County","Marion County","Green Lake County"]
["Ground area treated",null,"Low boom, medium DSD",null,null,null,null,null,null,null,null,null,null,"Alabama","DeKalb County",{"$f":"CONCATENATE(tLists4[[#This Row],[State]],\", \",tLists4[[#This Row],[County]])","v":"Alabama, DeKalb County"},"Not Eligible for Credit",null,"DeKalb County",null,"Fulton County","Modoc County","Gilpin County",null,null,null,"Hendry County","Chatham County","Idaho County","Effingham County","Fulton County","Dallas County","Elk County","Clark County","Jackson Parish",null,null,null,"Genesee County","Goodhue County","Hinds County","Clinton County","Lewis and Clark County","Deuel County",null,null,null,"San Miguel County","Lewis County","Craven County","McHenry County","Franklin County","Garvin County","Morrow County","Erie County",null,"Hampton County","Grant County","Fentress County","Brown County","Utah County",null,"Chesapeake City","Pacific County","Marshall County","Iowa County"]
["make selection",null,"Low boom, medium DSD, with drift reducing adjuvant",null,null,null,null,null,null,null,null,null,null,"Alabama","Elmore County",{"$f":"CONCATENATE(tLists4[[#This Row],[State]],\", \",tLists4[[#This Row],[County]])","v":"Alabama, Elmore County"},2,null,"Elmore County",null,"Garland County","Mono County","Grand County",null,null,null,"Hernando County","Chattahoochee County","Jefferson County","Fayette County","Gibson County","Davis County","Ellis County","Clay County","Jefferson Davis Parish",null,null,null,"Gladwin County","Grant County","Holmes County","Cole County","Liberty County","Dixon County",null,null,null,"Sandoval County","Livingston County","Cumberland County","McIntosh County","Fulton County","Grady County","Multnomah County","Fayette County",null,"Horry County","Gregory County","Franklin County","Burleson County","Wasatch County",null,"Chesterfield County","Pend Oreille County","Mason County","Iron County"]
["not applicable",null,"Low boom, very fine to fine DSD",null,null,null,null,null,null,null,null,null,null,"Alabama","Escambia County",{"$f":"CONCATENATE(tLists4[[#This Row],[State]],\", \",tLists4[[#This Row],[County]])","v":"Alabama, Escambia County"},"Not Eligible for Credit",null,"Escambia County",null,"Grant County","Monterey County","Gunnison County",null,null,null,"Highlands County","Chattooga County","Jerome County","Ford County","Grant County","Decatur County","Ellsworth County","Clinton County","Jefferson Parish",null,null,null,"Gogebic County","Hennepin County","Humphreys County","Cooper County","Lincoln County","Dodge County",null,null,null,"Santa Fe County","Madison County","Currituck County","McKenzie County","Gallia County","Grant County","Polk County","Forest County",null,"Jasper County","Haakon County","Gibson County","Burnet County","Washington County",null,"Clarke County","Pierce County","McDowell County","Jackson County"]
["Less than 1/10 acre treated",null,null,null,null,null,null,null,null,null,null,null,null,"Alabama","Etowah County",{"$f":"CONCATENATE(tLists4[[#This Row],[State]],\", \",tLists4[[#This Row],[County]])","v":"Alabama, Etowah County"},2,null,"Etowah County",null,"Greene County","Napa County","Hinsdale County",null,null,null,"Hillsborough County","Cherokee County","Kootenai County","Franklin County","Greene County","Delaware County","Finney County","Crittenden County","Lafayette Parish",null,null,null,"Grand Traverse County","Houston County","Issaquena County","Crawford County","Madison County","Douglas County",null,null,null,"Sierra County","Monroe County","Dare County","McLean County","Geauga County","Greer County","Sherman County","Franklin County",null,"Kershaw County","Hamlin County","Giles County","Caldwell County","Wayne County",null,"Colonial Heights City","San Juan County","Mercer County","Jefferson County"]
["Width of treated area <80ft (i.e., field border application) or application area less than 1 acre",null,null,null,null,null,null,null,null,null,null,null,null,"Alabama","Fayette County",{"$f":"CONCATENATE(tLists4[[#This Row],[State]],\", \",tLists4[[#This Row],[County]])","v":"Alabama, Fayette County"},2,null,"Fayette County",null,"Hempstead County","Nevada County","Huerfano County",null,null,null,"Holmes County","Clarke County","Latah County","Fulton County","Hamilton County","Des Moines County","Ford County","Cumberland County","Lafourche Parish",null,null,null,"Gratiot County","Hubbard County","Itawamba County","Dade County","McCone County","Dundy County",null,null,null,"Socorro County","Montgomery County","Davidson County","Mercer County","Greene County","Harmon County","Tillamook County","Fulton County",null,"Lancaster County","Hand County","Grainger County","Calhoun County","Weber County",null,"Covington City","Skagit County","Mineral County","Juneau County"]
["Width of treated area 80ft up to 200ft or area treated 1 acre up to 4 acres ",null,null,null,null,null,null,null,null,null,null,null,null,"Alabama","Franklin County",{"$f":"CONCATENATE(tLists4[[#This Row],[State]],\", \",tLists4[[#This Row],[County]])","v":"Alabama, Franklin County"},2,null,"Franklin County",null,"Hot Spring County","Orange County","Jackson County",null,null,null,"Indian River County","Clay County","Lemhi County","Gallatin County","Hancock County","Dickinson County","Franklin County","Daviess County","LaSalle Parish",null,null,null,"Hillsdale County","Isanti County","Jackson County","Dallas County","Meagher County","Fillmore County",null,null,null,"Taos County","Nassau County","Davie County","Morton County","Guernsey County","Harper County","Umatilla County","Greene County",null,"Laurens County","Hanson County","Greene County","Callahan County",null,null,"Craig County","Skamania County","Mingo County","Kenosha County"]
["Width of treated area larger than 200ft up to 400 ft or area treated larger than 4 acres up to 10 acres ",null,null,null,null,null,null,null,null,null,null,null,null,"Alabama","Geneva County",{"$f":"CONCATENATE(tLists4[[#This Row],[State]],\", \",tLists4[[#This Row],[County]])","v":"Alabama, Geneva County"},"Not Eligible for Credit",null,"Geneva County",null,"Howard County","Placer County","Jefferson County",null,null,null,"Jackson County","Clayton County","Lewis County","Greene County","Harrison County","Dubuque County","Geary County","Edmonson County","Lincoln Parish",null,null,null,"Houghton County","Itasca County","Jasper County","Daviess County","Mineral County","Franklin County",null,null,null,"Torrance County","New York County","Duplin County","Mountrail County","Hamilton County","Haskell County","Union County","Huntingdon County",null,"Lee County","Harding County","Grundy County","Cameron County",null,null,"Culpeper County","Snohomish County","Monongalia County","Kewaunee County"]
[null,null,null,null,null,null,null,null,null,null,null,null,null,"Alabama","Greene County",{"$f":"CONCATENATE(tLists4[[#This Row],[State]],\", \",tLists4[[#This Row],[County]])","v":"Alabama, Greene County"},2,null,"Greene County",null,"Independence County","Plumas County","Kiowa County",null,null,null,"Jefferson County","Clinch County","Lincoln County","Grundy County","Hendricks County","Emmet County","Gove County","Elliott County","Livingston Parish",null,null,null,"Huron County","Jackson County","Jefferson County","DeKalb County","Missoula County","Frontier County",null,null,null,"Union County","Niagara County","Durham County","Nelson County","Hancock County","Hughes County","Wallowa County","Indiana County",null,"Lexington County","Hughes County","Hamblen County","Camp County",null,null,"Cumberland County","Spokane County","Monroe County","La Crosse County"]
[null,null,null,null,null,null,null,null,null,null,null,null,null,"Alabama","Hale County",{"$f":"CONCATENATE(tLists4[[#This Row],[State]],\", \",tLists4[[#This Row],[County]])","v":"Alabama, Hale County"},2,null,"Hale County",null,"Izard County","Riverside County","Kit Carson County",null,null,null,"Lafayette County","Cobb County","Madison County","Hamilton County","Henry County","Fayette County","Graham County","Estill County","Madison Parish",null,null,null,"Ingham County","Kanabec County","Jefferson Davis County","Dent County","Musselshell County","Furnas County",null,null,null,"Valencia County","Oneida County","Edgecombe County","Oliver County","Hardin County","Jackson County","Wasco County","Jefferson County",null,"Marion County","Hutchinson County","Hamilton County","Carson County",null,null,"Danville City","Stevens County","Morgan County","Lafayette County"]
[null,null,null,null,null,null,null,null,null,null,null,null,null,"Alabama","Henry County",{"$f":"CONCATENATE(tLists4[[#This Row],[State]],\", \",tLists4[[#This Row],[County]])","v":"Alabama, Henry County"},2,null,"Henry County",null,"Jackson County","Sacramento County","La Plata County",null,null,null,"Lake County","Coffee County","Minidoka County","Hancock County","Howard County","Floyd County","Grant County","Fayette County","Morehouse Parish",null,null,null,"Ionia County","Kandiyohi County","Jones County","Douglas County","Park County","Gage County",null,null,null,null,"Onondaga County","Forsyth County","Pembina County","Harrison County","Jefferson County","Washington County","Juniata County",null,"Marlboro County","Hyde County","Hancock County","Cass County",null,null,"Dickenson County","Thurston County","Nicholas County","Langlade County"]
["Number of Passes Airblast","Spray Rig",null,null,null,null,null,null,null,null,null,null,null,"Alabama","Houston County",{"$f":"CONCATENATE(tLists4[[#This Row],[State]],\", \",tLists4[[#This Row],[County]])","v":"Alabama, Houston County"},2,null,"Houston County",null,"Jefferson County","San Benito County","Lake County",null,null,null,"Lee County","Colquitt County","Nez Perce County","Hardin County","Huntington County","Franklin County","Gray County","Fleming County","Natchitoches Parish",null,null,null,"Iosco County","Kittson County","Kemper County","Dunklin County","Petroleum County","Garden County",null,null,null,null,"Ontario County","Franklin County","Pierce County","Henry County","Johnston County","Wheeler County","Lackawanna County",null,"McCormick County","Jackson County","Hardeman County","Castro County",null,null,"Dinwiddie County","Wahkiakum County","Ohio County","Lincoln County"]
["Select number of rows upwind treated","Select Spray Equipment",null,null,null,null,null,null,null,null,null,null,null,"Alabama","Jackson County",{"$f":"CONCATENATE(tLists4[[#This Row],[State]],\", \",tLists4[[#This Row],[County]])","v":"Alabama, Jackson County"},"Not Eligible for Credit",null,"Jackson County",null,"Johnson County","San Bernardino County","Larimer County",null,null,null,"Leon County","Columbia County","Oneida County","Henderson County","Jackson County","Fremont County","Greeley County","Floyd County","Orleans Parish",null,null,null,"Iron County","Koochiching County","Lafayette County","Franklin County","Phillips County","Garfield County",null,null,null,null,"Orange County","Gaston County","Ramsey County","Highland County","Kay County","Yamhill County","Lancaster County",null,"Newberry County","Jerauld County","Hardin County","Chambers County",null,null,"Emporia City","Walla Walla County","Pendleton County","Manitowoc County"]
["1 row treated","Typical Spray Equipment",null,null,null,null,null,null,null,null,null,null,null,"Alabama","Jefferson County",{"$f":"CONCATENATE(tLists4[[#This Row],[State]],\", \",tLists4[[#This Row],[County]])","v":"Alabama, Jefferson County"},2,null,"Jefferson County",null,"Lafayette County","San Diego County","Las Animas County",null,null,null,"Levy County","Cook County","Owyhee County","Henry County","Jasper County","Greene County","Greenwood County","Franklin County","Ouachita Parish",null,null,null,"Isabella County","Lac qui Parle County","Lamar County","Gasconade County","Pondera County","Gosper County",null,null,null,null,"Orleans County","Gates County","Ransom County","Hocking County","Kingfisher County",null,"Lawrence County",null,"Oconee County","Jones County","Hawkins County","Cherokee County",null,null,"Essex County","Whatcom County","Pleasants County","Marathon County"]
["2 to 4 rows treated","Typical Spray Equipment with deflectors",null,null,null,null,null,null,null,null,null,null,null,"Alabama","Lamar County",{"$f":"CONCATENATE(tLists4[[#This Row],[State]],\", \",tLists4[[#This Row],[County]])","v":"Alabama, Lamar County"},2,null,"Lamar County",null,"Lawrence County","San Francisco County","Lincoln County",null,null,null,"Liberty County","Coweta County","Payette County","Iroquois County","Jay County","Grundy County","Hamilton County","Fulton County","Plaquemines Parish",null,null,null,"Jackson County","Lake County","Lauderdale County","Gentry County","Powder River County","Grant County",null,null,null,null,"Oswego County","Graham County","Renville County","Holmes County","Kiowa County",null,"Lebanon County",null,"Orangeburg County","Kingsbury County","Haywood County","Childress County",null,null,"Fairfax City","Whitman County","Pocahontas County","Marinette County"]
["5 to 10 rows treated","Targeted Application Equipment - Pulse Width Modulated Nozzles with Canopy Sensing Equipment (turns nozzles off when canopy not present)",null,null,null,null,null,null,null,null,null,null,null,"Alabama","Lauderdale County",{"$f":"CONCATENATE(tLists4[[#This Row],[State]],\", \",tLists4[[#This Row],[County]])","v":"Alabama, Lauderdale County"},2,null,"Lauderdale County",null,"Lee County","San Joaquin County","Logan County",null,null,null,"Madison County","Crawford County","Power County","Jackson County","Jefferson County","Guthrie County","Harper County","Gallatin County","Pointe Coupee Parish",null,null,null,"Kalamazoo County","Lake of the Woods County","Lawrence County","Greene County","Powell County","Greeley County",null,null,null,null,"Otsego County","Granville County","Richland County","Huron County","Latimer County",null,"Lehigh County",null,"Pickens County","Lake County","Henderson County","Clay County",null,null,"Fairfax County","Yakima County","Preston County","Marquette County"]
["More than 10 rows treated",null,null,null,null,null,null,null,null,null,null,null,null,"Alabama","Lawrence County",{"$f":"CONCATENATE(tLists4[[#This Row],[State]],\", \",tLists4[[#This Row],[County]])","v":"Alabama, Lawrence County"},"Not Eligible for Credit",null,"Lawrence County",null,"Lincoln County","San Luis Obispo County","Mesa County",null,null,null,"Manatee County","Crisp County","Shoshone County","Jasper County","Jennings County","Hamilton County","Harvey County","Garrard County","Rapides Parish",null,null,null,"Kalkaska County","Le Sueur County","Leake County","Grundy County","Prairie County","Hall County",null,null,null,null,"Putnam County","Greene County","Rolette County","Jackson County","Le Flore County",null,"Luzerne County",null,"Richland County","Lawrence County","Henry County","Cochran County",null,null,"Falls Church City",null,"Putnam County","Menominee County"]
[null,null,null,null,null,null,null,null,null,null,null,null,null,"Alabama","Lee County",{"$f":"CONCATENATE(tLists4[[#This Row],[State]],\", \",tLists4[[#This Row],[County]])","v":"Alabama, Lee County"},2,null,"Lee County",null,"Little River County","San Mateo County","Mineral County",null,null,null,"Marion County","Dade County","Teton County","Jefferson County","Johnson County","Hancock County","Haskell County","Grant County","Red River Parish",null,null,null,"Kent County","Lincoln County","Lee County","Harrison County","Ravalli County","Hamilton County",null,null,null,null,"Queens County","Guilford County","Sargent County","Jefferson County","Lincoln County",null,"Lycoming County",null,"Saluda County","Lincoln County","Hickman County","Coke County",null,null,"Fauquier County",null,"Raleigh County","Milwaukee County"]
[null,null,null,null,null,null,null,null,null,null,null,null,null,"Alabama","Limestone County",{"$f":"CONCATENATE(tLists4[[#This Row],[State]],\", \",tLists4[[#This Row],[County]])","v":"Alabama, Limestone County"},"Not Eligible for Credit",null,"Limestone County",null,"Logan County","Santa Barbara County","Moffat County",null,null,null,"Martin County","Dawson County","Twin Falls County","Jersey County","Knox County","Hardin County","Hodgeman County","Graves County","Richland Parish",null,null,null,"Keweenaw County","Lyon County","Leflore County","Henry County","Richland County","Harlan County",null,null,null,null,"Rensselaer County","Halifax County","Sheridan County","Knox County","Logan County",null,"McKean County",null,"Spartanburg County","Lyman County","Houston County","Coleman County",null,null,"Floyd County",null,"Randolph County","Monroe County"]
[null,null,null,null,null,null,null,null,null,null,null,null,null,"Alabama","Lowndes County",{"$f":"CONCATENATE(tLists4[[#This Row],[State]],\", \",tLists4[[#This Row],[County]])","v":"Alabama, Lowndes County"},"Not Eligible for Credit",null,"Lowndes County",null,"Lonoke County","Santa Clara County","Montezuma County",null,null,null,"Miami-Dade County","Decatur County","Valley County","Jo Daviess County","Kosciusko County","Harrison County","Jackson County","Grayson County","Sabine Parish",null,null,null,"Lake County","Mahnomen County","Lincoln County","Hickory County","Roosevelt County","Hayes County",null,null,null,null,"Richmond County","Harnett County","Sioux County","Lake County","Love County",null,"Mercer County",null,"Sumter County","Marshall County","Humphreys County","Collin County",null,null,"Fluvanna County",null,"Ritchie County","Oconto County"]
[null,null,null,null,null,null,null,null,null,null,null,null,null,"Alabama","Macon County",{"$f":"CONCATENATE(tLists4[[#This Row],[State]],\", \",tLists4[[#This Row],[County]])","v":"Alabama, Macon County"},"Not Eligible for Credit",null,"Macon County",null,"Madison County","Santa Cruz County","Montrose County",null,null,null,"Monroe County","DeKalb County","Washington County","Johnson County","LaGrange County","Henry County","Jefferson County","Green County","St. Bernard Parish",null,null,null,"Lapeer County","Marshall County","Lowndes County","Holt County","Rosebud County","Hitchcock County",null,null,null,null,"Rockland County","Haywood County","Slope County","Lawrence County","Major County",null,"Mifflin County",null,"Union County","McCook County","Jackson County","Collingsworth County",null,null,"Franklin City",null,"Roane County","Oneida County"]
[null,null,null,null,null,null,null,null,null,null,null,null,null,"Alabama","Madison County",{"$f":"CONCATENATE(tLists4[[#This Row],[State]],\", \",tLists4[[#This Row],[County]])","v":"Alabama, Madison County"},"Not Eligible for Credit",null,"Madison County",null,"Marion County","Shasta County","Morgan County",null,null,null,"Nassau County","Dodge County",null,"Kane County","Lake County","Howard County","Jewell County","Greenup County","St. Charles Parish",null,null,null,"Leelanau County","Martin County","Madison County","Howard County","Sanders County","Holt County",null,null,null,null,"Saratoga County","Henderson County","Stark County","Licking County","Marshall County",null,"Monroe County",null,"Williamsburg County","McPherson County","Jefferson County","Colorado County",null,null,"Franklin County",null,"Summers County","Outagamie County"]
[null,null,null,null,null,null,null,null,null,null,null,null,null,"Alabama","Marengo County",{"$f":"CONCATENATE(tLists4[[#This Row],[State]],\", \",tLists4[[#This Row],[County]])","v":"Alabama, Marengo County"},"Not Eligible for Credit",null,"Marengo County",null,"Miller County","Sierra County","Otero County",null,null,null,"Okaloosa County","Dooly County",null,"Kankakee County","LaPorte County","Humboldt County","Johnson County","Hancock County","St. Helena Parish",null,null,null,"Lenawee County","McLeod County","Marion County","Howell County","Sheridan County","Hooker County",null,null,null,null,"Schenectady County","Hertford County","Steele County","Logan County","Mayes County",null,"Montgomery County",null,"York County","Meade County","Johnson County","Comal County",null,null,"Frederick County",null,"Taylor County","Ozaukee County"]
[null,null,null,null,null,null,null,null,null,null,null,null,null,"Alabama","Marion County",{"$f":"CONCATENATE(tLists4[[#This Row],[State]],\", \",tLists4[[#This Row],[County]])","v":"Alabama, Marion County"},2,null,"Marion County",null,"Mississippi County","Siskiyou County","Ouray County",null,null,null,"Okeechobee County","Dougherty County",null,"Kendall County","Lawrence County","Ida County","Kearny County","Hardin County","St. James Parish",null,null,null,"Livingston County","Meeker County","Marshall County","Iron County","Silver Bow County","Howard County",null,null,null,null,"Schoharie County","Hoke County","Stutsman County","Lorain County","McClain County",null,"Montour County",null,null,"Mellette County","Knox County","Comanche County",null,null,"Fredericksburg City",null,"Tucker County","Pepin County"]
[null,null,null,null,null,null,null,null,null,null,null,null,null,"Alabama","Marshall County",{"$f":"CONCATENATE(tLists4[[#This Row],[State]],\", \",tLists4[[#This Row],[County]])","v":"Alabama, Marshall County"},"Not Eligible for Credit",null,"Marshall County",null,"Monroe County","Solano County","Park County",null,null,null,"Orange County","Douglas County",null,"Knox County","Madison County","Iowa County","Kingman County","Harlan County","St. John the Baptist Parish",null,null,null,"Luce County","Mille Lacs County","Monroe County","Jackson County","Stillwater County","Jefferson County",null,null,null,null,"Schuyler County","Hyde County","Towner County","Lucas County","McCurtain County",null,"Northampton County",null,null,"Miner County","Lake County","Concho County",null,null,"Galax City",null,"Tyler County","Pierce County"]
[null,null,null,null,null,null,null,null,null,null,null,null,null,"Alabama","Mobile County",{"$f":"CONCATENATE(tLists4[[#This Row],[State]],\", \",tLists4[[#This Row],[County]])","v":"Alabama, Mobile County"},"Not Eligible for Credit",null,"Mobile County",null,"Montgomery County","Sonoma County","Phillips County",null,null,null,"Osceola County","Early County",null,"Lake County","Marion County","Jackson County","Kiowa County","Harrison County","St. Landry Parish",null,null,null,"Mackinac County","Morrison County","Montgomery County","Jasper County","Sweet Grass County","Johnson County",null,null,null,null,"Seneca County","Iredell County","Traill County","Madison County","McIntosh County",null,"Northumberland County",null,null,"Minnehaha County","Lauderdale County","Cooke County",null,null,"Giles County",null,"Upshur County","Polk County"]
[null,null,null,null,null,null,null,null,null,null,null,null,null,"Alabama","Monroe County",{"$f":"CONCATENATE(tLists4[[#This Row],[State]],\", \",tLists4[[#This Row],[County]])","v":"Alabama, Monroe County"},"Not Eligible for Credit",null,"Monroe County",null,"Nevada County","Stanislaus County","Pitkin County",null,null,null,"Palm Beach County","Echols County",null,"LaSalle County","Marshall County","Jasper County","Labette County","Hart County","St. Martin Parish",null,null,null,"Macomb County","Mower County","Neshoba County","Jefferson County","Teton County","Kearney County",null,null,null,null,"St. Lawrence County","Jackson County","Walsh County","Mahoning County","Murray County",null,"Perry County",null,null,"Moody County","Lawrence County","Coryell County",null,null,"Gloucester County",null,"Wayne County","Portage County"]
[null,null,null,null,null,null,null,null,null,null,null,null,null,"Alabama","Montgomery County",{"$f":"CONCATENATE(tLists4[[#This Row],[State]],\", \",tLists4[[#This Row],[County]])","v":"Alabama, Montgomery County"},"Not Eligible for Credit",null,"Montgomery County",null,"Newton County","Sutter County","Prowers County",null,null,null,"Pasco County","Effingham County",null,"Lawrence County","Martin County","Jefferson County","Lane County","Henderson County","St. Mary Parish",null,null,null,"Manistee County","Murray County","Newton County","Johnson County","Toole County","Keith County",null,null,null,null,"Steuben County","Johnston County","Ward County","Marion County","Muskogee County",null,"Philadelphia County",null,null,"Oglala Lakota County","Lewis County","Cottle County",null,null,"Goochland County",null,"Webster County","Price County"]
[null,null,null,null,null,null,null,null,null,null,null,null,null,"Alabama","Morgan County",{"$f":"CONCATENATE(tLists4[[#This Row],[State]],\", \",tLists4[[#This Row],[County]])","v":"Alabama, Morgan County"},"Not Eligible for Credit",null,"Morgan County",null,"Ouachita County","Tehama County","Pueblo County",null,null,null,"Pinellas County","Elbert County",null,"Lee County","Miami County","Johnson County","Leavenworth County","Henry County","St. Tammany Parish",null,null,null,"Marquette County","Nicollet County","Noxubee County","Knox County","Treasure County","Keya Paha County",null,null,null,null,"Suffolk County","Jones County","Wells County","Medina County","Noble County",null,"Pike County",null,null,"Pennington County","Lincoln County","Crane County",null,null,"Grayson County",null,"Wetzel County","Racine County"]
[null,null,null,null,null,null,null,null,null,null,null,null,null,"Alabama","Perry County",{"$f":"CONCATENATE(tLists4[[#This Row],[State]],\", \",tLists4[[#This Row],[County]])","v":"Alabama, Perry County"},"Not Eligible for Credit",null,"Perry County",null,"Perry County","Trinity County","Rio Blanco County",null,null,null,"Polk County","Emanuel County",null,"Livingston County","Monroe County","Jones County","Lincoln County","Hickman County","Tangipahoa Parish",null,null,null,"Mason County","Nobles County","Oktibbeha County","Laclede County","Valley County","Kimball County",null,null,null,null,"Sullivan County","Lee County","Williams County","Meigs County","Nowata County",null,"Potter County",null,null,"Perkins County","Loudon County","Crockett County",null,null,"Greene County",null,"Wirt County","Richland County"]
[null,null,null,null,null,null,null,null,null,null,null,null,null,"Alabama","Pickens County",{"$f":"CONCATENATE(tLists4[[#This Row],[State]],\", \",tLists4[[#This Row],[County]])","v":"Alabama, Pickens County"},"Not Eligible for Credit",null,"Pickens County",null,"Phillips County","Tulare County","Rio Grande County",null,null,null,"Putnam County","Evans County",null,"Logan County","Montgomery County","Keokuk County","Linn County","Hopkins County","Tensas Parish",null,null,null,"Mecosta County","Norman County","Panola County","Lafayette County","Wheatland County","Knox County",null,null,null,null,"Tioga County","Lenoir County",null,"Mercer County","Okfuskee County",null,"Schuylkill County",null,null,"Potter County","Macon County","Crosby County",null,null,"Greensville County",null,"Wood County","Rock County"]
[null,null,null,null,null,null,null,null,null,null,null,null,null,"Alabama","Pike County",{"$f":"CONCATENATE(tLists4[[#This Row],[State]],\", \",tLists4[[#This Row],[County]])","v":"Alabama, Pike County"},2,null,"Pike County",null,"Pike County","Tuolumne County","Routt County",null,null,null,"Santa Rosa County","Fannin County",null,"Macon County","Morgan County","Kossuth County","Logan County","Jackson County","Terrebonne Parish",null,null,null,"Menominee County","Olmsted County","Pearl River County","Lawrence County","Wibaux County","Lancaster County",null,null,null,null,"Tompkins County","Lincoln County",null,"Miami County","Oklahoma County",null,"Snyder County",null,null,"Roberts County","Madison County","Culberson County",null,null,"Halifax County",null,"Wyoming County","Rusk County"]
[null,null,null,null,null,null,null,null,null,null,null,null,null,"Alabama","Randolph County",{"$f":"CONCATENATE(tLists4[[#This Row],[State]],\", \",tLists4[[#This Row],[County]])","v":"Alabama, Randolph County"},2,null,"Randolph County",null,"Poinsett County","Ventura County","Saguache County",null,null,null,"Sarasota County","Fayette County",null,"Macoupin County","Newton County","Lee County","Lyon County","Jefferson County","Union Parish",null,null,null,"Midland County","Otter Tail County","Perry County","Lewis County","Yellowstone County","Lincoln County",null,null,null,null,"Ulster County","Macon County",null,"Monroe County","Okmulgee County",null,"Somerset County",null,null,"Sanborn County","Marion County","Dallam County",null,null,"Hampton City",null,null,"Sauk County"]
[null,null,null,null,null,null,null,null,null,null,null,null,null,"Alabama","Russell County",{"$f":"CONCATENATE(tLists4[[#This Row],[State]],\", \",tLists4[[#This Row],[County]])","v":"Alabama, Russell County"},2,null,"Russell County",null,"Polk County","Yolo County","San Juan County",null,null,null,"Seminole County","Floyd County",null,"Madison County","Noble County","Linn County","Marion County","Jessamine County","Vermilion Parish",null,null,null,"Missaukee County","Pennington County","Pike County","Lincoln County",null,"Logan County",null,null,null,null,"Warren County","Madison County",null,"Montgomery County","Osage County",null,"Sullivan County",null,null,"Spink County","Marshall County","Dallas County",null,null,"Hanover County",null,null,"Sawyer County"]
[null,null,null,null,null,null,null,null,null,null,null,null,null,"Alabama","Shelby County",{"$f":"CONCATENATE(tLists4[[#This Row],[State]],\", \",tLists4[[#This Row],[County]])","v":"Alabama, Shelby County"},2,null,"Shelby County",null,"Pope County","Yuba County","San Miguel County",null,null,null,"St. Johns County","Forsyth County",null,"Marion County","Ohio County","Louisa County","Marshall County","Johnson County","Vernon Parish",null,null,null,"Monroe County","Pine County","Pontotoc County","Linn County",null,"Loup County",null,null,null,null,"Washington County","Martin County",null,"Morgan County","Ottawa County",null,"Susquehanna County",null,null,"Stanley County","Maury County","Dawson County",null,null,"Harrisonburg City",null,null,"Shawano County"]
[null,null,null,null,null,null,null,null,null,null,null,null,null,"Alabama","St. Clair County",{"$f":"CONCATENATE(tLists4[[#This Row],[State]],\", \",tLists4[[#This Row],[County]])","v":"Alabama, St. Clair County"},"Not Eligible for Credit",null,"St. Clair County",null,"Prairie County",null,"Sedgwick County",null,null,null,"St. Lucie County","Franklin County",null,"Marshall County","Orange County","Lucas County","McPherson County","Kenton County","Washington Parish",null,null,null,"Montcalm County","Pipestone County","Prentiss County","Livingston County",null,"Madison County",null,null,null,null,"Wayne County","McDowell County",null,"Morrow County","Pawnee County",null,"Tioga County",null,null,"Sully County","McMinn County","Deaf Smith County",null,null,"Henrico County",null,null,"Sheboygan County"]
[null,null,null,null,null,null,null,null,null,null,null,null,null,"Alabama","Sumter County",{"$f":"CONCATENATE(tLists4[[#This Row],[State]],\", \",tLists4[[#This Row],[County]])","v":"Alabama, Sumter County"},"Not Eligible for Credit",null,"Sumter County",null,"Pulaski County",null,"Summit County",null,null,null,"Sumter County","Fulton County",null,"Mason County","Owen County","Lyon County","Meade County","Knott County","Webster Parish",null,null,null,"Montmorency County","Polk County","Quitman County","Macon County",null,"McPherson County",null,null,null,null,"Westchester County","Mecklenburg County",null,"Muskingum County","Payne County",null,"Union County",null,null,"Todd County","McNairy County","Delta County",null,null,"Henry County",null,null,"St. Croix County"]
[null,null,null,null,null,null,null,null,null,null,null,null,null,"Alabama","Talladega County",{"$f":"CONCATENATE(tLists4[[#This Row],[State]],\", \",tLists4[[#This Row],[County]])","v":"Alabama, Talladega County"},2,null,"Talladega County",null,"Randolph County",null,"Teller County",null,null,null,"Suwannee County","Gilmer County",null,"Massac County","Parke County","Madison County","Miami County","Knox County","West Baton Rouge Parish",null,null,null,"Muskegon County","Pope County","Rankin County","Madison County",null,"Merrick County",null,null,null,null,"Wyoming County","Mitchell County",null,"Noble County","Pittsburg County",null,"Venango County",null,null,"Tripp County","Meigs County","Denton County",null,null,"Highland County",null,null,"Taylor County"]
[null,null,null,null,null,null,null,null,null,null,null,null,null,"Alabama","Tallapoosa County",{"$f":"CONCATENATE(tLists4[[#This Row],[State]],\", \",tLists4[[#This Row],[County]])","v":"Alabama, Tallapoosa County"},2,null,"Tallapoosa County",null,"Saline County",null,"Washington County",null,null,null,"Taylor County","Glascock County",null,"McDonough County","Perry County","Mahaska County","Mitchell County","Larue County","West Carroll Parish",null,null,null,"Newaygo County","Ramsey County","Scott County","Maries County",null,"Morrill County",null,null,null,null,"Yates County","Montgomery County",null,"Ottawa County","Pontotoc County",null,"Warren County",null,null,"Turner County","Monroe County","DeWitt County",null,null,"Hopewell City",null,null,"Trempealeau County"]
[null,null,null,null,null,null,null,null,null,null,null,null,null,"Alabama","Tuscaloosa County",{"$f":"CONCATENATE(tLists4[[#This Row],[State]],\", \",tLists4[[#This Row],[County]])","v":"Alabama, Tuscaloosa County"},2,null,"Tuscaloosa County",null,"Scott County",null,"Weld County",null,null,null,"Union County","Glynn County",null,"McHenry County","Pike County","Marion County","Montgomery County","Laurel County","West Feliciana Parish",null,null,null,"Oakland County","Red Lake County","Sharkey County","Marion County",null,"Nance County",null,null,null,null,null,"Moore County",null,"Paulding County","Pottawatomie County",null,"Washington County",null,null,"Union County","Montgomery County","Dickens County",null,null,"Isle of Wight County",null,null,"Vernon County"]
[null,null,null,null,null,null,null,null,null,null,null,null,null,"Alabama","Walker County",{"$f":"CONCATENATE(tLists4[[#This Row],[State]],\", \",tLists4[[#This Row],[County]])","v":"Alabama, Walker County"},"Not Eligible for Credit",null,"Walker County",null,"Searcy County",null,"Yuma County",null,null,null,"Volusia County","Gordon County",null,"McLean County","Porter County","Marshall County","Morris County","Lawrence County","Winn Parish",null,null,null,"Oceana County","Redwood County","Simpson County","McDonald County",null,"Nemaha County",null,null,null,null,null,"Nash County",null,"Perry County","Pushmataha County",null,"Wayne County",null,null,"Walworth County","Moore County","Dimmit County",null,null,"James City County",null,null,"Vilas County"]
[null,null,null,null,null,null,null,null,null,null,null,null,null,"Alabama","Washington County",{"$f":"CONCATENATE(tLists4[[#This Row],[State]],\", \",tLists4[[#This Row],[County]])","v":"Alabama, Washington County"},"Not Eligible for Credit",null,"Washington County",null,"Sebastian County",null,null,null,null,null,"Wakulla County","Grady County",null,"Menard County","Posey County","Mills County","Morton County","Lee County",null,null,null,null,"Ogemaw County","Renville County","Smith County","Mercer County",null,"Nuckolls County",null,null,null,null,null,"New Hanover County",null,"Pickaway County","Roger Mills County",null,"Westmoreland County",null,null,"Yankton County","Morgan County","Donley County",null,null,"King and Queen County",null,null,"Walworth County"]
[null,null,null,null,null,null,null,null,null,null,null,null,null,"Alabama","Wilcox County",{"$f":"CONCATENATE(tLists4[[#This Row],[State]],\", \",tLists4[[#This Row],[County]])","v":"Alabama, Wilcox County"},"Not Eligible for Credit",null,"Wilcox County",null,"Sevier County",null,null,null,null,null,"Walton County","Greene County",null,"Mercer County","Pulaski County","Mitchell County","Nemaha County","Leslie County",null,null,null,null,"Ontonagon County","Rice County","Stone County","Miller County",null,"Otoe County",null,null,null,null,null,"Northampton County",null,"Pike County","Rogers County",null,"Wyoming County",null,null,"Ziebach County","Obion County","Duval County",null,null,"King George County",null,null,"Washburn County"]
[null,null,null,null,null,null,null,null,null,null,null,null,null,"Alabama","Winston County",{"$f":"CONCATENATE(tLists4[[#This Row],[State]],\", \",tLists4[[#This Row],[County]])","v":"Alabama, Winston County"},2,null,"Winston County",null,"Sharp County",null,null,null,null,null,"Washington County","Gwinnett County",null,"Monroe County","Putnam County","Monona County","Neosho County","Letcher County",null,null,null,null,"Osceola County","Rock County","Sunflower County","Mississippi County",null,"Pawnee County",null,null,null,null,null,"Onslow County",null,"Portage County","Seminole County",null,"York County",null,null,null,"Overton County","Eastland County",null,null,"King William County",null,null,"Washington County"]
[null,null,null,null,null,null,null,null,null,null,null,null,null,"Arizona","Apache County",{"$f":"CONCATENATE(tLists4[[#This Row],[State]],\", \",tLists4[[#This Row],[County]])","v":"Arizona, Apache County"},6,null,null,null,"St. Francis County",null,null,null,null,null,null,"Habersham County",null,"Montgomery County","Randolph County","Monroe County","Ness County","Lewis County",null,null,null,null,"Oscoda County","Roseau County","Tallahatchie County","Moniteau County",null,"Perkins County",null,null,null,null,null,"Orange County",null,"Preble County","Sequoyah County",null,null,null,null,null,"Perry County","Ector County",null,null,"Lancaster County",null,null,"Waukesha County"]
[null,null,null,null,null,null,null,null,null,null,null,null,null,"Arizona","Cochise County",{"$f":"CONCATENATE(tLists4[[#This Row],[State]],\", \",tLists4[[#This Row],[County]])","v":"Arizona, Cochise County"},3,null,null,null,"Stone County",null,null,null,null,null,null,"Hall County",null,"Morgan County","Ripley County","Montgomery County","Norton County","Lincoln County",null,null,null,null,"Otsego County","Scott County","Tate County","Monroe County",null,"Phelps County",null,null,null,null,null,"Pamlico County",null,"Putnam County","Stephens County",null,null,null,null,null,"Pickett County","Edwards County",null,null,"Lee County",null,null,"Waupaca County"]
[null,null,null,null,null,null,null,null,null,null,null,null,null,"Arizona","Coconino County",{"$f":"CONCATENATE(tLists4[[#This Row],[State]],\", \",tLists4[[#This Row],[County]])","v":"Arizona, Coconino County"},6,null,null,null,"Union County",null,null,null,null,null,null,"Hancock County",null,"Moultrie County","Rush County","Muscatine County","Osage County","Livingston County",null,null,null,null,"Ottawa County","Sherburne County","Tippah County","Montgomery County",null,"Pierce County",null,null,null,null,null,"Pasquotank County",null,"Richland County","Texas County",null,null,null,null,null,"Polk County","El Paso County",null,null,"Lexington City",null,null,"Waushara County"]
[null,null,null,null,null,null,null,null,null,null,null,null,null,"Arizona","Gila County",{"$f":"CONCATENATE(tLists4[[#This Row],[State]],\", \",tLists4[[#This Row],[County]])","v":"Arizona, Gila County"},6,null,null,null,"Van Buren County",null,null,null,null,null,null,"Haralson County",null,"Ogle County","Scott County","O'Brien County","Osborne County","Logan County",null,null,null,null,"Presque Isle County","Sibley County","Tishomingo County","Morgan County",null,"Platte County",null,null,null,null,null,"Pender County",null,"Ross County","Tillman County",null,null,null,null,null,"Putnam County","Ellis County",null,null,"Loudoun County",null,null,"Winnebago County"]
[null,null,null,null,null,null,null,null,null,null,null,null,null,"Arizona","Graham County",{"$f":"CONCATENATE(tLists4[[#This Row],[State]],\", \",tLists4[[#This Row],[County]])","v":"Arizona, Graham County"},6,null,null,null,"Washington County",null,null,null,null,null,null,"Harris County",null,"Peoria County","Shelby County","Osceola County","Ottawa County","Lyon County",null,null,null,null,"Roscommon County","St. Louis County","Tunica County","New Madrid County",null,"Polk County",null,null,null,null,null,"Perquimans County",null,"Sandusky County","Tulsa County",null,null,null,null,null,"Rhea County","Erath County",null,null,"Louisa County",null,null,"Wood County"]
[null,null,null,null,null,null,null,null,null,null,null,null,null,"Arizona","Greenlee County",{"$f":"CONCATENATE(tLists4[[#This Row],[State]],\", \",tLists4[[#This Row],[County]])","v":"Arizona, Greenlee County"},3,null,null,null,"White County",null,null,null,null,null,null,"Hart County",null,"Perry County","Spencer County","Page County","Pawnee County","Madison County",null,null,null,null,"Saginaw County","Stearns County","Union County","Newton County",null,"Red Willow County",null,null,null,null,null,"Person County",null,"Scioto County","Wagoner County",null,null,null,null,null,"Roane County","Falls County",null,null,"Lunenburg County"]
[null,null,null,null,null,null,null,null,null,null,null,null,null,"Arizona","La Paz County",{"$f":"CONCATENATE(tLists4[[#This Row],[State]],\", \",tLists4[[#This Row],[County]])","v":"Arizona, La Paz County"},6,null,null,null,"Woodruff County",null,null,null,null,null,null,"Heard County",null,"Piatt County","St. Joseph County","Palo Alto County","Phillips County","Magoffin County",null,null,null,null,"Sanilac County","Steele County","Walthall County","Nodaway County",null,"Richardson County",null,null,null,null,null,"Pitt County",null,"Seneca County","Washington County",null,null,null,null,null,"Robertson County","Fannin County",null,null,"Lynchburg City"]
[null,null,null,null,null,null,null,null,null,null,null,null,null,"Arizona","Maricopa County",{"$f":"CONCATENATE(tLists4[[#This Row],[State]],\", \",tLists4[[#This Row],[County]])","v":"Arizona, Maricopa County"},3,null,null,null,"Yell County",null,null,null,null,null,null,"Henry County",null,"Pike County","Starke County","Plymouth County","Pottawatomie County","Marion County",null,null,null,null,"Schoolcraft County","Stevens County","Warren County","Oregon County",null,"Rock County",null,null,null,null,null,"Polk County",null,"Shelby County","Washita County",null,null,null,null,null,"Rutherford County","Fayette County",null,null,"Madison County"]
[null,null,null,null,null,null,null,null,null,null,null,null,null,"Arizona","Mohave County",{"$f":"CONCATENATE(tLists4[[#This Row],[State]],\", \",tLists4[[#This Row],[County]])","v":"Arizona, Mohave County"},6,null,null,null,null,null,null,null,null,null,null,"Houston County",null,"Pope County","Steuben County","Pocahontas County","Pratt County","Marshall County",null,null,null,null,"Shiawassee County","Swift County","Washington County","Osage County",null,"Saline County",null,null,null,null,null,"Randolph County",null,"Stark County","Woods County",null,null,null,null,null,"Scott County","Fisher County",null,null,"Manassas City"]
[null,null,null,null,null,null,null,null,null,null,null,null,null,"Arizona","Navajo County",{"$f":"CONCATENATE(tLists4[[#This Row],[State]],\", \",tLists4[[#This Row],[County]])","v":"Arizona, Navajo County"},6,null,null,null,null,null,null,null,null,null,null,"Irwin County",null,"Pulaski County","Sullivan County","Polk County","Rawlins County","Martin County",null,null,null,null,"St. Clair County","Todd County","Wayne County","Ozark County",null,"Sarpy County",null,null,null,null,null,"Richmond County",null,"Summit County","Woodward County",null,null,null,null,null,"Sequatchie County","Floyd County",null,null,"Manassas Park City"]
[null,null,null,null,null,null,null,null,null,null,null,null,null,"Arizona","Pima County",{"$f":"CONCATENATE(tLists4[[#This Row],[State]],\", \",tLists4[[#This Row],[County]])","v":"Arizona, Pima County"},6,null,null,null,null,null,null,null,null,null,null,"Jackson County",null,"Putnam County","Switzerland County","Pottawattamie County","Reno County","Mason County",null,null,null,null,"St. Joseph County","Traverse County","Webster County","Pemiscot County",null,"Saunders County",null,null,null,null,null,"Robeson County",null,"Trumbull County",null,null,null,null,null,null,"Sevier County","Foard County",null,null,"Martinsville City"]
[null,null,null,null,null,null,null,null,null,null,null,null,null,"Arizona","Pinal County",{"$f":"CONCATENATE(tLists4[[#This Row],[State]],\", \",tLists4[[#This Row],[County]])","v":"Arizona, Pinal County"},3,null,null,null,null,null,null,null,null,null,null,"Jasper County",null,"Randolph County","Tippecanoe County","Poweshiek County","Republic County","McCracken County",null,null,null,null,"Tuscola County","Wabasha County","Wilkinson County","Perry County",null,"Scotts Bluff County",null,null,null,null,null,"Rockingham County",null,"Tuscarawas County",null,null,null,null,null,null,"Shelby County","Fort Bend County",null,null,"Mathews County"]
[null,null,null,null,null,null,null,null,null,null,null,null,null,"Arizona","Santa Cruz County",{"$f":"CONCATENATE(tLists4[[#This Row],[State]],\", \",tLists4[[#This Row],[County]])","v":"Arizona, Santa Cruz County"},3,null,null,null,null,null,null,null,null,null,null,"Jeff Davis County",null,"Richland County","Tipton County","Ringgold County","Rice County","McCreary County",null,null,null,null,"Van Buren County","Wadena County","Winston County","Pettis County",null,"Seward County",null,null,null,null,null,"Rowan County",null,"Union County",null,null,null,null,null,null,"Smith County","Franklin County",null,null,"Mecklenburg County"]
[null,null,null,null,null,null,null,null,null,null,null,null,null,"Arizona","Yavapai County",{"$f":"CONCATENATE(tLists4[[#This Row],[State]],\", \",tLists4[[#This Row],[County]])","v":"Arizona, Yavapai County"},3,null,null,null,null,null,null,null,null,null,null,"Jefferson County",null,"Rock Island County","Union County","Sac County","Riley County","McLean County",null,null,null,null,"Washtenaw County","Waseca County","Yalobusha County","Phelps County",null,"Sheridan County",null,null,null,null,null,"Rutherford County",null,"Van Wert County",null,null,null,null,null,null,"Stewart County","Freestone County",null,null,"Middlesex County"]
[null,null,null,null,null,null,null,null,null,null,null,null,null,"Arizona","Yuma County",{"$f":"CONCATENATE(tLists4[[#This Row],[State]],\", \",tLists4[[#This Row],[County]])","v":"Arizona, Yuma County"},6,null,null,null,null,null,null,null,null,null,null,"Jenkins County",null,"Saline County","Vanderburgh County","Scott County","Rooks County","Meade County",null,null,null,null,"Wayne County","Washington County","Yazoo County","Pike County",null,"Sherman County",null,null,null,null,null,"Sampson County",null,"Vinton County",null,null,null,null,null,null,"Sullivan County","Frio County",null,null,"Montgomery County"]
[null,null,null,null,null,null,null,null,null,null,null,null,null,"Arkansas","Arkansas County",{"$f":"CONCATENATE(tLists4[[#This Row],[State]],\", \",tLists4[[#This Row],[County]])","v":"Arkansas, Arkansas County"},2,null,null,null,null,null,null,null,null,null,null,"Johnson County",null,"Sangamon County","Vermillion County","Shelby County","Rush County","Menifee County",null,null,null,null,"Wexford County","Watonwan County",null,"Platte County",null,"Sioux County",null,null,null,null,null,"Scotland County",null,"Warren County",null,null,null,null,null,null,"Sumner County","Gaines County",null,null,"Nelson County"]
[null,null,null,null,null,null,null,null,null,null,null,null,null,"Arkansas","Ashley County",{"$f":"CONCATENATE(tLists4[[#This Row],[State]],\", \",tLists4[[#This Row],[County]])","v":"Arkansas, Ashley County"},2,null,null,null,null,null,null,null,null,null,null,"Jones County",null,"Schuyler County","Vigo County","Sioux County","Russell County","Mercer County",null,null,null,null,null,"Wilkin County",null,"Polk County",null,"Stanton County",null,null,null,null,null,"Stanly County",null,"Washington County",null,null,null,null,null,null,"Tipton County","Galveston County",null,null,"New Kent County"]
[null,null,null,null,null,null,null,null,null,null,null,null,null,"Arkansas","Baxter County",{"$f":"CONCATENATE(tLists4[[#This Row],[State]],\", \",tLists4[[#This Row],[County]])","v":"Arkansas, Baxter County"},2,null,null,null,null,null,null,null,null,null,null,"Lamar County",null,"Scott County","Wabash County","Story County","Saline County","Metcalfe County",null,null,null,null,null,"Winona County",null,"Pulaski County",null,"Thayer County",null,null,null,null,null,"Stokes County",null,"Wayne County",null,null,null,null,null,null,"Trousdale County","Garza County",null,null,"Newport News City"]
[null,null,null,null,null,null,null,null,null,null,null,null,null,"Arkansas","Benton County",{"$f":"CONCATENATE(tLists4[[#This Row],[State]],\", \",tLists4[[#This Row],[County]])","v":"Arkansas, Benton County"},"Not Eligible for Credit",null,null,null,null,null,null,null,null,null,null,"Lanier County",null,"Shelby County","Warren County","Tama County","Scott County","Monroe County",null,null,null,null,null,"Wright County",null,"Putnam County",null,"Thomas County",null,null,null,null,null,"Surry County",null,"Williams County",null,null,null,null,null,null,"Unicoi County","Gillespie County",null,null,"Norfolk City"]
[null,null,null,null,null,null,null,null,null,null,null,null,null,"Arkansas","Boone County",{"$f":"CONCATENATE(tLists4[[#This Row],[State]],\", \",tLists4[[#This Row],[County]])","v":"Arkansas, Boone County"},2,null,null,null,null,null,null,null,null,null,null,"Laurens County",null,"St. Clair County","Warrick County","Taylor County","Sedgwick County","Montgomery County",null,null,null,null,null,"Yellow Medicine County",null,"Ralls County",null,"Thurston County",null,null,null,null,null,"Swain County",null,"Wood County",null,null,null,null,null,null,"Union County","Glasscock County",null,null,"Northampton County"]
[null,null,null,null,null,null,null,null,null,null,null,null,null,"Arkansas","Bradley County",{"$f":"CONCATENATE(tLists4[[#This Row],[State]],\", \",tLists4[[#This Row],[County]])","v":"Arkansas, Bradley County"},2,null,null,null,null,null,null,null,null,null,null,"Lee County",null,"Stark County","Washington County","Union County","Seward County","Morgan County",null,null,null,null,null,null,null,"Randolph County",null,"Valley County",null,null,null,null,null,"Transylvania County",null,"Wyandot County",null,null,null,null,null,null,"Van Buren County","Goliad County",null,null,"Northumberland County"]
[null,null,null,null,null,null,null,null,null,null,null,null,null,"Arkansas","Calhoun County",{"$f":"CONCATENATE(tLists4[[#This Row],[State]],\", \",tLists4[[#This Row],[County]])","v":"Arkansas, Calhoun County"},"Not Eligible for Credit",null,null,null,null,null,null,null,null,null,null,"Liberty County",null,"Stephenson County","Wayne County","Van Buren County","Shawnee County","Muhlenberg County",null,null,null,null,null,null,null,"Ray County",null,"Washington County",null,null,null,null,null,"Tyrrell County",null,null,null,null,null,null,null,null,"Warren County","Gonzales County",null,null,"Norton City"]
[null,null,null,null,null,null,null,null,null,null,null,null,null,"Arkansas","Carroll County",{"$f":"CONCATENATE(tLists4[[#This Row],[State]],\", \",tLists4[[#This Row],[County]])","v":"Arkansas, Carroll County"},2,null,null,null,null,null,null,null,null,null,null,"Lincoln County",null,"Tazewell County","Wells County","Wapello County","Sheridan County","Nelson County",null,null,null,null,null,null,null,"Reynolds County",null,"Wayne County",null,null,null,null,null,"Union County",null,null,null,null,null,null,null,null,"Washington County","Gray County",null,null,"Nottoway County"]
[null,null,null,null,null,null,null,null,null,null,null,null,null,"Arkansas","Chicot County",{"$f":"CONCATENATE(tLists4[[#This Row],[State]],\", \",tLists4[[#This Row],[County]])","v":"Arkansas, Chicot County"},2,null,null,null,null,null,null,null,null,null,null,"Long County",null,"Union County","White County","Warren County","Sherman County","Nicholas County",null,null,null,null,null,null,null,"Ripley County",null,"Webster County",null,null,null,null,null,"Vance County",null,null,null,null,null,null,null,null,"Wayne County","Grayson County",null,null,"Orange County"]
[null,null,null,null,null,null,null,null,null,null,null,null,null,"Arkansas","Clark County",{"$f":"CONCATENATE(tLists4[[#This Row],[State]],\", \",tLists4[[#This Row],[County]])","v":"Arkansas, Clark County"},"Not Eligible for Credit",null,null,null,null,null,null,null,null,null,null,"Lowndes County",null,"Vermilion County","Whitley County","Washington County","Smith County","Ohio County",null,null,null,null,null,null,null,"Saline County",null,"Wheeler County",null,null,null,null,null,"Wake County",null,null,null,null,null,null,null,null,"Weakley County","Gregg County",null,null,"Page County"]
[null,null,null,null,null,null,null,null,null,null,null,null,null,"Arkansas","Clay County",{"$f":"CONCATENATE(tLists4[[#This Row],[State]],\", \",tLists4[[#This Row],[County]])","v":"Arkansas, Clay County"},"Not Eligible for Credit",null,null,null,null,null,null,null,null,null,null,"Lumpkin County",null,"Wabash County",null,"Wayne County","Stafford County","Oldham County",null,null,null,null,null,null,null,"Schuyler County",null,"York County",null,null,null,null,null,"Warren County",null,null,null,null,null,null,null,null,"White County","Grimes County",null,null,"Patrick County"]
[null,null,null,null,null,null,null,null,null,null,null,null,null,"Arkansas","Cleburne County",{"$f":"CONCATENATE(tLists4[[#This Row],[State]],\", \",tLists4[[#This Row],[County]])","v":"Arkansas, Cleburne County"},2,null,null,null,null,null,null,null,null,null,null,"Macon County",null,"Warren County",null,"Webster County","Stanton County","Owen County",null,null,null,null,null,null,null,"Scotland County",null,null,null,null,null,null,null,"Washington County",null,null,null,null,null,null,null,null,"Williamson County","Guadalupe County",null,null,"Petersburg City"]
[null,null,null,null,null,null,null,null,null,null,null,null,null,"Arkansas","Cleveland County",{"$f":"CONCATENATE(tLists4[[#This Row],[State]],\", \",tLists4[[#This Row],[County]])","v":"Arkansas, Cleveland County"},2,null,null,null,null,null,null,null,null,null,null,"Madison County",null,"Washington County",null,"Winnebago County","Stevens County","Owsley County",null,null,null,null,null,null,null,"Scott County",null,null,null,null,null,null,null,"Watauga County",null,null,null,null,null,null,null,null,"Wilson County","Hale County",null,null,"Pittsylvania County"]
[null,null,null,null,null,null,null,null,null,null,null,null,null,"Arkansas","Columbia County",{"$f":"CONCATENATE(tLists4[[#This Row],[State]],\", \",tLists4[[#This Row],[County]])","v":"Arkansas, Columbia County"},2,null,null,null,null,null,null,null,null,null,null,"Marion County",null,"Wayne County",null,"Winneshiek County","Sumner County","Pendleton County",null,null,null,null,null,null,null,"Shannon County",null,null,null,null,null,null,null,"Wayne County",null,null,null,null,null,null,null,null,null,"Hall County",null,null,"Poquoson City"]
[null,null,null,null,null,null,null,null,null,null,null,null,null,"Arkansas","Conway County",{"$f":"CONCATENATE(tLists4[[#This Row],[State]],\", \",tLists4[[#This Row],[County]])","v":"Arkansas, Conway County"},"Not Eligible for Credit",null,null,null,null,null,null,null,null,null,null,"McDuffie County",null,"White County",null,"Woodbury County","Thomas County","Perry County",null,null,null,null,null,null,null,"Shelby County",null,null,null,null,null,null,null,"Wilkes County",null,null,null,null,null,null,null,null,null,"Hamilton County",null,null,"Portsmouth City"]
[null,null,null,null,null,null,null,null,null,null,null,null,null,"Arkansas","Craighead County",{"$f":"CONCATENATE(tLists4[[#This Row],[State]],\", \",tLists4[[#This Row],[County]])","v":"Arkansas, Craighead County"},"Not Eligible for Credit",null,null,null,null,null,null,null,null,null,null,"McIntosh County",null,"Whiteside County",null,"Worth County","Trego County","Pike County",null,null,null,null,null,null,null,"St. Charles County",null,null,null,null,null,null,null,"Wilson County",null,null,null,null,null,null,null,null,null,"Hansford County",null,null,"Powhatan County"]
[null,null,null,null,null,null,null,null,null,null,null,null,null,"Arkansas","Crawford County",{"$f":"CONCATENATE(tLists4[[#This Row],[State]],\", \",tLists4[[#This Row],[County]])","v":"Arkansas, Crawford County"},"Not Eligible for Credit",null,null,null,null,null,null,null,null,null,null,"Meriwether County",null,"Will County",null,"Wright County","Wabaunsee County","Powell County",null,null,null,null,null,null,null,"St. Clair County",null,null,null,null,null,null,null,"Yadkin County",null,null,null,null,null,null,null,null,null,"Hardeman County",null,null,"Prince Edward County"]
[null,null,null,null,null,null,null,null,null,null,null,null,null,"Arkansas","Crittenden County",{"$f":"CONCATENATE(tLists4[[#This Row],[State]],\", \",tLists4[[#This Row],[County]])","v":"Arkansas, Crittenden County"},2,null,null,null,null,null,null,null,null,null,null,"Miller County",null,"Williamson County",null,null,"Wallace County","Pulaski County",null,null,null,null,null,null,null,"St. Francois County",null,null,null,null,null,null,null,"Yancey County",null,null,null,null,null,null,null,null,null,"Hardin County",null,null,"Prince George County"]
[null,null,null,null,null,null,null,null,null,null,null,null,null,"Arkansas","Cross County",{"$f":"CONCATENATE(tLists4[[#This Row],[State]],\", \",tLists4[[#This Row],[County]])","v":"Arkansas, Cross County"},"Not Eligible for Credit",null,null,null,null,null,null,null,null,null,null,"Mitchell County",null,"Winnebago County",null,null,"Washington County","Robertson County",null,null,null,null,null,null,null,"St. Louis City",null,null,null,null,null,null,null,null,null,null,null,null,null,null,null,null,null,"Harris County",null,null,"Prince William County"]
[null,null,null,null,null,null,null,null,null,null,null,null,null,"Arkansas","Dallas County",{"$f":"CONCATENATE(tLists4[[#This Row],[State]],\", \",tLists4[[#This Row],[County]])","v":"Arkansas, Dallas County"},2,null,null,null,null,null,null,null,null,null,null,"Monroe County",null,"Woodford County",null,null,"Wichita County","Rockcastle County",null,null,null,null,null,null,null,"St. Louis County",null,null,null,null,null,null,null,null,null,null,null,null,null,null,null,null,null,"Harrison County",null,null,"Pulaski County"]
[null,null,null,null,null,null,null,null,null,null,null,null,null,"Arkansas","Desha County",{"$f":"CONCATENATE(tLists4[[#This Row],[State]],\", \",tLists4[[#This Row],[County]])","v":"Arkansas, Desha County"},"Not Eligible for Credit",null,null,null,null,null,null,null,null,null,null,"Montgomery County",null,null,null,null,"Wilson County","Rowan County",null,null,null,null,null,null,null,"Ste. Genevieve County",null,null,null,null,null,null,null,null,null,null,null,null,null,null,null,null,null,"Hartley County",null,null,"Radford City"]
[null,null,null,null,null,null,null,null,null,null,null,null,null,"Arkansas","Drew County",{"$f":"CONCATENATE(tLists4[[#This Row],[State]],\", \",tLists4[[#This Row],[County]])","v":"Arkansas, Drew County"},2,null,null,null,null,null,null,null,null,null,null,"Morgan County",null,null,null,null,"Woodson County","Russell County",null,null,null,null,null,null,null,"Stoddard County",null,null,null,null,null,null,null,null,null,null,null,null,null,null,null,null,null,"Haskell County",null,null,"Rappahannock County"]
[null,null,null,null,null,null,null,null,null,null,null,null,null,"Arkansas","Faulkner County",{"$f":"CONCATENATE(tLists4[[#This Row],[State]],\", \",tLists4[[#This Row],[County]])","v":"Arkansas, Faulkner County"},2,null,null,null,null,null,null,null,null,null,null,"Murray County",null,null,null,null,"Wyandotte County","Scott County",null,null,null,null,null,null,null,"Stone County",null,null,null,null,null,null,null,null,null,null,null,null,null,null,null,null,null,"Hays County",null,null,"Richmond City"]
[null,null,null,null,null,null,null,null,null,null,null,null,null,"Arkansas","Franklin County",{"$f":"CONCATENATE(tLists4[[#This Row],[State]],\", \",tLists4[[#This Row],[County]])","v":"Arkansas, Franklin County"},"Not Eligible for Credit",null,null,null,null,null,null,null,null,null,null,"Muscogee County",null,null,null,null,null,"Shelby County",null,null,null,null,null,null,null,"Sullivan County",null,null,null,null,null,null,null,null,null,null,null,null,null,null,null,null,null,"Hemphill County",null,null,"Richmond County"]
[null,null,null,null,null,null,null,null,null,null,null,null,null,"Arkansas","Fulton County",{"$f":"CONCATENATE(tLists4[[#This Row],[State]],\", \",tLists4[[#This Row],[County]])","v":"Arkansas, Fulton County"},2,null,null,null,null,null,null,null,null,null,null,"Newton County",null,null,null,null,null,"Simpson County",null,null,null,null,null,null,null,"Taney County",null,null,null,null,null,null,null,null,null,null,null,null,null,null,null,null,null,"Henderson County",null,null,"Roanoke City"]
[null,null,null,null,null,null,null,null,null,null,null,null,null,"Arkansas","Garland County",{"$f":"CONCATENATE(tLists4[[#This Row],[State]],\", \",tLists4[[#This Row],[County]])","v":"Arkansas, Garland County"},"Not Eligible for Credit",null,null,null,null,null,null,null,null,null,null,"Oconee County",null,null,null,null,null,"Spencer County",null,null,null,null,null,null,null,"Texas County",null,null,null,null,null,null,null,null,null,null,null,null,null,null,null,null,null,"Hidalgo County",null,null,"Roanoke County"]
[null,null,null,null,null,null,null,null,null,null,null,null,null,"Arkansas","Grant County",{"$f":"CONCATENATE(tLists4[[#This Row],[State]],\", \",tLists4[[#This Row],[County]])","v":"Arkansas, Grant County"},2,null,null,null,null,null,null,null,null,null,null,"Oglethorpe County",null,null,null,null,null,"Taylor County",null,null,null,null,null,null,null,"Vernon County",null,null,null,null,null,null,null,null,null,null,null,null,null,null,null,null,null,"Hill County",null,null,"Rockbridge County"]
[null,null,null,null,null,null,null,null,null,null,null,null,null,"Arkansas","Greene County",{"$f":"CONCATENATE(tLists4[[#This Row],[State]],\", \",tLists4[[#This Row],[County]])","v":"Arkansas, Greene County"},"Not Eligible for Credit",null,null,null,null,null,null,null,null,null,null,"Paulding County",null,null,null,null,null,"Todd County",null,null,null,null,null,null,null,"Warren County",null,null,null,null,null,null,null,null,null,null,null,null,null,null,null,null,null,"Hockley County",null,null,"Rockingham County"]
[null,null,null,null,null,null,null,null,null,null,null,null,null,"Arkansas","Hempstead County",{"$f":"CONCATENATE(tLists4[[#This Row],[State]],\", \",tLists4[[#This Row],[County]])","v":"Arkansas, Hempstead County"},"Not Eligible for Credit",null,null,null,null,null,null,null,null,null,null,"Peach County",null,null,null,null,null,"Trigg County",null,null,null,null,null,null,null,"Washington County",null,null,null,null,null,null,null,null,null,null,null,null,null,null,null,null,null,"Hood County",null,null,"Russell County"]
[null,null,null,null,null,null,null,null,null,null,null,null,null,"Arkansas","Hot Spring County",{"$f":"CONCATENATE(tLists4[[#This Row],[State]],\", \",tLists4[[#This Row],[County]])","v":"Arkansas, Hot Spring County"},"Not Eligible for Credit",null,null,null,null,null,null,null,null,null,null,"Pickens County",null,null,null,null,null,"Trimble County",null,null,null,null,null,null,null,"Wayne County",null,null,null,null,null,null,null,null,null,null,null,null,null,null,null,null,null,"Hopkins County",null,null,"Salem City"]
[null,null,null,null,null,null,null,null,null,null,null,null,null,"Arkansas","Howard County",{"$f":"CONCATENATE(tLists4[[#This Row],[State]],\", \",tLists4[[#This Row],[County]])","v":"Arkansas, Howard County"},"Not Eligible for Credit",null,null,null,null,null,null,null,null,null,null,"Pierce County",null,null,null,null,null,"Union County",null,null,null,null,null,null,null,"Webster County",null,null,null,null,null,null,null,null,null,null,null,null,null,null,null,null,null,"Houston County",null,null,"Scott County"]
[null,null,null,null,null,null,null,null,null,null,null,null,null,"Arkansas","Independence County",{"$f":"CONCATENATE(tLists4[[#This Row],[State]],\", \",tLists4[[#This Row],[County]])","v":"Arkansas, Independence County"},2,null,null,null,null,null,null,null,null,null,null,"Pike County",null,null,null,null,null,"Warren County",null,null,null,null,null,null,null,"Worth County",null,null,null,null,null,null,null,null,null,null,null,null,null,null,null,null,null,"Howard County",null,null,"Shenandoah County"]
[null,null,null,null,null,null,null,null,null,null,null,null,null,"Arkansas","Izard County",{"$f":"CONCATENATE(tLists4[[#This Row],[State]],\", \",tLists4[[#This Row],[County]])","v":"Arkansas, Izard County"},2,null,null,null,null,null,null,null,null,null,null,"Polk County",null,null,null,null,null,"Washington County",null,null,null,null,null,null,null,"Wright County",null,null,null,null,null,null,null,null,null,null,null,null,null,null,null,null,null,"Hudspeth County",null,null,"Smyth County"]
[null,null,null,null,null,null,null,null,null,null,null,null,null,"Arkansas","Jackson County",{"$f":"CONCATENATE(tLists4[[#This Row],[State]],\", \",tLists4[[#This Row],[County]])","v":"Arkansas, Jackson County"},"Not Eligible for Credit",null,null,null,null,null,null,null,null,null,null,"Pulaski County",null,null,null,null,null,"Wayne County",null,null,null,null,null,null,null,null,null,null,null,null,null,null,null,null,null,null,null,null,null,null,null,null,null,"Hunt County",null,null,"Southampton County"]
[null,null,null,null,null,null,null,null,null,null,null,null,null,"Arkansas","Jefferson County",{"$f":"CONCATENATE(tLists4[[#This Row],[State]],\", \",tLists4[[#This Row],[County]])","v":"Arkansas, Jefferson County"},2,null,null,null,null,null,null,null,null,null,null,"Putnam County",null,null,null,null,null,"Webster County",null,null,null,null,null,null,null,null,null,null,null,null,null,null,null,null,null,null,null,null,null,null,null,null,null,"Hutchinson County",null,null,"Spotsylvania County"]
[null,null,null,null,null,null,null,null,null,null,null,null,null,"Arkansas","Johnson County",{"$f":"CONCATENATE(tLists4[[#This Row],[State]],\", \",tLists4[[#This Row],[County]])","v":"Arkansas, Johnson County"},2,null,null,null,null,null,null,null,null,null,null,"Quitman County",null,null,null,null,null,"Whitley County",null,null,null,null,null,null,null,null,null,null,null,null,null,null,null,null,null,null,null,null,null,null,null,null,null,"Irion County",null,null,"Stafford County"]
[null,null,null,null,null,null,null,null,null,null,null,null,null,"Arkansas","Lafayette County",{"$f":"CONCATENATE(tLists4[[#This Row],[State]],\", \",tLists4[[#This Row],[County]])","v":"Arkansas, Lafayette County"},"Not Eligible for Credit",null,null,null,null,null,null,null,null,null,null,"Rabun County",null,null,null,null,null,"Wolfe County",null,null,null,null,null,null,null,null,null,null,null,null,null,null,null,null,null,null,null,null,null,null,null,null,null,"Jack County",null,null,"Staunton City"]
[null,null,null,null,null,null,null,null,null,null,null,null,null,"Arkansas","Lawrence County",{"$f":"CONCATENATE(tLists4[[#This Row],[State]],\", \",tLists4[[#This Row],[County]])","v":"Arkansas, Lawrence County"},2,null,null,null,null,null,null,null,null,null,null,"Randolph County",null,null,null,null,null,"Woodford County",null,null,null,null,null,null,null,null,null,null,null,null,null,null,null,null,null,null,null,null,null,null,null,null,null,"Jackson County",null,null,"Suffolk City"]
[null,null,null,null,null,null,null,null,null,null,null,null,null,"Arkansas","Lee County",{"$f":"CONCATENATE(tLists4[[#This Row],[State]],\", \",tLists4[[#This Row],[County]])","v":"Arkansas, Lee County"},"Not Eligible for Credit",null,null,null,null,null,null,null,null,null,null,"Richmond County",null,null,null,null,null,null,null,null,null,null,null,null,null,null,null,null,null,null,null,null,null,null,null,null,null,null,null,null,null,null,null,"Jasper County",null,null,"Surry County"]
[null,null,null,null,null,null,null,null,null,null,null,null,null,"Arkansas","Lincoln County",{"$f":"CONCATENATE(tLists4[[#This Row],[State]],\", \",tLists4[[#This Row],[County]])","v":"Arkansas, Lincoln County"},2,null,null,null,null,null,null,null,null,null,null,"Rockdale County",null,null,null,null,null,null,null,null,null,null,null,null,null,null,null,null,null,null,null,null,null,null,null,null,null,null,null,null,null,null,null,"Jeff Davis County",null,null,"Sussex County"]
[null,null,null,null,null,null,null,null,null,null,null,null,null,"Arkansas","Little River County",{"$f":"CONCATENATE(tLists4[[#This Row],[State]],\", \",tLists4[[#This Row],[County]])","v":"Arkansas, Little River County"},"Not Eligible for Credit",null,null,null,null,null,null,null,null,null,null,"Schley County",null,null,null,null,null,null,null,null,null,null,null,null,null,null,null,null,null,null,null,null,null,null,null,null,null,null,null,null,null,null,null,"Jefferson County",null,null,"Tazewell County"]
[null,null,null,null,null,null,null,null,null,null,null,null,null,"Arkansas","Logan County",{"$f":"CONCATENATE(tLists4[[#This Row],[State]],\", \",tLists4[[#This Row],[County]])","v":"Arkansas, Logan County"},"Not Eligible for Credit",null,null,null,null,null,null,null,null,null,null,"Screven County",null,null,null,null,null,null,null,null,null,null,null,null,null,null,null,null,null,null,null,null,null,null,null,null,null,null,null,null,null,null,null,"Jim Hogg County",null,null,"Virginia Beach City"]
[null,null,null,null,null,null,null,null,null,null,null,null,null,"Arkansas","Lonoke County",{"$f":"CONCATENATE(tLists4[[#This Row],[State]],\", \",tLists4[[#This Row],[County]])","v":"Arkansas, Lonoke County"},"Not Eligible for Credit",null,null,null,null,null,null,null,null,null,null,"Seminole County",null,null,null,null,null,null,null,null,null,null,null,null,null,null,null,null,null,null,null,null,null,null,null,null,null,null,null,null,null,null,null,"Jim Wells County",null,null,"Warren County"]
[null,null,null,null,null,null,null,null,null,null,null,null,null,"Arkansas","Madison County",{"$f":"CONCATENATE(tLists4[[#This Row],[State]],\", \",tLists4[[#This Row],[County]])","v":"Arkansas, Madison County"},"Not Eligible for Credit",null,null,null,null,null,null,null,null,null,null,"Spalding County",null,null,null,null,null,null,null,null,null,null,null,null,null,null,null,null,null,null,null,null,null,null,null,null,null,null,null,null,null,null,null,"Johnson County",null,null,"Washington County"]
[null,null,null,null,null,null,null,null,null,null,null,null,null,"Arkansas","Marion County",{"$f":"CONCATENATE(tLists4[[#This Row],[State]],\", \",tLists4[[#This Row],[County]])","v":"Arkansas, Marion County"},2,null,null,null,null,null,null,null,null,null,null,"Stephens County",null,null,null,null,null,null,null,null,null,null,null,null,null,null,null,null,null,null,null,null,null,null,null,null,null,null,null,null,null,null,null,"Jones County",null,null,"Waynesboro City"]
[null,null,null,null,null,null,null,null,null,null,null,null,null,"Arkansas","Miller County",{"$f":"CONCATENATE(tLists4[[#This Row],[State]],\", \",tLists4[[#This Row],[County]])","v":"Arkansas, Miller County"},"Not Eligible for Credit",null,null,null,null,null,null,null,null,null,null,"Stewart County",null,null,null,null,null,null,null,null,null,null,null,null,null,null,null,null,null,null,null,null,null,null,null,null,null,null,null,null,null,null,null,"Karnes County",null,null,"Westmoreland County"]
[null,null,null,null,null,null,null,null,null,null,null,null,null,"Arkansas","Mississippi County",{"$f":"CONCATENATE(tLists4[[#This Row],[State]],\", \",tLists4[[#This Row],[County]])","v":"Arkansas, Mississippi County"},"Not Eligible for Credit",null,null,null,null,null,null,null,null,null,null,"Sumter County",null,null,null,null,null,null,null,null,null,null,null,null,null,null,null,null,null,null,null,null,null,null,null,null,null,null,null,null,null,null,null,"Kaufman County",null,null,"Williamsburg City"]
[null,null,null,null,null,null,null,null,null,null,null,null,null,"Arkansas","Monroe County",{"$f":"CONCATENATE(tLists4[[#This Row],[State]],\", \",tLists4[[#This Row],[County]])","v":"Arkansas, Monroe County"},"Not Eligible for Credit",null,null,null,null,null,null,null,null,null,null,"Talbot County",null,null,null,null,null,null,null,null,null,null,null,null,null,null,null,null,null,null,null,null,null,null,null,null,null,null,null,null,null,null,null,"Kendall County",null,null,"Winchester City"]
[null,null,null,null,null,null,null,null,null,null,null,null,null,"Arkansas","Montgomery County",{"$f":"CONCATENATE(tLists4[[#This Row],[State]],\", \",tLists4[[#This Row],[County]])","v":"Arkansas, Montgomery County"},"Not Eligible for Credit",null,null,null,null,null,null,null,null,null,null,"Taliaferro County",null,null,null,null,null,null,null,null,null,null,null,null,null,null,null,null,null,null,null,null,null,null,null,null,null,null,null,null,null,null,null,"Kenedy County",null,null,"Wise County"]
[null,null,null,null,null,null,null,null,null,null,null,null,null,"Arkansas","Nevada County",{"$f":"CONCATENATE(tLists4[[#This Row],[State]],\", \",tLists4[[#This Row],[County]])","v":"Arkansas, Nevada County"},2,null,null,null,null,null,null,null,null,null,null,"Tattnall County",null,null,null,null,null,null,null,null,null,null,null,null,null,null,null,null,null,null,null,null,null,null,null,null,null,null,null,null,null,null,null,"Kent County",null,null,"Wythe County"]
[null,null,null,null,null,null,null,null,null,null,null,null,null,"Arkansas","Newton County",{"$f":"CONCATENATE(tLists4[[#This Row],[State]],\", \",tLists4[[#This Row],[County]])","v":"Arkansas, Newton County"},"Not Eligible for Credit",null,null,null,null,null,null,null,null,null,null,"Taylor County",null,null,null,null,null,null,null,null,null,null,null,null,null,null,null,null,null,null,null,null,null,null,null,null,null,null,null,null,null,null,null,"Kerr County",null,null,"York County"]
[null,null,null,null,null,null,null,null,null,null,null,null,null,"Arkansas","Ouachita County",{"$f":"CONCATENATE(tLists4[[#This Row],[State]],\", \",tLists4[[#This Row],[County]])","v":"Arkansas, Ouachita County"},2,null,null,null,null,null,null,null,null,null,null,"Telfair County",null,null,null,null,null,null,null,null,null,null,null,null,null,null,null,null,null,null,null,null,null,null,null,null,null,null,null,null,null,null,null,"Kimble County"]
[null,null,null,null,null,null,null,null,null,null,null,null,null,"Arkansas","Perry County",{"$f":"CONCATENATE(tLists4[[#This Row],[State]],\", \",tLists4[[#This Row],[County]])","v":"Arkansas, Perry County"},"Not Eligible for Credit",null,null,null,null,null,null,null,null,null,null,"Terrell County",null,null,null,null,null,null,null,null,null,null,null,null,null,null,null,null,null,null,null,null,null,null,null,null,null,null,null,null,null,null,null,"King County"]
[null,null,null,null,null,null,null,null,null,null,null,null,null,"Arkansas","Phillips County",{"$f":"CONCATENATE(tLists4[[#This Row],[State]],\", \",tLists4[[#This Row],[County]])","v":"Arkansas, Phillips County"},"Not Eligible for Credit",null,null,null,null,null,null,null,null,null,null,"Thomas County",null,null,null,null,null,null,null,null,null,null,null,null,null,null,null,null,null,null,null,null,null,null,null,null,null,null,null,null,null,null,null,"Kinney County"]
[null,null,null,null,null,null,null,null,null,null,null,null,null,"Arkansas","Pike County",{"$f":"CONCATENATE(tLists4[[#This Row],[State]],\", \",tLists4[[#This Row],[County]])","v":"Arkansas, Pike County"},"Not Eligible for Credit",null,null,null,null,null,null,null,null,null,null,"Tift County",null,null,null,null,null,null,null,null,null,null,null,null,null,null,null,null,null,null,null,null,null,null,null,null,null,null,null,null,null,null,null,"Kleberg County"]
[null,null,null,null,null,null,null,null,null,null,null,null,null,"Arkansas","Poinsett County",{"$f":"CONCATENATE(tLists4[[#This Row],[State]],\", \",tLists4[[#This Row],[County]])","v":"Arkansas, Poinsett County"},2,null,null,null,null,null,null,null,null,null,null,"Toombs County",null,null,null,null,null,null,null,null,null,null,null,null,null,null,null,null,null,null,null,null,null,null,null,null,null,null,null,null,null,null,null,"Knox County"]
[null,null,null,null,null,null,null,null,null,null,null,null,null,"Arkansas","Polk County",{"$f":"CONCATENATE(tLists4[[#This Row],[State]],\", \",tLists4[[#This Row],[County]])","v":"Arkansas, Polk County"},"Not Eligible for Credit",null,null,null,null,null,null,null,null,null,null,"Towns County",null,null,null,null,null,null,null,null,null,null,null,null,null,null,null,null,null,null,null,null,null,null,null,null,null,null,null,null,null,null,null,"La Salle County"]
[null,null,null,null,null,null,null,null,null,null,null,null,null,"Arkansas","Pope County",{"$f":"CONCATENATE(tLists4[[#This Row],[State]],\", \",tLists4[[#This Row],[County]])","v":"Arkansas, Pope County"},"Not Eligible for Credit",null,null,null,null,null,null,null,null,null,null,"Treutlen County",null,null,null,null,null,null,null,null,null,null,null,null,null,null,null,null,null,null,null,null,null,null,null,null,null,null,null,null,null,null,null,"Lamar County"]
[null,null,null,null,null,null,null,null,null,null,null,null,null,"Arkansas","Prairie County",{"$f":"CONCATENATE(tLists4[[#This Row],[State]],\", \",tLists4[[#This Row],[County]])","v":"Arkansas, Prairie County"},"Not Eligible for Credit",null,null,null,null,null,null,null,null,null,null,"Troup County",null,null,null,null,null,null,null,null,null,null,null,null,null,null,null,null,null,null,null,null,null,null,null,null,null,null,null,null,null,null,null,"Lamb County"]
[null,null,null,null,null,null,null,null,null,null,null,null,null,"Arkansas","Pulaski County",{"$f":"CONCATENATE(tLists4[[#This Row],[State]],\", \",tLists4[[#This Row],[County]])","v":"Arkansas, Pulaski County"},"Not Eligible for Credit",null,null,null,null,null,null,null,null,null,null,"Turner County",null,null,null,null,null,null,null,null,null,null,null,null,null,null,null,null,null,null,null,null,null,null,null,null,null,null,null,null,null,null,null,"Lampasas County"]
[null,null,null,null,null,null,null,null,null,null,null,null,null,"Arkansas","Randolph County",{"$f":"CONCATENATE(tLists4[[#This Row],[State]],\", \",tLists4[[#This Row],[County]])","v":"Arkansas, Randolph County"},2,null,null,null,null,null,null,null,null,null,null,"Twiggs County",null,null,null,null,null,null,null,null,null,null,null,null,null,null,null,null,null,null,null,null,null,null,null,null,null,null,null,null,null,null,null,"Lavaca County"]
[null,null,null,null,null,null,null,null,null,null,null,null,null,"Arkansas","Saline County",{"$f":"CONCATENATE(tLists4[[#This Row],[State]],\", \",tLists4[[#This Row],[County]])","v":"Arkansas, Saline County"},2,null,null,null,null,null,null,null,null,null,null,"Union County",null,null,null,null,null,null,null,null,null,null,null,null,null,null,null,null,null,null,null,null,null,null,null,null,null,null,null,null,null,null,null,"Lee County"]
[null,null,null,null,null,null,null,null,null,null,null,null,null,"Arkansas","Scott County",{"$f":"CONCATENATE(tLists4[[#This Row],[State]],\", \",tLists4[[#This Row],[County]])","v":"Arkansas, Scott County"},"Not Eligible for Credit",null,null,null,null,null,null,null,null,null,null,"Upson County",null,null,null,null,null,null,null,null,null,null,null,null,null,null,null,null,null,null,null,null,null,null,null,null,null,null,null,null,null,null,null,"Leon County"]
[null,null,null,null,null,null,null,null,null,null,null,null,null,"Arkansas","Searcy County",{"$f":"CONCATENATE(tLists4[[#This Row],[State]],\", \",tLists4[[#This Row],[County]])","v":"Arkansas, Searcy County"},2,null,null,null,null,null,null,null,null,null,null,"Walker County",null,null,null,null,null,null,null,null,null,null,null,null,null,null,null,null,null,null,null,null,null,null,null,null,null,null,null,null,null,null,null,"Liberty County"]
[null,null,null,null,null,null,null,null,null,null,null,null,null,"Arkansas","Sebastian County",{"$f":"CONCATENATE(tLists4[[#This Row],[State]],\", \",tLists4[[#This Row],[County]])","v":"Arkansas, Sebastian County"},"Not Eligible for Credit",null,null,null,null,null,null,null,null,null,null,"Walton County",null,null,null,null,null,null,null,null,null,null,null,null,null,null,null,null,null,null,null,null,null,null,null,null,null,null,null,null,null,null,null,"Limestone County"]
[null,null,null,null,null,null,null,null,null,null,null,null,null,"Arkansas","Sevier County",{"$f":"CONCATENATE(tLists4[[#This Row],[State]],\", \",tLists4[[#This Row],[County]])","v":"Arkansas, Sevier County"},"Not Eligible for Credit",null,null,null,null,null,null,null,null,null,null,"Ware County",null,null,null,null,null,null,null,null,null,null,null,null,null,null,null,null,null,null,null,null,null,null,null,null,null,null,null,null,null,null,null,"Lipscomb County"]
[null,null,null,null,null,null,null,null,null,null,null,null,null,"Arkansas","Sharp County",{"$f":"CONCATENATE(tLists4[[#This Row],[State]],\", \",tLists4[[#This Row],[County]])","v":"Arkansas, Sharp County"},2,null,null,null,null,null,null,null,null,null,null,"Warren County",null,null,null,null,null,null,null,null,null,null,null,null,null,null,null,null,null,null,null,null,null,null,null,null,null,null,null,null,null,null,null,"Live Oak County"]
[null,null,null,null,null,null,null,null,null,null,null,null,null,"Arkansas","St. Francis County",{"$f":"CONCATENATE(tLists4[[#This Row],[State]],\", \",tLists4[[#This Row],[County]])","v":"Arkansas, St. Francis County"},"Not Eligible for Credit",null,null,null,null,null,null,null,null,null,null,"Washington County",null,null,null,null,null,null,null,null,null,null,null,null,null,null,null,null,null,null,null,null,null,null,null,null,null,null,null,null,null,null,null,"Llano County"]
[null,null,null,null,null,null,null,null,null,null,null,null,null,"Arkansas","Stone County",{"$f":"CONCATENATE(tLists4[[#This Row],[State]],\", \",tLists4[[#This Row],[County]])","v":"Arkansas, Stone County"},"Not Eligible for Credit",null,null,null,null,null,null,null,null,null,null,"Wayne County",null,null,null,null,null,null,null,null,null,null,null,null,null,null,null,null,null,null,null,null,null,null,null,null,null,null,null,null,null,null,null,"Loving County"]
[null,null,null,null,null,null,null,null,null,null,null,null,null,"Arkansas","Union County",{"$f":"CONCATENATE(tLists4[[#This Row],[State]],\", \",tLists4[[#This Row],[County]])","v":"Arkansas, Union County"},2,null,null,null,null,null,null,null,null,null,null,"Webster County",null,null,null,null,null,null,null,null,null,null,null,null,null,null,null,null,null,null,null,null,null,null,null,null,null,null,null,null,null,null,null,"Lubbock County"]
[null,null,null,null,null,null,null,null,null,null,null,null,null,"Arkansas","Van Buren County",{"$f":"CONCATENATE(tLists4[[#This Row],[State]],\", \",tLists4[[#This Row],[County]])","v":"Arkansas, Van Buren County"},2,null,null,null,null,null,null,null,null,null,null,"Wheeler County",null,null,null,null,null,null,null,null,null,null,null,null,null,null,null,null,null,null,null,null,null,null,null,null,null,null,null,null,null,null,null,"Lynn County"]
[null,null,null,null,null,null,null,null,null,null,null,null,null,"Arkansas","Washington County",{"$f":"CONCATENATE(tLists4[[#This Row],[State]],\", \",tLists4[[#This Row],[County]])","v":"Arkansas, Washington County"},"Not Eligible for Credit",null,null,null,null,null,null,null,null,null,null,"White County",null,null,null,null,null,null,null,null,null,null,null,null,null,null,null,null,null,null,null,null,null,null,null,null,null,null,null,null,null,null,null,"Madison County"]
[null,null,null,null,null,null,null,null,null,null,null,null,null,"Arkansas","White County",{"$f":"CONCATENATE(tLists4[[#This Row],[State]],\", \",tLists4[[#This Row],[County]])","v":"Arkansas, White County"},"Not Eligible for Credit",null,null,null,null,null,null,null,null,null,null,"Whitfield County",null,null,null,null,null,null,null,null,null,null,null,null,null,null,null,null,null,null,null,null,null,null,null,null,null,null,null,null,null,null,null,"Marion County"]
[null,null,null,null,null,null,null,null,null,null,null,null,null,"Arkansas","Woodruff County",{"$f":"CONCATENATE(tLists4[[#This Row],[State]],\", \",tLists4[[#This Row],[County]])","v":"Arkansas, Woodruff County"},"Not Eligible for Credit",null,null,null,null,null,null,null,null,null,null,"Wilcox County",null,null,null,null,null,null,null,null,null,null,null,null,null,null,null,null,null,null,null,null,null,null,null,null,null,null,null,null,null,null,null,"Martin County"]
[null,null,null,null,null,null,null,null,null,null,null,null,null,"Arkansas","Yell County",{"$f":"CONCATENATE(tLists4[[#This Row],[State]],\", \",tLists4[[#This Row],[County]])","v":"Arkansas, Yell County"},"Not Eligible for Credit",null,null,null,null,null,null,null,null,null,null,"Wilkes County",null,null,null,null,null,null,null,null,null,null,null,null,null,null,null,null,null,null,null,null,null,null,null,null,null,null,null,null,null,null,null,"Mason County"]
[null,null,null,null,null,null,null,null,null,null,null,null,null,"California","Alameda County",{"$f":"CONCATENATE(tLists4[[#This Row],[State]],\", \",tLists4[[#This Row],[County]])","v":"California, Alameda County"},3,null,null,null,null,null,null,null,null,null,null,"Wilkinson County",null,null,null,null,null,null,null,null,null,null,null,null,null,null,null,null,null,null,null,null,null,null,null,null,null,null,null,null,null,null,null,"Matagorda County"]
[null,null,null,null,null,null,null,null,null,null,null,null,null,"California","Alpine County",{"$f":"CONCATENATE(tLists4[[#This Row],[State]],\", \",tLists4[[#This Row],[County]])","v":"California, Alpine County"},3,null,null,null,null,null,null,null,null,null,null,"Worth County",null,null,null,null,null,null,null,null,null,null,null,null,null,null,null,null,null,null,null,null,null,null,null,null,null,null,null,null,null,null,null,"Maverick County"]
[null,null,null,null,null,null,null,null,null,null,null,null,null,"California","Amador County",{"$f":"CONCATENATE(tLists4[[#This Row],[State]],\", \",tLists4[[#This Row],[County]])","v":"California, Amador County"},3,null,null,null,null,null,null,null,null,null,null,null,null,null,null,null,null,null,null,null,null,null,null,null,null,null,null,null,null,null,null,null,null,null,null,null,null,null,null,null,null,null,null,"McCulloch County"]
[null,null,null,null,null,null,null,null,null,null,null,null,null,"California","Butte County",{"$f":"CONCATENATE(tLists4[[#This Row],[State]],\", \",tLists4[[#This Row],[County]])","v":"California, Butte County"},3,null,null,null,null,null,null,null,null,null,null,null,null,null,null,null,null,null,null,null,null,null,null,null,null,null,null,null,null,null,null,null,null,null,null,null,null,null,null,null,null,null,null,"McLennan County"]
[null,null,null,null,null,null,null,null,null,null,null,null,null,"California","Calaveras County",{"$f":"CONCATENATE(tLists4[[#This Row],[State]],\", \",tLists4[[#This Row],[County]])","v":"California, Calaveras County"},3,null,null,null,null,null,null,null,null,null,null,null,null,null,null,null,null,null,null,null,null,null,null,null,null,null,null,null,null,null,null,null,null,null,null,null,null,null,null,null,null,null,null,"McMullen County"]
[null,null,null,null,null,null,null,null,null,null,null,null,null,"California","Colusa County",{"$f":"CONCATENATE(tLists4[[#This Row],[State]],\", \",tLists4[[#This Row],[County]])","v":"California, Colusa County"},3,null,null,null,null,null,null,null,null,null,null,null,null,null,null,null,null,null,null,null,null,null,null,null,null,null,null,null,null,null,null,null,null,null,null,null,null,null,null,null,null,null,null,"Medina County"]
[null,null,null,null,null,null,null,null,null,null,null,null,null,"California","Contra Costa County",{"$f":"CONCATENATE(tLists4[[#This Row],[State]],\", \",tLists4[[#This Row],[County]])","v":"California, Contra Costa County"},3,null,null,null,null,null,null,null,null,null,null,null,null,null,null,null,null,null,null,null,null,null,null,null,null,null,null,null,null,null,null,null,null,null,null,null,null,null,null,null,null,null,null,"Menard County"]
[null,null,null,null,null,null,null,null,null,null,null,null,null,"California","Del Norte County",{"$f":"CONCATENATE(tLists4[[#This Row],[State]],\", \",tLists4[[#This Row],[County]])","v":"California, Del Norte County"},2,null,null,null,null,null,null,null,null,null,null,null,null,null,null,null,null,null,null,null,null,null,null,null,null,null,null,null,null,null,null,null,null,null,null,null,null,null,null,null,null,null,null,"Midland County"]
[null,null,null,null,null,null,null,null,null,null,null,null,null,"California","El Dorado County",{"$f":"CONCATENATE(tLists4[[#This Row],[State]],\", \",tLists4[[#This Row],[County]])","v":"California, El Dorado County"},3,null,null,null,null,null,null,null,null,null,null,null,null,null,null,null,null,null,null,null,null,null,null,null,null,null,null,null,null,null,null,null,null,null,null,null,null,null,null,null,null,null,null,"Milam County"]
[null,null,null,null,null,null,null,null,null,null,null,null,null,"California","Fresno County",{"$f":"CONCATENATE(tLists4[[#This Row],[State]],\", \",tLists4[[#This Row],[County]])","v":"California, Fresno County"},3,null,null,null,null,null,null,null,null,null,null,null,null,null,null,null,null,null,null,null,null,null,null,null,null,null,null,null,null,null,null,null,null,null,null,null,null,null,null,null,null,null,null,"Mills County"]
[null,null,null,null,null,null,null,null,null,null,null,null,null,"California","Glenn County",{"$f":"CONCATENATE(tLists4[[#This Row],[State]],\", \",tLists4[[#This Row],[County]])","v":"California, Glenn County"},3,null,null,null,null,null,null,null,null,null,null,null,null,null,null,null,null,null,null,null,null,null,null,null,null,null,null,null,null,null,null,null,null,null,null,null,null,null,null,null,null,null,null,"Mitchell County"]
[null,null,null,null,null,null,null,null,null,null,null,null,null,"California","Humboldt County",{"$f":"CONCATENATE(tLists4[[#This Row],[State]],\", \",tLists4[[#This Row],[County]])","v":"California, Humboldt County"},3,null,null,null,null,null,null,null,null,null,null,null,null,null,null,null,null,null,null,null,null,null,null,null,null,null,null,null,null,null,null,null,null,null,null,null,null,null,null,null,null,null,null,"Montague County"]
[null,null,null,null,null,null,null,null,null,null,null,null,null,"California","Imperial County",{"$f":"CONCATENATE(tLists4[[#This Row],[State]],\", \",tLists4[[#This Row],[County]])","v":"California, Imperial County"},6,null,null,null,null,null,null,null,null,null,null,null,null,null,null,null,null,null,null,null,null,null,null,null,null,null,null,null,null,null,null,null,null,null,null,null,null,null,null,null,null,null,null,"Montgomery County"]
[null,null,null,null,null,null,null,null,null,null,null,null,null,"California","Inyo County",{"$f":"CONCATENATE(tLists4[[#This Row],[State]],\", \",tLists4[[#This Row],[County]])","v":"California, Inyo County"},3,null,null,null,null,null,null,null,null,null,null,null,null,null,null,null,null,null,null,null,null,null,null,null,null,null,null,null,null,null,null,null,null,null,null,null,null,null,null,null,null,null,null,"Moore County"]
[null,null,null,null,null,null,null,null,null,null,null,null,null,"California","Kern County",{"$f":"CONCATENATE(tLists4[[#This Row],[State]],\", \",tLists4[[#This Row],[County]])","v":"California, Kern County"},3,null,null,null,null,null,null,null,null,null,null,null,null,null,null,null,null,null,null,null,null,null,null,null,null,null,null,null,null,null,null,null,null,null,null,null,null,null,null,null,null,null,null,"Morris County"]
[null,null,null,null,null,null,null,null,null,null,null,null,null,"California","Kings County",{"$f":"CONCATENATE(tLists4[[#This Row],[State]],\", \",tLists4[[#This Row],[County]])","v":"California, Kings County"},3,null,null,null,null,null,null,null,null,null,null,null,null,null,null,null,null,null,null,null,null,null,null,null,null,null,null,null,null,null,null,null,null,null,null,null,null,null,null,null,null,null,null,"Motley County"]
[null,null,null,null,null,null,null,null,null,null,null,null,null,"California","Lake County",{"$f":"CONCATENATE(tLists4[[#This Row],[State]],\", \",tLists4[[#This Row],[County]])","v":"California, Lake County"},3,null,null,null,null,null,null,null,null,null,null,null,null,null,null,null,null,null,null,null,null,null,null,null,null,null,null,null,null,null,null,null,null,null,null,null,null,null,null,null,null,null,null,"Nacogdoches County"]
[null,null,null,null,null,null,null,null,null,null,null,null,null,"California","Lassen County",{"$f":"CONCATENATE(tLists4[[#This Row],[State]],\", \",tLists4[[#This Row],[County]])","v":"California, Lassen County"},3,null,null,null,null,null,null,null,null,null,null,null,null,null,null,null,null,null,null,null,null,null,null,null,null,null,null,null,null,null,null,null,null,null,null,null,null,null,null,null,null,null,null,"Navarro County"]
[null,null,null,null,null,null,null,null,null,null,null,null,null,"California","Los Angeles County",{"$f":"CONCATENATE(tLists4[[#This Row],[State]],\", \",tLists4[[#This Row],[County]])","v":"California, Los Angeles County"},3,null,null,null,null,null,null,null,null,null,null,null,null,null,null,null,null,null,null,null,null,null,null,null,null,null,null,null,null,null,null,null,null,null,null,null,null,null,null,null,null,null,null,"Newton County"]
[null,null,null,null,null,null,null,null,null,null,null,null,null,"California","Madera County",{"$f":"CONCATENATE(tLists4[[#This Row],[State]],\", \",tLists4[[#This Row],[County]])","v":"California, Madera County"},3,null,null,null,null,null,null,null,null,null,null,null,null,null,null,null,null,null,null,null,null,null,null,null,null,null,null,null,null,null,null,null,null,null,null,null,null,null,null,null,null,null,null,"Nolan County"]
[null,null,null,null,null,null,null,null,null,null,null,null,null,"California","Marin County",{"$f":"CONCATENATE(tLists4[[#This Row],[State]],\", \",tLists4[[#This Row],[County]])","v":"California, Marin County"},3,null,null,null,null,null,null,null,null,null,null,null,null,null,null,null,null,null,null,null,null,null,null,null,null,null,null,null,null,null,null,null,null,null,null,null,null,null,null,null,null,null,null,"Nueces County"]
[null,null,null,null,null,null,null,null,null,null,null,null,null,"California","Mariposa County",{"$f":"CONCATENATE(tLists4[[#This Row],[State]],\", \",tLists4[[#This Row],[County]])","v":"California, Mariposa County"},3,null,null,null,null,null,null,null,null,null,null,null,null,null,null,null,null,null,null,null,null,null,null,null,null,null,null,null,null,null,null,null,null,null,null,null,null,null,null,null,null,null,null,"Ochiltree County"]
[null,null,null,null,null,null,null,null,null,null,null,null,null,"California","Mendocino County",{"$f":"CONCATENATE(tLists4[[#This Row],[State]],\", \",tLists4[[#This Row],[County]])","v":"California, Mendocino County"},3,null,null,null,null,null,null,null,null,null,null,null,null,null,null,null,null,null,null,null,null,null,null,null,null,null,null,null,null,null,null,null,null,null,null,null,null,null,null,null,null,null,null,"Oldham County"]
[null,null,null,null,null,null,null,null,null,null,null,null,null,"California","Merced County",{"$f":"CONCATENATE(tLists4[[#This Row],[State]],\", \",tLists4[[#This Row],[County]])","v":"California, Merced County"},3,null,null,null,null,null,null,null,null,null,null,null,null,null,null,null,null,null,null,null,null,null,null,null,null,null,null,null,null,null,null,null,null,null,null,null,null,null,null,null,null,null,null,"Orange County"]
[null,null,null,null,null,null,null,null,null,null,null,null,null,"California","Modoc County",{"$f":"CONCATENATE(tLists4[[#This Row],[State]],\", \",tLists4[[#This Row],[County]])","v":"California, Modoc County"},3,null,null,null,null,null,null,null,null,null,null,null,null,null,null,null,null,null,null,null,null,null,null,null,null,null,null,null,null,null,null,null,null,null,null,null,null,null,null,null,null,null,null,"Palo Pinto County"]
[null,null,null,null,null,null,null,null,null,null,null,null,null,"California","Mono County",{"$f":"CONCATENATE(tLists4[[#This Row],[State]],\", \",tLists4[[#This Row],[County]])","v":"California, Mono County"},6,null,null,null,null,null,null,null,null,null,null,null,null,null,null,null,null,null,null,null,null,null,null,null,null,null,null,null,null,null,null,null,null,null,null,null,null,null,null,null,null,null,null,"Panola County"]
[null,null,null,null,null,null,null,null,null,null,null,null,null,"California","Monterey County",{"$f":"CONCATENATE(tLists4[[#This Row],[State]],\", \",tLists4[[#This Row],[County]])","v":"California, Monterey County"},3,null,null,null,null,null,null,null,null,null,null,null,null,null,null,null,null,null,null,null,null,null,null,null,null,null,null,null,null,null,null,null,null,null,null,null,null,null,null,null,null,null,null,"Parker County"]
[null,null,null,null,null,null,null,null,null,null,null,null,null,"California","Napa County",{"$f":"CONCATENATE(tLists4[[#This Row],[State]],\", \",tLists4[[#This Row],[County]])","v":"California, Napa County"},3,null,null,null,null,null,null,null,null,null,null,null,null,null,null,null,null,null,null,null,null,null,null,null,null,null,null,null,null,null,null,null,null,null,null,null,null,null,null,null,null,null,null,"Parmer County"]
[null,null,null,null,null,null,null,null,null,null,null,null,null,"California","Nevada County",{"$f":"CONCATENATE(tLists4[[#This Row],[State]],\", \",tLists4[[#This Row],[County]])","v":"California, Nevada County"},3,null,null,null,null,null,null,null,null,null,null,null,null,null,null,null,null,null,null,null,null,null,null,null,null,null,null,null,null,null,null,null,null,null,null,null,null,null,null,null,null,null,null,"Pecos County"]
[null,null,null,null,null,null,null,null,null,null,null,null,null,"California","Orange County",{"$f":"CONCATENATE(tLists4[[#This Row],[State]],\", \",tLists4[[#This Row],[County]])","v":"California, Orange County"},3,null,null,null,null,null,null,null,null,null,null,null,null,null,null,null,null,null,null,null,null,null,null,null,null,null,null,null,null,null,null,null,null,null,null,null,null,null,null,null,null,null,null,"Polk County"]
[null,null,null,null,null,null,null,null,null,null,null,null,null,"California","Placer County",{"$f":"CONCATENATE(tLists4[[#This Row],[State]],\", \",tLists4[[#This Row],[County]])","v":"California, Placer County"},3,null,null,null,null,null,null,null,null,null,null,null,null,null,null,null,null,null,null,null,null,null,null,null,null,null,null,null,null,null,null,null,null,null,null,null,null,null,null,null,null,null,null,"Potter County"]
[null,null,null,null,null,null,null,null,null,null,null,null,null,"California","Plumas County",{"$f":"CONCATENATE(tLists4[[#This Row],[State]],\", \",tLists4[[#This Row],[County]])","v":"California, Plumas County"},3,null,null,null,null,null,null,null,null,null,null,null,null,null,null,null,null,null,null,null,null,null,null,null,null,null,null,null,null,null,null,null,null,null,null,null,null,null,null,null,null,null,null,"Presidio County"]
[null,null,null,null,null,null,null,null,null,null,null,null,null,"California","Riverside County",{"$f":"CONCATENATE(tLists4[[#This Row],[State]],\", \",tLists4[[#This Row],[County]])","v":"California, Riverside County"},6,null,null,null,null,null,null,null,null,null,null,null,null,null,null,null,null,null,null,null,null,null,null,null,null,null,null,null,null,null,null,null,null,null,null,null,null,null,null,null,null,null,null,"Rains County"]
[null,null,null,null,null,null,null,null,null,null,null,null,null,"California","Sacramento County",{"$f":"CONCATENATE(tLists4[[#This Row],[State]],\", \",tLists4[[#This Row],[County]])","v":"California, Sacramento County"},3,null,null,null,null,null,null,null,null,null,null,null,null,null,null,null,null,null,null,null,null,null,null,null,null,null,null,null,null,null,null,null,null,null,null,null,null,null,null,null,null,null,null,"Randall County"]
[null,null,null,null,null,null,null,null,null,null,null,null,null,"California","San Benito County",{"$f":"CONCATENATE(tLists4[[#This Row],[State]],\", \",tLists4[[#This Row],[County]])","v":"California, San Benito County"},3,null,null,null,null,null,null,null,null,null,null,null,null,null,null,null,null,null,null,null,null,null,null,null,null,null,null,null,null,null,null,null,null,null,null,null,null,null,null,null,null,null,null,"Reagan County"]
[null,null,null,null,null,null,null,null,null,null,null,null,null,"California","San Bernardino County",{"$f":"CONCATENATE(tLists4[[#This Row],[State]],\", \",tLists4[[#This Row],[County]])","v":"California, San Bernardino County"},6,null,null,null,null,null,null,null,null,null,null,null,null,null,null,null,null,null,null,null,null,null,null,null,null,null,null,null,null,null,null,null,null,null,null,null,null,null,null,null,null,null,null,"Real County"]
[null,null,null,null,null,null,null,null,null,null,null,null,null,"California","San Diego County",{"$f":"CONCATENATE(tLists4[[#This Row],[State]],\", \",tLists4[[#This Row],[County]])","v":"California, San Diego County"},3,null,null,null,null,null,null,null,null,null,null,null,null,null,null,null,null,null,null,null,null,null,null,null,null,null,null,null,null,null,null,null,null,null,null,null,null,null,null,null,null,null,null,"Red River County"]
[null,null,null,null,null,null,null,null,null,null,null,null,null,"California","San Francisco County",{"$f":"CONCATENATE(tLists4[[#This Row],[State]],\", \",tLists4[[#This Row],[County]])","v":"California, San Francisco County"},3,null,null,null,null,null,null,null,null,null,null,null,null,null,null,null,null,null,null,null,null,null,null,null,null,null,null,null,null,null,null,null,null,null,null,null,null,null,null,null,null,null,null,"Reeves County"]
[null,null,null,null,null,null,null,null,null,null,null,null,null,"California","San Joaquin County",{"$f":"CONCATENATE(tLists4[[#This Row],[State]],\", \",tLists4[[#This Row],[County]])","v":"California, San Joaquin County"},3,null,null,null,null,null,null,null,null,null,null,null,null,null,null,null,null,null,null,null,null,null,null,null,null,null,null,null,null,null,null,null,null,null,null,null,null,null,null,null,null,null,null,"Refugio County"]
[null,null,null,null,null,null,null,null,null,null,null,null,null,"California","San Luis Obispo County",{"$f":"CONCATENATE(tLists4[[#This Row],[State]],\", \",tLists4[[#This Row],[County]])","v":"California, San Luis Obispo County"},3,null,null,null,null,null,null,null,null,null,null,null,null,null,null,null,null,null,null,null,null,null,null,null,null,null,null,null,null,null,null,null,null,null,null,null,null,null,null,null,null,null,null,"Roberts County"]
[null,null,null,null,null,null,null,null,null,null,null,null,null,"California","San Mateo County",{"$f":"CONCATENATE(tLists4[[#This Row],[State]],\", \",tLists4[[#This Row],[County]])","v":"California, San Mateo County"},3,null,null,null,null,null,null,null,null,null,null,null,null,null,null,null,null,null,null,null,null,null,null,null,null,null,null,null,null,null,null,null,null,null,null,null,null,null,null,null,null,null,null,"Robertson County"]
[null,null,null,null,null,null,null,null,null,null,null,null,null,"California","Santa Barbara County",{"$f":"CONCATENATE(tLists4[[#This Row],[State]],\", \",tLists4[[#This Row],[County]])","v":"California, Santa Barbara County"},3,null,null,null,null,null,null,null,null,null,null,null,null,null,null,null,null,null,null,null,null,null,null,null,null,null,null,null,null,null,null,null,null,null,null,null,null,null,null,null,null,null,null,"Rockwall County"]
[null,null,null,null,null,null,null,null,null,null,null,null,null,"California","Santa Clara County",{"$f":"CONCATENATE(tLists4[[#This Row],[State]],\", \",tLists4[[#This Row],[County]])","v":"California, Santa Clara County"},3,null,null,null,null,null,null,null,null,null,null,null,null,null,null,null,null,null,null,null,null,null,null,null,null,null,null,null,null,null,null,null,null,null,null,null,null,null,null,null,null,null,null,"Runnels County"]
[null,null,null,null,null,null,null,null,null,null,null,null,null,"California","Santa Cruz County",{"$f":"CONCATENATE(tLists4[[#This Row],[State]],\", \",tLists4[[#This Row],[County]])","v":"California, Santa Cruz County"},2,null,null,null,null,null,null,null,null,null,null,null,null,null,null,null,null,null,null,null,null,null,null,null,null,null,null,null,null,null,null,null,null,null,null,null,null,null,null,null,null,null,null,"Rusk County"]
[null,null,null,null,null,null,null,null,null,null,null,null,null,"California","Shasta County",{"$f":"CONCATENATE(tLists4[[#This Row],[State]],\", \",tLists4[[#This Row],[County]])","v":"California, Shasta County"},3,null,null,null,null,null,null,null,null,null,null,null,null,null,null,null,null,null,null,null,null,null,null,null,null,null,null,null,null,null,null,null,null,null,null,null,null,null,null,null,null,null,null,"Sabine County"]
[null,null,null,null,null,null,null,null,null,null,null,null,null,"California","Sierra County",{"$f":"CONCATENATE(tLists4[[#This Row],[State]],\", \",tLists4[[#This Row],[County]])","v":"California, Sierra County"},3,null,null,null,null,null,null,null,null,null,null,null,null,null,null,null,null,null,null,null,null,null,null,null,null,null,null,null,null,null,null,null,null,null,null,null,null,null,null,null,null,null,null,"San Augustine County"]
[null,null,null,null,null,null,null,null,null,null,null,null,null,"California","Siskiyou County",{"$f":"CONCATENATE(tLists4[[#This Row],[State]],\", \",tLists4[[#This Row],[County]])","v":"California, Siskiyou County"},3,null,null,null,null,null,null,null,null,null,null,null,null,null,null,null,null,null,null,null,null,null,null,null,null,null,null,null,null,null,null,null,null,null,null,null,null,null,null,null,null,null,null,"San Jacinto County"]
[null,null,null,null,null,null,null,null,null,null,null,null,null,"California","Solano County",{"$f":"CONCATENATE(tLists4[[#This Row],[State]],\", \",tLists4[[#This Row],[County]])","v":"California, Solano County"},3,null,null,null,null,null,null,null,null,null,null,null,null,null,null,null,null,null,null,null,null,null,null,null,null,null,null,null,null,null,null,null,null,null,null,null,null,null,null,null,null,null,null,"San Patricio County"]
[null,null,null,null,null,null,null,null,null,null,null,null,null,"California","Sonoma County",{"$f":"CONCATENATE(tLists4[[#This Row],[State]],\", \",tLists4[[#This Row],[County]])","v":"California, Sonoma County"},3,null,null,null,null,null,null,null,null,null,null,null,null,null,null,null,null,null,null,null,null,null,null,null,null,null,null,null,null,null,null,null,null,null,null,null,null,null,null,null,null,null,null,"San Saba County"]
[null,null,null,null,null,null,null,null,null,null,null,null,null,"California","Stanislaus County",{"$f":"CONCATENATE(tLists4[[#This Row],[State]],\", \",tLists4[[#This Row],[County]])","v":"California, Stanislaus County"},3,null,null,null,null,null,null,null,null,null,null,null,null,null,null,null,null,null,null,null,null,null,null,null,null,null,null,null,null,null,null,null,null,null,null,null,null,null,null,null,null,null,null,"Schleicher County"]
[null,null,null,null,null,null,null,null,null,null,null,null,null,"California","Sutter County",{"$f":"CONCATENATE(tLists4[[#This Row],[State]],\", \",tLists4[[#This Row],[County]])","v":"California, Sutter County"},3,null,null,null,null,null,null,null,null,null,null,null,null,null,null,null,null,null,null,null,null,null,null,null,null,null,null,null,null,null,null,null,null,null,null,null,null,null,null,null,null,null,null,"Scurry County"]
[null,null,null,null,null,null,null,null,null,null,null,null,null,"California","Tehama County",{"$f":"CONCATENATE(tLists4[[#This Row],[State]],\", \",tLists4[[#This Row],[County]])","v":"California, Tehama County"},3,null,null,null,null,null,null,null,null,null,null,null,null,null,null,null,null,null,null,null,null,null,null,null,null,null,null,null,null,null,null,null,null,null,null,null,null,null,null,null,null,null,null,"Shackelford County"]
[null,null,null,null,null,null,null,null,null,null,null,null,null,"California","Trinity County",{"$f":"CONCATENATE(tLists4[[#This Row],[State]],\", \",tLists4[[#This Row],[County]])","v":"California, Trinity County"},3,null,null,null,null,null,null,null,null,null,null,null,null,null,null,null,null,null,null,null,null,null,null,null,null,null,null,null,null,null,null,null,null,null,null,null,null,null,null,null,null,null,null,"Shelby County"]
[null,null,null,null,null,null,null,null,null,null,null,null,null,"California","Tulare County",{"$f":"CONCATENATE(tLists4[[#This Row],[State]],\", \",tLists4[[#This Row],[County]])","v":"California, Tulare County"},3,null,null,null,null,null,null,null,null,null,null,null,null,null,null,null,null,null,null,null,null,null,null,null,null,null,null,null,null,null,null,null,null,null,null,null,null,null,null,null,null,null,null,"Sherman County"]
[null,null,null,null,null,null,null,null,null,null,null,null,null,"California","Tuolumne County",{"$f":"CONCATENATE(tLists4[[#This Row],[State]],\", \",tLists4[[#This Row],[County]])","v":"California, Tuolumne County"},3,null,null,null,null,null,null,null,null,null,null,null,null,null,null,null,null,null,null,null,null,null,null,null,null,null,null,null,null,null,null,null,null,null,null,null,null,null,null,null,null,null,null,"Smith County"]
[null,null,null,null,null,null,null,null,null,null,null,null,null,"California","Ventura County",{"$f":"CONCATENATE(tLists4[[#This Row],[State]],\", \",tLists4[[#This Row],[County]])","v":"California, Ventura County"},3,null,null,null,null,null,null,null,null,null,null,null,null,null,null,null,null,null,null,null,null,null,null,null,null,null,null,null,null,null,null,null,null,null,null,null,null,null,null,null,null,null,null,"Somervell County"]
[null,null,null,null,null,null,null,null,null,null,null,null,null,"California","Yolo County",{"$f":"CONCATENATE(tLists4[[#This Row],[State]],\", \",tLists4[[#This Row],[County]])","v":"California, Yolo County"},3,null,null,null,null,null,null,null,null,null,null,null,null,null,null,null,null,null,null,null,null,null,null,null,null,null,null,null,null,null,null,null,null,null,null,null,null,null,null,null,null,null,null,"Starr County"]
[null,null,null,null,null,null,null,null,null,null,null,null,null,"California","Yuba County",{"$f":"CONCATENATE(tLists4[[#This Row],[State]],\", \",tLists4[[#This Row],[County]])","v":"California, Yuba County"},3,null,null,null,null,null,null,null,null,null,null,null,null,null,null,null,null,null,null,null,null,null,null,null,null,null,null,null,null,null,null,null,null,null,null,null,null,null,null,null,null,null,null,"Stephens County"]
[null,null,null,null,null,null,null,null,null,null,null,null,null,"Colorado","Adams County",{"$f":"CONCATENATE(tLists4[[#This Row],[State]],\", \",tLists4[[#This Row],[County]])","v":"Colorado, Adams County"},3,null,null,null,null,null,null,null,null,null,null,null,null,null,null,null,null,null,null,null,null,null,null,null,null,null,null,null,null,null,null,null,null,null,null,null,null,null,null,null,null,null,null,"Sterling County"]
[null,null,null,null,null,null,null,null,null,null,null,null,null,"Colorado","Alamosa County",{"$f":"CONCATENATE(tLists4[[#This Row],[State]],\", \",tLists4[[#This Row],[County]])","v":"Colorado, Alamosa County"},3,null,null,null,null,null,null,null,null,null,null,null,null,null,null,null,null,null,null,null,null,null,null,null,null,null,null,null,null,null,null,null,null,null,null,null,null,null,null,null,null,null,null,"Stonewall County"]
[null,null,null,null,null,null,null,null,null,null,null,null,null,"Colorado","Arapahoe County",{"$f":"CONCATENATE(tLists4[[#This Row],[State]],\", \",tLists4[[#This Row],[County]])","v":"Colorado, Arapahoe County"},3,null,null,null,null,null,null,null,null,null,null,null,null,null,null,null,null,null,null,null,null,null,null,null,null,null,null,null,null,null,null,null,null,null,null,null,null,null,null,null,null,null,null,"Sutton County"]
[null,null,null,null,null,null,null,null,null,null,null,null,null,"Colorado","Archuleta County",{"$f":"CONCATENATE(tLists4[[#This Row],[State]],\", \",tLists4[[#This Row],[County]])","v":"Colorado, Archuleta County"},3,null,null,null,null,null,null,null,null,null,null,null,null,null,null,null,null,null,null,null,null,null,null,null,null,null,null,null,null,null,null,null,null,null,null,null,null,null,null,null,null,null,null,"Swisher County"]
[null,null,null,null,null,null,null,null,null,null,null,null,null,"Colorado","Baca County",{"$f":"CONCATENATE(tLists4[[#This Row],[State]],\", \",tLists4[[#This Row],[County]])","v":"Colorado, Baca County"},3,null,null,null,null,null,null,null,null,null,null,null,null,null,null,null,null,null,null,null,null,null,null,null,null,null,null,null,null,null,null,null,null,null,null,null,null,null,null,null,null,null,null,"Tarrant County"]
[null,null,null,null,null,null,null,null,null,null,null,null,null,"Colorado","Bent County",{"$f":"CONCATENATE(tLists4[[#This Row],[State]],\", \",tLists4[[#This Row],[County]])","v":"Colorado, Bent County"},3,null,null,null,null,null,null,null,null,null,null,null,null,null,null,null,null,null,null,null,null,null,null,null,null,null,null,null,null,null,null,null,null,null,null,null,null,null,null,null,null,null,null,"Taylor County"]
[null,null,null,null,null,null,null,null,null,null,null,null,null,"Colorado","Boulder County",{"$f":"CONCATENATE(tLists4[[#This Row],[State]],\", \",tLists4[[#This Row],[County]])","v":"Colorado, Boulder County"},3,null,null,null,null,null,null,null,null,null,null,null,null,null,null,null,null,null,null,null,null,null,null,null,null,null,null,null,null,null,null,null,null,null,null,null,null,null,null,null,null,null,null,"Terrell County"]
[null,null,null,null,null,null,null,null,null,null,null,null,null,"Colorado","Broomfield County",{"$f":"CONCATENATE(tLists4[[#This Row],[State]],\", \",tLists4[[#This Row],[County]])","v":"Colorado, Broomfield County"},3,null,null,null,null,null,null,null,null,null,null,null,null,null,null,null,null,null,null,null,null,null,null,null,null,null,null,null,null,null,null,null,null,null,null,null,null,null,null,null,null,null,null,"Terry County"]
[null,null,null,null,null,null,null,null,null,null,null,null,null,"Colorado","Chaffee County",{"$f":"CONCATENATE(tLists4[[#This Row],[State]],\", \",tLists4[[#This Row],[County]])","v":"Colorado, Chaffee County"},6,null,null,null,null,null,null,null,null,null,null,null,null,null,null,null,null,null,null,null,null,null,null,null,null,null,null,null,null,null,null,null,null,null,null,null,null,null,null,null,null,null,null,"Throckmorton County"]
[null,null,null,null,null,null,null,null,null,null,null,null,null,"Colorado","Cheyenne County",{"$f":"CONCATENATE(tLists4[[#This Row],[State]],\", \",tLists4[[#This Row],[County]])","v":"Colorado, Cheyenne County"},3,null,null,null,null,null,null,null,null,null,null,null,null,null,null,null,null,null,null,null,null,null,null,null,null,null,null,null,null,null,null,null,null,null,null,null,null,null,null,null,null,null,null,"Titus County"]
[null,null,null,null,null,null,null,null,null,null,null,null,null,"Colorado","Clear Creek County",{"$f":"CONCATENATE(tLists4[[#This Row],[State]],\", \",tLists4[[#This Row],[County]])","v":"Colorado, Clear Creek County"},3,null,null,null,null,null,null,null,null,null,null,null,null,null,null,null,null,null,null,null,null,null,null,null,null,null,null,null,null,null,null,null,null,null,null,null,null,null,null,null,null,null,null,"Tom Green County"]
[null,null,null,null,null,null,null,null,null,null,null,null,null,"Colorado","Conejos County",{"$f":"CONCATENATE(tLists4[[#This Row],[State]],\", \",tLists4[[#This Row],[County]])","v":"Colorado, Conejos County"},3,null,null,null,null,null,null,null,null,null,null,null,null,null,null,null,null,null,null,null,null,null,null,null,null,null,null,null,null,null,null,null,null,null,null,null,null,null,null,null,null,null,null,"Travis County"]
[null,null,null,null,null,null,null,null,null,null,null,null,null,"Colorado","Costilla County",{"$f":"CONCATENATE(tLists4[[#This Row],[State]],\", \",tLists4[[#This Row],[County]])","v":"Colorado, Costilla County"},6,null,null,null,null,null,null,null,null,null,null,null,null,null,null,null,null,null,null,null,null,null,null,null,null,null,null,null,null,null,null,null,null,null,null,null,null,null,null,null,null,null,null,"Trinity County"]
[null,null,null,null,null,null,null,null,null,null,null,null,null,"Colorado","Crowley County",{"$f":"CONCATENATE(tLists4[[#This Row],[State]],\", \",tLists4[[#This Row],[County]])","v":"Colorado, Crowley County"},3,null,null,null,null,null,null,null,null,null,null,null,null,null,null,null,null,null,null,null,null,null,null,null,null,null,null,null,null,null,null,null,null,null,null,null,null,null,null,null,null,null,null,"Tyler County"]
[null,null,null,null,null,null,null,null,null,null,null,null,null,"Colorado","Custer County",{"$f":"CONCATENATE(tLists4[[#This Row],[State]],\", \",tLists4[[#This Row],[County]])","v":"Colorado, Custer County"},6,null,null,null,null,null,null,null,null,null,null,null,null,null,null,null,null,null,null,null,null,null,null,null,null,null,null,null,null,null,null,null,null,null,null,null,null,null,null,null,null,null,null,"Upshur County"]
[null,null,null,null,null,null,null,null,null,null,null,null,null,"Colorado","Delta County",{"$f":"CONCATENATE(tLists4[[#This Row],[State]],\", \",tLists4[[#This Row],[County]])","v":"Colorado, Delta County"},3,null,null,null,null,null,null,null,null,null,null,null,null,null,null,null,null,null,null,null,null,null,null,null,null,null,null,null,null,null,null,null,null,null,null,null,null,null,null,null,null,null,null,"Upton County"]
[null,null,null,null,null,null,null,null,null,null,null,null,null,"Colorado","Denver County",{"$f":"CONCATENATE(tLists4[[#This Row],[State]],\", \",tLists4[[#This Row],[County]])","v":"Colorado, Denver County"},3,null,null,null,null,null,null,null,null,null,null,null,null,null,null,null,null,null,null,null,null,null,null,null,null,null,null,null,null,null,null,null,null,null,null,null,null,null,null,null,null,null,null,"Uvalde County"]
[null,null,null,null,null,null,null,null,null,null,null,null,null,"Colorado","Dolores County",{"$f":"CONCATENATE(tLists4[[#This Row],[State]],\", \",tLists4[[#This Row],[County]])","v":"Colorado, Dolores County"},3,null,null,null,null,null,null,null,null,null,null,null,null,null,null,null,null,null,null,null,null,null,null,null,null,null,null,null,null,null,null,null,null,null,null,null,null,null,null,null,null,null,null,"Val Verde County"]
[null,null,null,null,null,null,null,null,null,null,null,null,null,"Colorado","Douglas County",{"$f":"CONCATENATE(tLists4[[#This Row],[State]],\", \",tLists4[[#This Row],[County]])","v":"Colorado, Douglas County"},3,null,null,null,null,null,null,null,null,null,null,null,null,null,null,null,null,null,null,null,null,null,null,null,null,null,null,null,null,null,null,null,null,null,null,null,null,null,null,null,null,null,null,"Van Zandt County"]
[null,null,null,null,null,null,null,null,null,null,null,null,null,"Colorado","Eagle County",{"$f":"CONCATENATE(tLists4[[#This Row],[State]],\", \",tLists4[[#This Row],[County]])","v":"Colorado, Eagle County"},3,null,null,null,null,null,null,null,null,null,null,null,null,null,null,null,null,null,null,null,null,null,null,null,null,null,null,null,null,null,null,null,null,null,null,null,null,null,null,null,null,null,null,"Victoria County"]
[null,null,null,null,null,null,null,null,null,null,null,null,null,"Colorado","El Paso County",{"$f":"CONCATENATE(tLists4[[#This Row],[State]],\", \",tLists4[[#This Row],[County]])","v":"Colorado, El Paso County"},3,null,null,null,null,null,null,null,null,null,null,null,null,null,null,null,null,null,null,null,null,null,null,null,null,null,null,null,null,null,null,null,null,null,null,null,null,null,null,null,null,null,null,"Walker County"]
[null,null,null,null,null,null,null,null,null,null,null,null,null,"Colorado","Elbert County",{"$f":"CONCATENATE(tLists4[[#This Row],[State]],\", \",tLists4[[#This Row],[County]])","v":"Colorado, Elbert County"},3,null,null,null,null,null,null,null,null,null,null,null,null,null,null,null,null,null,null,null,null,null,null,null,null,null,null,null,null,null,null,null,null,null,null,null,null,null,null,null,null,null,null,"Waller County"]
[null,null,null,null,null,null,null,null,null,null,null,null,null,"Colorado","Fremont County",{"$f":"CONCATENATE(tLists4[[#This Row],[State]],\", \",tLists4[[#This Row],[County]])","v":"Colorado, Fremont County"},3,null,null,null,null,null,null,null,null,null,null,null,null,null,null,null,null,null,null,null,null,null,null,null,null,null,null,null,null,null,null,null,null,null,null,null,null,null,null,null,null,null,null,"Ward County"]
[null,null,null,null,null,null,null,null,null,null,null,null,null,"Colorado","Garfield County",{"$f":"CONCATENATE(tLists4[[#This Row],[State]],\", \",tLists4[[#This Row],[County]])","v":"Colorado, Garfield County"},3,null,null,null,null,null,null,null,null,null,null,null,null,null,null,null,null,null,null,null,null,null,null,null,null,null,null,null,null,null,null,null,null,null,null,null,null,null,null,null,null,null,null,"Washington County"]
[null,null,null,null,null,null,null,null,null,null,null,null,null,"Colorado","Gilpin County",{"$f":"CONCATENATE(tLists4[[#This Row],[State]],\", \",tLists4[[#This Row],[County]])","v":"Colorado, Gilpin County"},3,null,null,null,null,null,null,null,null,null,null,null,null,null,null,null,null,null,null,null,null,null,null,null,null,null,null,null,null,null,null,null,null,null,null,null,null,null,null,null,null,null,null,"Webb County"]
[null,null,null,null,null,null,null,null,null,null,null,null,null,"Colorado","Grand County",{"$f":"CONCATENATE(tLists4[[#This Row],[State]],\", \",tLists4[[#This Row],[County]])","v":"Colorado, Grand County"},3,null,null,null,null,null,null,null,null,null,null,null,null,null,null,null,null,null,null,null,null,null,null,null,null,null,null,null,null,null,null,null,null,null,null,null,null,null,null,null,null,null,null,"Wharton County"]
[null,null,null,null,null,null,null,null,null,null,null,null,null,"Colorado","Gunnison County",{"$f":"CONCATENATE(tLists4[[#This Row],[State]],\", \",tLists4[[#This Row],[County]])","v":"Colorado, Gunnison County"},3,null,null,null,null,null,null,null,null,null,null,null,null,null,null,null,null,null,null,null,null,null,null,null,null,null,null,null,null,null,null,null,null,null,null,null,null,null,null,null,null,null,null,"Wheeler County"]
[null,null,null,null,null,null,null,null,null,null,null,null,null,"Colorado","Hinsdale County",{"$f":"CONCATENATE(tLists4[[#This Row],[State]],\", \",tLists4[[#This Row],[County]])","v":"Colorado, Hinsdale County"},3,null,null,null,null,null,null,null,null,null,null,null,null,null,null,null,null,null,null,null,null,null,null,null,null,null,null,null,null,null,null,null,null,null,null,null,null,null,null,null,null,null,null,"Wichita County"]
[null,null,null,null,null,null,null,null,null,null,null,null,null,"Colorado","Huerfano County",{"$f":"CONCATENATE(tLists4[[#This Row],[State]],\", \",tLists4[[#This Row],[County]])","v":"Colorado, Huerfano County"},3,null,null,null,null,null,null,null,null,null,null,null,null,null,null,null,null,null,null,null,null,null,null,null,null,null,null,null,null,null,null,null,null,null,null,null,null,null,null,null,null,null,null,"Wilbarger County"]
[null,null,null,null,null,null,null,null,null,null,null,null,null,"Colorado","Jackson County",{"$f":"CONCATENATE(tLists4[[#This Row],[State]],\", \",tLists4[[#This Row],[County]])","v":"Colorado, Jackson County"},3,null,null,null,null,null,null,null,null,null,null,null,null,null,null,null,null,null,null,null,null,null,null,null,null,null,null,null,null,null,null,null,null,null,null,null,null,null,null,null,null,null,null,"Willacy County"]
[null,null,null,null,null,null,null,null,null,null,null,null,null,"Colorado","Jefferson County",{"$f":"CONCATENATE(tLists4[[#This Row],[State]],\", \",tLists4[[#This Row],[County]])","v":"Colorado, Jefferson County"},3,null,null,null,null,null,null,null,null,null,null,null,null,null,null,null,null,null,null,null,null,null,null,null,null,null,null,null,null,null,null,null,null,null,null,null,null,null,null,null,null,null,null,"Williamson County"]
[null,null,null,null,null,null,null,null,null,null,null,null,null,"Colorado","Kiowa County",{"$f":"CONCATENATE(tLists4[[#This Row],[State]],\", \",tLists4[[#This Row],[County]])","v":"Colorado, Kiowa County"},3,null,null,null,null,null,null,null,null,null,null,null,null,null,null,null,null,null,null,null,null,null,null,null,null,null,null,null,null,null,null,null,null,null,null,null,null,null,null,null,null,null,null,"Wilson County"]
[null,null,null,null,null,null,null,null,null,null,null,null,null,"Colorado","Kit Carson County",{"$f":"CONCATENATE(tLists4[[#This Row],[State]],\", \",tLists4[[#This Row],[County]])","v":"Colorado, Kit Carson County"},3,null,null,null,null,null,null,null,null,null,null,null,null,null,null,null,null,null,null,null,null,null,null,null,null,null,null,null,null,null,null,null,null,null,null,null,null,null,null,null,null,null,null,"Winkler County"]
[null,null,null,null,null,null,null,null,null,null,null,null,null,"Colorado","La Plata County",{"$f":"CONCATENATE(tLists4[[#This Row],[State]],\", \",tLists4[[#This Row],[County]])","v":"Colorado, La Plata County"},3,null,null,null,null,null,null,null,null,null,null,null,null,null,null,null,null,null,null,null,null,null,null,null,null,null,null,null,null,null,null,null,null,null,null,null,null,null,null,null,null,null,null,"Wise County"]
[null,null,null,null,null,null,null,null,null,null,null,null,null,"Colorado","Lake County",{"$f":"CONCATENATE(tLists4[[#This Row],[State]],\", \",tLists4[[#This Row],[County]])","v":"Colorado, Lake County"},3,null,null,null,null,null,null,null,null,null,null,null,null,null,null,null,null,null,null,null,null,null,null,null,null,null,null,null,null,null,null,null,null,null,null,null,null,null,null,null,null,null,null,"Wood County"]
[null,null,null,null,null,null,null,null,null,null,null,null,null,"Colorado","Larimer County",{"$f":"CONCATENATE(tLists4[[#This Row],[State]],\", \",tLists4[[#This Row],[County]])","v":"Colorado, Larimer County"},3,null,null,null,null,null,null,null,null,null,null,null,null,null,null,null,null,null,null,null,null,null,null,null,null,null,null,null,null,null,null,null,null,null,null,null,null,null,null,null,null,null,null,"Yoakum County"]
[null,null,null,null,null,null,null,null,null,null,null,null,null,"Colorado","Las Animas County",{"$f":"CONCATENATE(tLists4[[#This Row],[State]],\", \",tLists4[[#This Row],[County]])","v":"Colorado, Las Animas County"},3,null,null,null,null,null,null,null,null,null,null,null,null,null,null,null,null,null,null,null,null,null,null,null,null,null,null,null,null,null,null,null,null,null,null,null,null,null,null,null,null,null,null,"Young County"]
[null,null,null,null,null,null,null,null,null,null,null,null,null,"Colorado","Lincoln County",{"$f":"CONCATENATE(tLists4[[#This Row],[State]],\", \",tLists4[[#This Row],[County]])","v":"Colorado, Lincoln County"},3,null,null,null,null,null,null,null,null,null,null,null,null,null,null,null,null,null,null,null,null,null,null,null,null,null,null,null,null,null,null,null,null,null,null,null,null,null,null,null,null,null,null,"Zapata County"]
[null,null,null,null,null,null,null,null,null,null,null,null,null,"Colorado","Logan County",{"$f":"CONCATENATE(tLists4[[#This Row],[State]],\", \",tLists4[[#This Row],[County]])","v":"Colorado, Logan County"},3,null,null,null,null,null,null,null,null,null,null,null,null,null,null,null,null,null,null,null,null,null,null,null,null,null,null,null,null,null,null,null,null,null,null,null,null,null,null,null,null,null,null,"Zavala County"]
[null,null,null,null,null,null,null,null,null,null,null,null,null,"Colorado","Mesa County",{"$f":"CONCATENATE(tLists4[[#This Row],[State]],\", \",tLists4[[#This Row],[County]])","v":"Colorado, Mesa County"},6]
[null,null,null,null,null,null,null,null,null,null,null,null,null,"Colorado","Mineral County",{"$f":"CONCATENATE(tLists4[[#This Row],[State]],\", \",tLists4[[#This Row],[County]])","v":"Colorado, Mineral County"},3]
[null,null,null,null,null,null,null,null,null,null,null,null,null,"Colorado","Moffat County",{"$f":"CONCATENATE(tLists4[[#This Row],[State]],\", \",tLists4[[#This Row],[County]])","v":"Colorado, Moffat County"},3]
[null,null,null,null,null,null,null,null,null,null,null,null,null,"Colorado","Montezuma County",{"$f":"CONCATENATE(tLists4[[#This Row],[State]],\", \",tLists4[[#This Row],[County]])","v":"Colorado, Montezuma County"},3]
[null,null,null,null,null,null,null,null,null,null,null,null,null,"Colorado","Montrose County",{"$f":"CONCATENATE(tLists4[[#This Row],[State]],\", \",tLists4[[#This Row],[County]])","v":"Colorado, Montrose County"},6]
[null,null,null,null,null,null,null,null,null,null,null,null,null,"Colorado","Morgan County",{"$f":"CONCATENATE(tLists4[[#This Row],[State]],\", \",tLists4[[#This Row],[County]])","v":"Colorado, Morgan County"},3]
[null,null,null,null,null,null,null,null,null,null,null,null,null,"Colorado","Otero County",{"$f":"CONCATENATE(tLists4[[#This Row],[State]],\", \",tLists4[[#This Row],[County]])","v":"Colorado, Otero County"},3]
[null,null,null,null,null,null,null,null,null,null,null,null,null,"Colorado","Ouray County",{"$f":"CONCATENATE(tLists4[[#This Row],[State]],\", \",tLists4[[#This Row],[County]])","v":"Colorado, Ouray County"},3]
[null,null,null,null,null,null,null,null,null,null,null,null,null,"Colorado","Park County",{"$f":"CONCATENATE(tLists4[[#This Row],[State]],\", \",tLists4[[#This Row],[County]])","v":"Colorado, Park County"},3]
[null,null,null,null,null,null,null,null,null,null,null,null,null,"Colorado","Phillips County",{"$f":"CONCATENATE(tLists4[[#This Row],[State]],\", \",tLists4[[#This Row],[County]])","v":"Colorado, Phillips County"},3]
[null,null,null,null,null,null,null,null,null,null,null,null,null,"Colorado","Pitkin County",{"$f":"CONCATENATE(tLists4[[#This Row],[State]],\", \",tLists4[[#This Row],[County]])","v":"Colorado, Pitkin County"},3]
[null,null,null,null,null,null,null,null,null,null,null,null,null,"Colorado","Prowers County",{"$f":"CONCATENATE(tLists4[[#This Row],[State]],\", \",tLists4[[#This Row],[County]])","v":"Colorado, Prowers County"},3]
[null,null,null,null,null,null,null,null,null,null,null,null,null,"Colorado","Pueblo County",{"$f":"CONCATENATE(tLists4[[#This Row],[State]],\", \",tLists4[[#This Row],[County]])","v":"Colorado, Pueblo County"},3]
[null,null,null,null,null,null,null,null,null,null,null,null,null,"Colorado","Rio Blanco County",{"$f":"CONCATENATE(tLists4[[#This Row],[State]],\", \",tLists4[[#This Row],[County]])","v":"Colorado, Rio Blanco County"},3]
[null,null,null,null,null,null,null,null,null,null,null,null,null,"Colorado","Rio Grande County",{"$f":"CONCATENATE(tLists4[[#This Row],[State]],\", \",tLists4[[#This Row],[County]])","v":"Colorado, Rio Grande County"},3]
[null,null,null,null,null,null,null,null,null,null,null,null,null,"Colorado","Routt County",{"$f":"CONCATENATE(tLists4[[#This Row],[State]],\", \",tLists4[[#This Row],[County]])","v":"Colorado, Routt County"},3]
[null,null,null,null,null,null,null,null,null,null,null,null,null,"Colorado","Saguache County",{"$f":"CONCATENATE(tLists4[[#This Row],[State]],\", \",tLists4[[#This Row],[County]])","v":"Colorado, Saguache County"},3]
[null,null,null,null,null,null,null,null,null,null,null,null,null,"Colorado","San Juan County",{"$f":"CONCATENATE(tLists4[[#This Row],[State]],\", \",tLists4[[#This Row],[County]])","v":"Colorado, San Juan County"},3]
[null,null,null,null,null,null,null,null,null,null,null,null,null,"Colorado","San Miguel County",{"$f":"CONCATENATE(tLists4[[#This Row],[State]],\", \",tLists4[[#This Row],[County]])","v":"Colorado, San Miguel County"},6]
[null,null,null,null,null,null,null,null,null,null,null,null,null,"Colorado","Sedgwick County",{"$f":"CONCATENATE(tLists4[[#This Row],[State]],\", \",tLists4[[#This Row],[County]])","v":"Colorado, Sedgwick County"},3]
[null,null,null,null,null,null,null,null,null,null,null,null,null,"Colorado","Summit County",{"$f":"CONCATENATE(tLists4[[#This Row],[State]],\", \",tLists4[[#This Row],[County]])","v":"Colorado, Summit County"},3]
[null,null,null,null,null,null,null,null,null,null,null,null,null,"Colorado","Teller County",{"$f":"CONCATENATE(tLists4[[#This Row],[State]],\", \",tLists4[[#This Row],[County]])","v":"Colorado, Teller County"},3]
[null,null,null,null,null,null,null,null,null,null,null,null,null,"Colorado","Washington County",{"$f":"CONCATENATE(tLists4[[#This Row],[State]],\", \",tLists4[[#This Row],[County]])","v":"Colorado, Washington County"},3]
[null,null,null,null,null,null,null,null,null,null,null,null,null,"Colorado","Weld County",{"$f":"CONCATENATE(tLists4[[#This Row],[State]],\", \",tLists4[[#This Row],[County]])","v":"Colorado, Weld County"},3]
[null,null,null,null,null,null,null,null,null,null,null,null,null,"Colorado","Yuma County",{"$f":"CONCATENATE(tLists4[[#This Row],[State]],\", \",tLists4[[#This Row],[County]])","v":"Colorado, Yuma County"},3]
[null,null,null,null,null,null,null,null,null,null,null,null,null,"Connecticut","Capitol Planning Region",{"$f":"CONCATENATE(tLists4[[#This Row],[State]],\", \",tLists4[[#This Row],[County]])","v":"Connecticut, Capitol Planning Region"},2]
[null,null,null,null,null,null,null,null,null,null,null,null,null,"Connecticut","Greater Bridgeport Planning Region",{"$f":"CONCATENATE(tLists4[[#This Row],[State]],\", \",tLists4[[#This Row],[County]])","v":"Connecticut, Greater Bridgeport Planning Region"},2]
[null,null,null,null,null,null,null,null,null,null,null,null,null,"Connecticut","Lower Connecticut River Valley Planning Region",{"$f":"CONCATENATE(tLists4[[#This Row],[State]],\", \",tLists4[[#This Row],[County]])","v":"Connecticut, Lower Connecticut River Valley Planning Region"},"Not Eligible for Credit"]
[null,null,null,null,null,null,null,null,null,null,null,null,null,"Connecticut","Naugatuck Valley Planning Region",{"$f":"CONCATENATE(tLists4[[#This Row],[State]],\", \",tLists4[[#This Row],[County]])","v":"Connecticut, Naugatuck Valley Planning Region"},"Not Eligible for Credit"]
[null,null,null,null,null,null,null,null,null,null,null,null,null,"Connecticut","Northeastern Connecticut Planning Region",{"$f":"CONCATENATE(tLists4[[#This Row],[State]],\", \",tLists4[[#This Row],[County]])","v":"Connecticut, Northeastern Connecticut Planning Region"},2]
[null,null,null,null,null,null,null,null,null,null,null,null,null,"Connecticut","Northwest Hills Planning Region",{"$f":"CONCATENATE(tLists4[[#This Row],[State]],\", \",tLists4[[#This Row],[County]])","v":"Connecticut, Northwest Hills Planning Region"},2]
[null,null,null,null,null,null,null,null,null,null,null,null,null,"Connecticut","South Central Connecticut Planning Region",{"$f":"CONCATENATE(tLists4[[#This Row],[State]],\", \",tLists4[[#This Row],[County]])","v":"Connecticut, South Central Connecticut Planning Region"},"Not Eligible for Credit"]
[null,null,null,null,null,null,null,null,null,null,null,null,null,"Connecticut","Southeastern Connecticut Planning Region",{"$f":"CONCATENATE(tLists4[[#This Row],[State]],\", \",tLists4[[#This Row],[County]])","v":"Connecticut, Southeastern Connecticut Planning Region"},"Not Eligible for Credit"]
[null,null,null,null,null,null,null,null,null,null,null,null,null,"Connecticut","Western Connecticut Planning Region",{"$f":"CONCATENATE(tLists4[[#This Row],[State]],\", \",tLists4[[#This Row],[County]])","v":"Connecticut, Western Connecticut Planning Region"},2]
[null,null,null,null,null,null,null,null,null,null,null,null,null,"Delaware","Kent County",{"$f":"CONCATENATE(tLists4[[#This Row],[State]],\", \",tLists4[[#This Row],[County]])","v":"Delaware, Kent County"},"Not Eligible for Credit"]
[null,null,null,null,null,null,null,null,null,null,null,null,null,"Delaware","New Castle County",{"$f":"CONCATENATE(tLists4[[#This Row],[State]],\", \",tLists4[[#This Row],[County]])","v":"Delaware, New Castle County"},"Not Eligible for Credit"]
[null,null,null,null,null,null,null,null,null,null,null,null,null,"Delaware","Sussex County",{"$f":"CONCATENATE(tLists4[[#This Row],[State]],\", \",tLists4[[#This Row],[County]])","v":"Delaware, Sussex County"},"Not Eligible for Credit"]
[null,null,null,null,null,null,null,null,null,null,null,null,null,"District_of_Columbia","District of Columbia",{"$f":"CONCATENATE(tLists4[[#This Row],[State]],\", \",tLists4[[#This Row],[County]])","v":"District_of_Columbia, District of Columbia"},2]
[null,null,null,null,null,null,null,null,null,null,null,null,null,"Florida","Alachua County",{"$f":"CONCATENATE(tLists4[[#This Row],[State]],\", \",tLists4[[#This Row],[County]])","v":"Florida, Alachua County"},2]
[null,null,null,null,null,null,null,null,null,null,null,null,null,"Florida","Baker County",{"$f":"CONCATENATE(tLists4[[#This Row],[State]],\", \",tLists4[[#This Row],[County]])","v":"Florida, Baker County"},2]
[null,null,null,null,null,null,null,null,null,null,null,null,null,"Florida","Bay County",{"$f":"CONCATENATE(tLists4[[#This Row],[State]],\", \",tLists4[[#This Row],[County]])","v":"Florida, Bay County"},3]
[null,null,null,null,null,null,null,null,null,null,null,null,null,"Florida","Bradford County",{"$f":"CONCATENATE(tLists4[[#This Row],[State]],\", \",tLists4[[#This Row],[County]])","v":"Florida, Bradford County"},2]
[null,null,null,null,null,null,null,null,null,null,null,null,null,"Florida","Brevard County",{"$f":"CONCATENATE(tLists4[[#This Row],[State]],\", \",tLists4[[#This Row],[County]])","v":"Florida, Brevard County"},3]
[null,null,null,null,null,null,null,null,null,null,null,null,null,"Florida","Broward County",{"$f":"CONCATENATE(tLists4[[#This Row],[State]],\", \",tLists4[[#This Row],[County]])","v":"Florida, Broward County"},3]
[null,null,null,null,null,null,null,null,null,null,null,null,null,"Florida","Calhoun County",{"$f":"CONCATENATE(tLists4[[#This Row],[State]],\", \",tLists4[[#This Row],[County]])","v":"Florida, Calhoun County"},"Not Eligible for Credit"]
[null,null,null,null,null,null,null,null,null,null,null,null,null,"Florida","Charlotte County",{"$f":"CONCATENATE(tLists4[[#This Row],[State]],\", \",tLists4[[#This Row],[County]])","v":"Florida, Charlotte County"},3]
[null,null,null,null,null,null,null,null,null,null,null,null,null,"Florida","Citrus County",{"$f":"CONCATENATE(tLists4[[#This Row],[State]],\", \",tLists4[[#This Row],[County]])","v":"Florida, Citrus County"},3]
[null,null,null,null,null,null,null,null,null,null,null,null,null,"Florida","Clay County",{"$f":"CONCATENATE(tLists4[[#This Row],[State]],\", \",tLists4[[#This Row],[County]])","v":"Florida, Clay County"},2]
[null,null,null,null,null,null,null,null,null,null,null,null,null,"Florida","Collier County",{"$f":"CONCATENATE(tLists4[[#This Row],[State]],\", \",tLists4[[#This Row],[County]])","v":"Florida, Collier County"},3]
[null,null,null,null,null,null,null,null,null,null,null,null,null,"Florida","Columbia County",{"$f":"CONCATENATE(tLists4[[#This Row],[State]],\", \",tLists4[[#This Row],[County]])","v":"Florida, Columbia County"},2]
[null,null,null,null,null,null,null,null,null,null,null,null,null,"Florida","DeSoto County",{"$f":"CONCATENATE(tLists4[[#This Row],[State]],\", \",tLists4[[#This Row],[County]])","v":"Florida, DeSoto County"},3]
[null,null,null,null,null,null,null,null,null,null,null,null,null,"Florida","Dixie County",{"$f":"CONCATENATE(tLists4[[#This Row],[State]],\", \",tLists4[[#This Row],[County]])","v":"Florida, Dixie County"},2]
[null,null,null,null,null,null,null,null,null,null,null,null,null,"Florida","Duval County",{"$f":"CONCATENATE(tLists4[[#This Row],[State]],\", \",tLists4[[#This Row],[County]])","v":"Florida, Duval County"},2]
[null,null,null,null,null,null,null,null,null,null,null,null,null,"Florida","Escambia County",{"$f":"CONCATENATE(tLists4[[#This Row],[State]],\", \",tLists4[[#This Row],[County]])","v":"Florida, Escambia County"},"Not Eligible for Credit"]
[null,null,null,null,null,null,null,null,null,null,null,null,null,"Florida","Flagler County",{"$f":"CONCATENATE(tLists4[[#This Row],[State]],\", \",tLists4[[#This Row],[County]])","v":"Florida, Flagler County"},2]
[null,null,null,null,null,null,null,null,null,null,null,null,null,"Florida","Franklin County",{"$f":"CONCATENATE(tLists4[[#This Row],[State]],\", \",tLists4[[#This Row],[County]])","v":"Florida, Franklin County"},3]
[null,null,null,null,null,null,null,null,null,null,null,null,null,"Florida","Gadsden County",{"$f":"CONCATENATE(tLists4[[#This Row],[State]],\", \",tLists4[[#This Row],[County]])","v":"Florida, Gadsden County"},2]
[null,null,null,null,null,null,null,null,null,null,null,null,null,"Florida","Gilchrist County",{"$f":"CONCATENATE(tLists4[[#This Row],[State]],\", \",tLists4[[#This Row],[County]])","v":"Florida, Gilchrist County"},3]
[null,null,null,null,null,null,null,null,null,null,null,null,null,"Florida","Glades County",{"$f":"CONCATENATE(tLists4[[#This Row],[State]],\", \",tLists4[[#This Row],[County]])","v":"Florida, Glades County"},3]
[null,null,null,null,null,null,null,null,null,null,null,null,null,"Florida","Gulf County",{"$f":"CONCATENATE(tLists4[[#This Row],[State]],\", \",tLists4[[#This Row],[County]])","v":"Florida, Gulf County"},2]
[null,null,null,null,null,null,null,null,null,null,null,null,null,"Florida","Hamilton County",{"$f":"CONCATENATE(tLists4[[#This Row],[State]],\", \",tLists4[[#This Row],[County]])","v":"Florida, Hamilton County"},"Not Eligible for Credit"]
[null,null,null,null,null,null,null,null,null,null,null,null,null,"Florida","Hardee County",{"$f":"CONCATENATE(tLists4[[#This Row],[State]],\", \",tLists4[[#This Row],[County]])","v":"Florida, Hardee County"},3]
[null,null,null,null,null,null,null,null,null,null,null,null,null,"Florida","Hendry County",{"$f":"CONCATENATE(tLists4[[#This Row],[State]],\", \",tLists4[[#This Row],[County]])","v":"Florida, Hendry County"},3]
[null,null,null,null,null,null,null,null,null,null,null,null,null,"Florida","Hernando County",{"$f":"CONCATENATE(tLists4[[#This Row],[State]],\", \",tLists4[[#This Row],[County]])","v":"Florida, Hernando County"},2]
[null,null,null,null,null,null,null,null,null,null,null,null,null,"Florida","Highlands County",{"$f":"CONCATENATE(tLists4[[#This Row],[State]],\", \",tLists4[[#This Row],[County]])","v":"Florida, Highlands County"},3]
[null,null,null,null,null,null,null,null,null,null,null,null,null,"Florida","Hillsborough County",{"$f":"CONCATENATE(tLists4[[#This Row],[State]],\", \",tLists4[[#This Row],[County]])","v":"Florida, Hillsborough County"},3]
[null,null,null,null,null,null,null,null,null,null,null,null,null,"Florida","Holmes County",{"$f":"CONCATENATE(tLists4[[#This Row],[State]],\", \",tLists4[[#This Row],[County]])","v":"Florida, Holmes County"},2]
[null,null,null,null,null,null,null,null,null,null,null,null,null,"Florida","Indian River County",{"$f":"CONCATENATE(tLists4[[#This Row],[State]],\", \",tLists4[[#This Row],[County]])","v":"Florida, Indian River County"},2]
[null,null,null,null,null,null,null,null,null,null,null,null,null,"Florida","Jackson County",{"$f":"CONCATENATE(tLists4[[#This Row],[State]],\", \",tLists4[[#This Row],[County]])","v":"Florida, Jackson County"},2]
[null,null,null,null,null,null,null,null,null,null,null,null,null,"Florida","Jefferson County",{"$f":"CONCATENATE(tLists4[[#This Row],[State]],\", \",tLists4[[#This Row],[County]])","v":"Florida, Jefferson County"},2]
[null,null,null,null,null,null,null,null,null,null,null,null,null,"Florida","Lafayette County",{"$f":"CONCATENATE(tLists4[[#This Row],[State]],\", \",tLists4[[#This Row],[County]])","v":"Florida, Lafayette County"},2]
[null,null,null,null,null,null,null,null,null,null,null,null,null,"Florida","Lake County",{"$f":"CONCATENATE(tLists4[[#This Row],[State]],\", \",tLists4[[#This Row],[County]])","v":"Florida, Lake County"},3]
[null,null,null,null,null,null,null,null,null,null,null,null,null,"Florida","Lee County",{"$f":"CONCATENATE(tLists4[[#This Row],[State]],\", \",tLists4[[#This Row],[County]])","v":"Florida, Lee County"},3]
[null,null,null,null,null,null,null,null,null,null,null,null,null,"Florida","Leon County",{"$f":"CONCATENATE(tLists4[[#This Row],[State]],\", \",tLists4[[#This Row],[County]])","v":"Florida, Leon County"},2]
[null,null,null,null,null,null,null,null,null,null,null,null,null,"Florida","Levy County",{"$f":"CONCATENATE(tLists4[[#This Row],[State]],\", \",tLists4[[#This Row],[County]])","v":"Florida, Levy County"},2]
[null,null,null,null,null,null,null,null,null,null,null,null,null,"Florida","Liberty County",{"$f":"CONCATENATE(tLists4[[#This Row],[State]],\", \",tLists4[[#This Row],[County]])","v":"Florida, Liberty County"},2]
[null,null,null,null,null,null,null,null,null,null,null,null,null,"Florida","Madison County",{"$f":"CONCATENATE(tLists4[[#This Row],[State]],\", \",tLists4[[#This Row],[County]])","v":"Florida, Madison County"},2]
[null,null,null,null,null,null,null,null,null,null,null,null,null,"Florida","Manatee County",{"$f":"CONCATENATE(tLists4[[#This Row],[State]],\", \",tLists4[[#This Row],[County]])","v":"Florida, Manatee County"},3]
[null,null,null,null,null,null,null,null,null,null,null,null,null,"Florida","Marion County",{"$f":"CONCATENATE(tLists4[[#This Row],[State]],\", \",tLists4[[#This Row],[County]])","v":"Florida, Marion County"},3]
[null,null,null,null,null,null,null,null,null,null,null,null,null,"Florida","Martin County",{"$f":"CONCATENATE(tLists4[[#This Row],[State]],\", \",tLists4[[#This Row],[County]])","v":"Florida, Martin County"},2]
[null,null,null,null,null,null,null,null,null,null,null,null,null,"Florida","Miami-Dade County",{"$f":"CONCATENATE(tLists4[[#This Row],[State]],\", \",tLists4[[#This Row],[County]])","v":"Florida, Miami-Dade County"},2]
[null,null,null,null,null,null,null,null,null,null,null,null,null,"Florida","Monroe County",{"$f":"CONCATENATE(tLists4[[#This Row],[State]],\", \",tLists4[[#This Row],[County]])","v":"Florida, Monroe County"},2]
[null,null,null,null,null,null,null,null,null,null,null,null,null,"Florida","Nassau County",{"$f":"CONCATENATE(tLists4[[#This Row],[State]],\", \",tLists4[[#This Row],[County]])","v":"Florida, Nassau County"},2]
[null,null,null,null,null,null,null,null,null,null,null,null,null,"Florida","Okaloosa County",{"$f":"CONCATENATE(tLists4[[#This Row],[State]],\", \",tLists4[[#This Row],[County]])","v":"Florida, Okaloosa County"},2]
[null,null,null,null,null,null,null,null,null,null,null,null,null,"Florida","Okeechobee County",{"$f":"CONCATENATE(tLists4[[#This Row],[State]],\", \",tLists4[[#This Row],[County]])","v":"Florida, Okeechobee County"},3]
[null,null,null,null,null,null,null,null,null,null,null,null,null,"Florida","Orange County",{"$f":"CONCATENATE(tLists4[[#This Row],[State]],\", \",tLists4[[#This Row],[County]])","v":"Florida, Orange County"},3]
[null,null,null,null,null,null,null,null,null,null,null,null,null,"Florida","Osceola County",{"$f":"CONCATENATE(tLists4[[#This Row],[State]],\", \",tLists4[[#This Row],[County]])","v":"Florida, Osceola County"},3]
[null,null,null,null,null,null,null,null,null,null,null,null,null,"Florida","Palm Beach County",{"$f":"CONCATENATE(tLists4[[#This Row],[State]],\", \",tLists4[[#This Row],[County]])","v":"Florida, Palm Beach County"},3]
[null,null,null,null,null,null,null,null,null,null,null,null,null,"Florida","Pasco County",{"$f":"CONCATENATE(tLists4[[#This Row],[State]],\", \",tLists4[[#This Row],[County]])","v":"Florida, Pasco County"},2]
[null,null,null,null,null,null,null,null,null,null,null,null,null,"Florida","Pinellas County",{"$f":"CONCATENATE(tLists4[[#This Row],[State]],\", \",tLists4[[#This Row],[County]])","v":"Florida, Pinellas County"},3]
[null,null,null,null,null,null,null,null,null,null,null,null,null,"Florida","Polk County",{"$f":"CONCATENATE(tLists4[[#This Row],[State]],\", \",tLists4[[#This Row],[County]])","v":"Florida, Polk County"},3]
[null,null,null,null,null,null,null,null,null,null,null,null,null,"Florida","Putnam County",{"$f":"CONCATENATE(tLists4[[#This Row],[State]],\", \",tLists4[[#This Row],[County]])","v":"Florida, Putnam County"},3]
[null,null,null,null,null,null,null,null,null,null,null,null,null,"Florida","Santa Rosa County",{"$f":"CONCATENATE(tLists4[[#This Row],[State]],\", \",tLists4[[#This Row],[County]])","v":"Florida, Santa Rosa County"},2]
[null,null,null,null,null,null,null,null,null,null,null,null,null,"Florida","Sarasota County",{"$f":"CONCATENATE(tLists4[[#This Row],[State]],\", \",tLists4[[#This Row],[County]])","v":"Florida, Sarasota County"},3]
[null,null,null,null,null,null,null,null,null,null,null,null,null,"Florida","Seminole County",{"$f":"CONCATENATE(tLists4[[#This Row],[State]],\", \",tLists4[[#This Row],[County]])","v":"Florida, Seminole County"},2]
[null,null,null,null,null,null,null,null,null,null,null,null,null,"Florida","St. Johns County",{"$f":"CONCATENATE(tLists4[[#This Row],[State]],\", \",tLists4[[#This Row],[County]])","v":"Florida, St. Johns County"},2]
[null,null,null,null,null,null,null,null,null,null,null,null,null,"Florida","St. Lucie County",{"$f":"CONCATENATE(tLists4[[#This Row],[State]],\", \",tLists4[[#This Row],[County]])","v":"Florida, St. Lucie County"},2]
[null,null,null,null,null,null,null,null,null,null,null,null,null,"Florida","Sumter County",{"$f":"CONCATENATE(tLists4[[#This Row],[State]],\", \",tLists4[[#This Row],[County]])","v":"Florida, Sumter County"},3]
[null,null,null,null,null,null,null,null,null,null,null,null,null,"Florida","Suwannee County",{"$f":"CONCATENATE(tLists4[[#This Row],[State]],\", \",tLists4[[#This Row],[County]])","v":"Florida, Suwannee County"},2]
[null,null,null,null,null,null,null,null,null,null,null,null,null,"Florida","Taylor County",{"$f":"CONCATENATE(tLists4[[#This Row],[State]],\", \",tLists4[[#This Row],[County]])","v":"Florida, Taylor County"},2]
[null,null,null,null,null,null,null,null,null,null,null,null,null,"Florida","Union County",{"$f":"CONCATENATE(tLists4[[#This Row],[State]],\", \",tLists4[[#This Row],[County]])","v":"Florida, Union County"},2]
[null,null,null,null,null,null,null,null,null,null,null,null,null,"Florida","Volusia County",{"$f":"CONCATENATE(tLists4[[#This Row],[State]],\", \",tLists4[[#This Row],[County]])","v":"Florida, Volusia County"},3]
[null,null,null,null,null,null,null,null,null,null,null,null,null,"Florida","Wakulla County",{"$f":"CONCATENATE(tLists4[[#This Row],[State]],\", \",tLists4[[#This Row],[County]])","v":"Florida, Wakulla County"},2]
[null,null,null,null,null,null,null,null,null,null,null,null,null,"Florida","Walton County",{"$f":"CONCATENATE(tLists4[[#This Row],[State]],\", \",tLists4[[#This Row],[County]])","v":"Florida, Walton County"},2]
[null,null,null,null,null,null,null,null,null,null,null,null,null,"Florida","Washington County",{"$f":"CONCATENATE(tLists4[[#This Row],[State]],\", \",tLists4[[#This Row],[County]])","v":"Florida, Washington County"},2]
[null,null,null,null,null,null,null,null,null,null,null,null,null,"Georgia","Appling County",{"$f":"CONCATENATE(tLists4[[#This Row],[State]],\", \",tLists4[[#This Row],[County]])","v":"Georgia, Appling County"},2]
[null,null,null,null,null,null,null,null,null,null,null,null,null,"Georgia","Atkinson County",{"$f":"CONCATENATE(tLists4[[#This Row],[State]],\", \",tLists4[[#This Row],[County]])","v":"Georgia, Atkinson County"},2]
[null,null,null,null,null,null,null,null,null,null,null,null,null,"Georgia","Bacon County",{"$f":"CONCATENATE(tLists4[[#This Row],[State]],\", \",tLists4[[#This Row],[County]])","v":"Georgia, Bacon County"},2]
[null,null,null,null,null,null,null,null,null,null,null,null,null,"Georgia","Baker County",{"$f":"CONCATENATE(tLists4[[#This Row],[State]],\", \",tLists4[[#This Row],[County]])","v":"Georgia, Baker County"},2]
[null,null,null,null,null,null,null,null,null,null,null,null,null,"Georgia","Baldwin County",{"$f":"CONCATENATE(tLists4[[#This Row],[State]],\", \",tLists4[[#This Row],[County]])","v":"Georgia, Baldwin County"},2]
[null,null,null,null,null,null,null,null,null,null,null,null,null,"Georgia","Banks County",{"$f":"CONCATENATE(tLists4[[#This Row],[State]],\", \",tLists4[[#This Row],[County]])","v":"Georgia, Banks County"},2]
[null,null,null,null,null,null,null,null,null,null,null,null,null,"Georgia","Barrow County",{"$f":"CONCATENATE(tLists4[[#This Row],[State]],\", \",tLists4[[#This Row],[County]])","v":"Georgia, Barrow County"},2]
[null,null,null,null,null,null,null,null,null,null,null,null,null,"Georgia","Bartow County",{"$f":"CONCATENATE(tLists4[[#This Row],[State]],\", \",tLists4[[#This Row],[County]])","v":"Georgia, Bartow County"},2]
[null,null,null,null,null,null,null,null,null,null,null,null,null,"Georgia","Ben Hill County",{"$f":"CONCATENATE(tLists4[[#This Row],[State]],\", \",tLists4[[#This Row],[County]])","v":"Georgia, Ben Hill County"},2]
[null,null,null,null,null,null,null,null,null,null,null,null,null,"Georgia","Berrien County",{"$f":"CONCATENATE(tLists4[[#This Row],[State]],\", \",tLists4[[#This Row],[County]])","v":"Georgia, Berrien County"},2]
[null,null,null,null,null,null,null,null,null,null,null,null,null,"Georgia","Bibb County",{"$f":"CONCATENATE(tLists4[[#This Row],[State]],\", \",tLists4[[#This Row],[County]])","v":"Georgia, Bibb County"},2]
[null,null,null,null,null,null,null,null,null,null,null,null,null,"Georgia","Bleckley County",{"$f":"CONCATENATE(tLists4[[#This Row],[State]],\", \",tLists4[[#This Row],[County]])","v":"Georgia, Bleckley County"},2]
[null,null,null,null,null,null,null,null,null,null,null,null,null,"Georgia","Brantley County",{"$f":"CONCATENATE(tLists4[[#This Row],[State]],\", \",tLists4[[#This Row],[County]])","v":"Georgia, Brantley County"},2]
[null,null,null,null,null,null,null,null,null,null,null,null,null,"Georgia","Brooks County",{"$f":"CONCATENATE(tLists4[[#This Row],[State]],\", \",tLists4[[#This Row],[County]])","v":"Georgia, Brooks County"},2]
[null,null,null,null,null,null,null,null,null,null,null,null,null,"Georgia","Bryan County",{"$f":"CONCATENATE(tLists4[[#This Row],[State]],\", \",tLists4[[#This Row],[County]])","v":"Georgia, Bryan County"},2]
[null,null,null,null,null,null,null,null,null,null,null,null,null,"Georgia","Bulloch County",{"$f":"CONCATENATE(tLists4[[#This Row],[State]],\", \",tLists4[[#This Row],[County]])","v":"Georgia, Bulloch County"},2]
[null,null,null,null,null,null,null,null,null,null,null,null,null,"Georgia","Burke County",{"$f":"CONCATENATE(tLists4[[#This Row],[State]],\", \",tLists4[[#This Row],[County]])","v":"Georgia, Burke County"},2]
[null,null,null,null,null,null,null,null,null,null,null,null,null,"Georgia","Butts County",{"$f":"CONCATENATE(tLists4[[#This Row],[State]],\", \",tLists4[[#This Row],[County]])","v":"Georgia, Butts County"},3]
[null,null,null,null,null,null,null,null,null,null,null,null,null,"Georgia","Calhoun County",{"$f":"CONCATENATE(tLists4[[#This Row],[State]],\", \",tLists4[[#This Row],[County]])","v":"Georgia, Calhoun County"},2]
[null,null,null,null,null,null,null,null,null,null,null,null,null,"Georgia","Camden County",{"$f":"CONCATENATE(tLists4[[#This Row],[State]],\", \",tLists4[[#This Row],[County]])","v":"Georgia, Camden County"},2]
[null,null,null,null,null,null,null,null,null,null,null,null,null,"Georgia","Candler County",{"$f":"CONCATENATE(tLists4[[#This Row],[State]],\", \",tLists4[[#This Row],[County]])","v":"Georgia, Candler County"},2]
[null,null,null,null,null,null,null,null,null,null,null,null,null,"Georgia","Carroll County",{"$f":"CONCATENATE(tLists4[[#This Row],[State]],\", \",tLists4[[#This Row],[County]])","v":"Georgia, Carroll County"},2]
[null,null,null,null,null,null,null,null,null,null,null,null,null,"Georgia","Catoosa County",{"$f":"CONCATENATE(tLists4[[#This Row],[State]],\", \",tLists4[[#This Row],[County]])","v":"Georgia, Catoosa County"},2]
[null,null,null,null,null,null,null,null,null,null,null,null,null,"Georgia","Charlton County",{"$f":"CONCATENATE(tLists4[[#This Row],[State]],\", \",tLists4[[#This Row],[County]])","v":"Georgia, Charlton County"},2]
[null,null,null,null,null,null,null,null,null,null,null,null,null,"Georgia","Chatham County",{"$f":"CONCATENATE(tLists4[[#This Row],[State]],\", \",tLists4[[#This Row],[County]])","v":"Georgia, Chatham County"},2]
[null,null,null,null,null,null,null,null,null,null,null,null,null,"Georgia","Chattahoochee County",{"$f":"CONCATENATE(tLists4[[#This Row],[State]],\", \",tLists4[[#This Row],[County]])","v":"Georgia, Chattahoochee County"},2]
[null,null,null,null,null,null,null,null,null,null,null,null,null,"Georgia","Chattooga County",{"$f":"CONCATENATE(tLists4[[#This Row],[State]],\", \",tLists4[[#This Row],[County]])","v":"Georgia, Chattooga County"},"Not Eligible for Credit"]
[null,null,null,null,null,null,null,null,null,null,null,null,null,"Georgia","Cherokee County",{"$f":"CONCATENATE(tLists4[[#This Row],[State]],\", \",tLists4[[#This Row],[County]])","v":"Georgia, Cherokee County"},3]
[null,null,null,null,null,null,null,null,null,null,null,null,null,"Georgia","Clarke County",{"$f":"CONCATENATE(tLists4[[#This Row],[State]],\", \",tLists4[[#This Row],[County]])","v":"Georgia, Clarke County"},2]
[null,null,null,null,null,null,null,null,null,null,null,null,null,"Georgia","Clay County",{"$f":"CONCATENATE(tLists4[[#This Row],[State]],\", \",tLists4[[#This Row],[County]])","v":"Georgia, Clay County"},2]
[null,null,null,null,null,null,null,null,null,null,null,null,null,"Georgia","Clayton County",{"$f":"CONCATENATE(tLists4[[#This Row],[State]],\", \",tLists4[[#This Row],[County]])","v":"Georgia, Clayton County"},2]
[null,null,null,null,null,null,null,null,null,null,null,null,null,"Georgia","Clinch County",{"$f":"CONCATENATE(tLists4[[#This Row],[State]],\", \",tLists4[[#This Row],[County]])","v":"Georgia, Clinch County"},2]
[null,null,null,null,null,null,null,null,null,null,null,null,null,"Georgia","Cobb County",{"$f":"CONCATENATE(tLists4[[#This Row],[State]],\", \",tLists4[[#This Row],[County]])","v":"Georgia, Cobb County"},3]
[null,null,null,null,null,null,null,null,null,null,null,null,null,"Georgia","Coffee County",{"$f":"CONCATENATE(tLists4[[#This Row],[State]],\", \",tLists4[[#This Row],[County]])","v":"Georgia, Coffee County"},2]
[null,null,null,null,null,null,null,null,null,null,null,null,null,"Georgia","Colquitt County",{"$f":"CONCATENATE(tLists4[[#This Row],[State]],\", \",tLists4[[#This Row],[County]])","v":"Georgia, Colquitt County"},2]
[null,null,null,null,null,null,null,null,null,null,null,null,null,"Georgia","Columbia County",{"$f":"CONCATENATE(tLists4[[#This Row],[State]],\", \",tLists4[[#This Row],[County]])","v":"Georgia, Columbia County"},2]
[null,null,null,null,null,null,null,null,null,null,null,null,null,"Georgia","Cook County",{"$f":"CONCATENATE(tLists4[[#This Row],[State]],\", \",tLists4[[#This Row],[County]])","v":"Georgia, Cook County"},2]
[null,null,null,null,null,null,null,null,null,null,null,null,null,"Georgia","Coweta County",{"$f":"CONCATENATE(tLists4[[#This Row],[State]],\", \",tLists4[[#This Row],[County]])","v":"Georgia, Coweta County"},3]
[null,null,null,null,null,null,null,null,null,null,null,null,null,"Georgia","Crawford County",{"$f":"CONCATENATE(tLists4[[#This Row],[State]],\", \",tLists4[[#This Row],[County]])","v":"Georgia, Crawford County"},3]
[null,null,null,null,null,null,null,null,null,null,null,null,null,"Georgia","Crisp County",{"$f":"CONCATENATE(tLists4[[#This Row],[State]],\", \",tLists4[[#This Row],[County]])","v":"Georgia, Crisp County"},2]
[null,null,null,null,null,null,null,null,null,null,null,null,null,"Georgia","Dade County",{"$f":"CONCATENATE(tLists4[[#This Row],[State]],\", \",tLists4[[#This Row],[County]])","v":"Georgia, Dade County"},2]
[null,null,null,null,null,null,null,null,null,null,null,null,null,"Georgia","Dawson County",{"$f":"CONCATENATE(tLists4[[#This Row],[State]],\", \",tLists4[[#This Row],[County]])","v":"Georgia, Dawson County"},2]
[null,null,null,null,null,null,null,null,null,null,null,null,null,"Georgia","Decatur County",{"$f":"CONCATENATE(tLists4[[#This Row],[State]],\", \",tLists4[[#This Row],[County]])","v":"Georgia, Decatur County"},2]
[null,null,null,null,null,null,null,null,null,null,null,null,null,"Georgia","DeKalb County",{"$f":"CONCATENATE(tLists4[[#This Row],[State]],\", \",tLists4[[#This Row],[County]])","v":"Georgia, DeKalb County"},3]
[null,null,null,null,null,null,null,null,null,null,null,null,null,"Georgia","Dodge County",{"$f":"CONCATENATE(tLists4[[#This Row],[State]],\", \",tLists4[[#This Row],[County]])","v":"Georgia, Dodge County"},2]
[null,null,null,null,null,null,null,null,null,null,null,null,null,"Georgia","Dooly County",{"$f":"CONCATENATE(tLists4[[#This Row],[State]],\", \",tLists4[[#This Row],[County]])","v":"Georgia, Dooly County"},2]
[null,null,null,null,null,null,null,null,null,null,null,null,null,"Georgia","Dougherty County",{"$f":"CONCATENATE(tLists4[[#This Row],[State]],\", \",tLists4[[#This Row],[County]])","v":"Georgia, Dougherty County"},2]
[null,null,null,null,null,null,null,null,null,null,null,null,null,"Georgia","Douglas County",{"$f":"CONCATENATE(tLists4[[#This Row],[State]],\", \",tLists4[[#This Row],[County]])","v":"Georgia, Douglas County"},2]
[null,null,null,null,null,null,null,null,null,null,null,null,null,"Georgia","Early County",{"$f":"CONCATENATE(tLists4[[#This Row],[State]],\", \",tLists4[[#This Row],[County]])","v":"Georgia, Early County"},2]
[null,null,null,null,null,null,null,null,null,null,null,null,null,"Georgia","Echols County",{"$f":"CONCATENATE(tLists4[[#This Row],[State]],\", \",tLists4[[#This Row],[County]])","v":"Georgia, Echols County"},2]
[null,null,null,null,null,null,null,null,null,null,null,null,null,"Georgia","Effingham County",{"$f":"CONCATENATE(tLists4[[#This Row],[State]],\", \",tLists4[[#This Row],[County]])","v":"Georgia, Effingham County"},2]
[null,null,null,null,null,null,null,null,null,null,null,null,null,"Georgia","Elbert County",{"$f":"CONCATENATE(tLists4[[#This Row],[State]],\", \",tLists4[[#This Row],[County]])","v":"Georgia, Elbert County"},2]
[null,null,null,null,null,null,null,null,null,null,null,null,null,"Georgia","Emanuel County",{"$f":"CONCATENATE(tLists4[[#This Row],[State]],\", \",tLists4[[#This Row],[County]])","v":"Georgia, Emanuel County"},2]
[null,null,null,null,null,null,null,null,null,null,null,null,null,"Georgia","Evans County",{"$f":"CONCATENATE(tLists4[[#This Row],[State]],\", \",tLists4[[#This Row],[County]])","v":"Georgia, Evans County"},2]
[null,null,null,null,null,null,null,null,null,null,null,null,null,"Georgia","Fannin County",{"$f":"CONCATENATE(tLists4[[#This Row],[State]],\", \",tLists4[[#This Row],[County]])","v":"Georgia, Fannin County"},2]
[null,null,null,null,null,null,null,null,null,null,null,null,null,"Georgia","Fayette County",{"$f":"CONCATENATE(tLists4[[#This Row],[State]],\", \",tLists4[[#This Row],[County]])","v":"Georgia, Fayette County"},2]
[null,null,null,null,null,null,null,null,null,null,null,null,null,"Georgia","Floyd County",{"$f":"CONCATENATE(tLists4[[#This Row],[State]],\", \",tLists4[[#This Row],[County]])","v":"Georgia, Floyd County"},2]
[null,null,null,null,null,null,null,null,null,null,null,null,null,"Georgia","Forsyth County",{"$f":"CONCATENATE(tLists4[[#This Row],[State]],\", \",tLists4[[#This Row],[County]])","v":"Georgia, Forsyth County"},2]
[null,null,null,null,null,null,null,null,null,null,null,null,null,"Georgia","Franklin County",{"$f":"CONCATENATE(tLists4[[#This Row],[State]],\", \",tLists4[[#This Row],[County]])","v":"Georgia, Franklin County"},2]
[null,null,null,null,null,null,null,null,null,null,null,null,null,"Georgia","Fulton County",{"$f":"CONCATENATE(tLists4[[#This Row],[State]],\", \",tLists4[[#This Row],[County]])","v":"Georgia, Fulton County"},3]
[null,null,null,null,null,null,null,null,null,null,null,null,null,"Georgia","Gilmer County",{"$f":"CONCATENATE(tLists4[[#This Row],[State]],\", \",tLists4[[#This Row],[County]])","v":"Georgia, Gilmer County"},2]
[null,null,null,null,null,null,null,null,null,null,null,null,null,"Georgia","Glascock County",{"$f":"CONCATENATE(tLists4[[#This Row],[State]],\", \",tLists4[[#This Row],[County]])","v":"Georgia, Glascock County"},2]
[null,null,null,null,null,null,null,null,null,null,null,null,null,"Georgia","Glynn County",{"$f":"CONCATENATE(tLists4[[#This Row],[State]],\", \",tLists4[[#This Row],[County]])","v":"Georgia, Glynn County"},3]
[null,null,null,null,null,null,null,null,null,null,null,null,null,"Georgia","Gordon County",{"$f":"CONCATENATE(tLists4[[#This Row],[State]],\", \",tLists4[[#This Row],[County]])","v":"Georgia, Gordon County"},2]
[null,null,null,null,null,null,null,null,null,null,null,null,null,"Georgia","Grady County",{"$f":"CONCATENATE(tLists4[[#This Row],[State]],\", \",tLists4[[#This Row],[County]])","v":"Georgia, Grady County"},2]
[null,null,null,null,null,null,null,null,null,null,null,null,null,"Georgia","Greene County",{"$f":"CONCATENATE(tLists4[[#This Row],[State]],\", \",tLists4[[#This Row],[County]])","v":"Georgia, Greene County"},"Not Eligible for Credit"]
[null,null,null,null,null,null,null,null,null,null,null,null,null,"Georgia","Gwinnett County",{"$f":"CONCATENATE(tLists4[[#This Row],[State]],\", \",tLists4[[#This Row],[County]])","v":"Georgia, Gwinnett County"},3]
[null,null,null,null,null,null,null,null,null,null,null,null,null,"Georgia","Habersham County",{"$f":"CONCATENATE(tLists4[[#This Row],[State]],\", \",tLists4[[#This Row],[County]])","v":"Georgia, Habersham County"},2]
[null,null,null,null,null,null,null,null,null,null,null,null,null,"Georgia","Hall County",{"$f":"CONCATENATE(tLists4[[#This Row],[State]],\", \",tLists4[[#This Row],[County]])","v":"Georgia, Hall County"},2]
[null,null,null,null,null,null,null,null,null,null,null,null,null,"Georgia","Hancock County",{"$f":"CONCATENATE(tLists4[[#This Row],[State]],\", \",tLists4[[#This Row],[County]])","v":"Georgia, Hancock County"},2]
[null,null,null,null,null,null,null,null,null,null,null,null,null,"Georgia","Haralson County",{"$f":"CONCATENATE(tLists4[[#This Row],[State]],\", \",tLists4[[#This Row],[County]])","v":"Georgia, Haralson County"},2]
[null,null,null,null,null,null,null,null,null,null,null,null,null,"Georgia","Harris County",{"$f":"CONCATENATE(tLists4[[#This Row],[State]],\", \",tLists4[[#This Row],[County]])","v":"Georgia, Harris County"},2]
[null,null,null,null,null,null,null,null,null,null,null,null,null,"Georgia","Hart County",{"$f":"CONCATENATE(tLists4[[#This Row],[State]],\", \",tLists4[[#This Row],[County]])","v":"Georgia, Hart County"},2]
[null,null,null,null,null,null,null,null,null,null,null,null,null,"Georgia","Heard County",{"$f":"CONCATENATE(tLists4[[#This Row],[State]],\", \",tLists4[[#This Row],[County]])","v":"Georgia, Heard County"},2]
[null,null,null,null,null,null,null,null,null,null,null,null,null,"Georgia","Henry County",{"$f":"CONCATENATE(tLists4[[#This Row],[State]],\", \",tLists4[[#This Row],[County]])","v":"Georgia, Henry County"},3]
[null,null,null,null,null,null,null,null,null,null,null,null,null,"Georgia","Houston County",{"$f":"CONCATENATE(tLists4[[#This Row],[State]],\", \",tLists4[[#This Row],[County]])","v":"Georgia, Houston County"},2]
[null,null,null,null,null,null,null,null,null,null,null,null,null,"Georgia","Irwin County",{"$f":"CONCATENATE(tLists4[[#This Row],[State]],\", \",tLists4[[#This Row],[County]])","v":"Georgia, Irwin County"},2]
[null,null,null,null,null,null,null,null,null,null,null,null,null,"Georgia","Jackson County",{"$f":"CONCATENATE(tLists4[[#This Row],[State]],\", \",tLists4[[#This Row],[County]])","v":"Georgia, Jackson County"},3]
[null,null,null,null,null,null,null,null,null,null,null,null,null,"Georgia","Jasper County",{"$f":"CONCATENATE(tLists4[[#This Row],[State]],\", \",tLists4[[#This Row],[County]])","v":"Georgia, Jasper County"},3]
[null,null,null,null,null,null,null,null,null,null,null,null,null,"Georgia","Jeff Davis County",{"$f":"CONCATENATE(tLists4[[#This Row],[State]],\", \",tLists4[[#This Row],[County]])","v":"Georgia, Jeff Davis County"},"Not Eligible for Credit"]
[null,null,null,null,null,null,null,null,null,null,null,null,null,"Georgia","Jefferson County",{"$f":"CONCATENATE(tLists4[[#This Row],[State]],\", \",tLists4[[#This Row],[County]])","v":"Georgia, Jefferson County"},2]
[null,null,null,null,null,null,null,null,null,null,null,null,null,"Georgia","Jenkins County",{"$f":"CONCATENATE(tLists4[[#This Row],[State]],\", \",tLists4[[#This Row],[County]])","v":"Georgia, Jenkins County"},2]
[null,null,null,null,null,null,null,null,null,null,null,null,null,"Georgia","Johnson County",{"$f":"CONCATENATE(tLists4[[#This Row],[State]],\", \",tLists4[[#This Row],[County]])","v":"Georgia, Johnson County"},2]
[null,null,null,null,null,null,null,null,null,null,null,null,null,"Georgia","Jones County",{"$f":"CONCATENATE(tLists4[[#This Row],[State]],\", \",tLists4[[#This Row],[County]])","v":"Georgia, Jones County"},3]
[null,null,null,null,null,null,null,null,null,null,null,null,null,"Georgia","Lamar County",{"$f":"CONCATENATE(tLists4[[#This Row],[State]],\", \",tLists4[[#This Row],[County]])","v":"Georgia, Lamar County"},2]
[null,null,null,null,null,null,null,null,null,null,null,null,null,"Georgia","Lanier County",{"$f":"CONCATENATE(tLists4[[#This Row],[State]],\", \",tLists4[[#This Row],[County]])","v":"Georgia, Lanier County"},2]
[null,null,null,null,null,null,null,null,null,null,null,null,null,"Georgia","Laurens County",{"$f":"CONCATENATE(tLists4[[#This Row],[State]],\", \",tLists4[[#This Row],[County]])","v":"Georgia, Laurens County"},2]
[null,null,null,null,null,null,null,null,null,null,null,null,null,"Georgia","Lee County",{"$f":"CONCATENATE(tLists4[[#This Row],[State]],\", \",tLists4[[#This Row],[County]])","v":"Georgia, Lee County"},2]
[null,null,null,null,null,null,null,null,null,null,null,null,null,"Georgia","Liberty County",{"$f":"CONCATENATE(tLists4[[#This Row],[State]],\", \",tLists4[[#This Row],[County]])","v":"Georgia, Liberty County"},2]
[null,null,null,null,null,null,null,null,null,null,null,null,null,"Georgia","Lincoln County",{"$f":"CONCATENATE(tLists4[[#This Row],[State]],\", \",tLists4[[#This Row],[County]])","v":"Georgia, Lincoln County"},2]
[null,null,null,null,null,null,null,null,null,null,null,null,null,"Georgia","Long County",{"$f":"CONCATENATE(tLists4[[#This Row],[State]],\", \",tLists4[[#This Row],[County]])","v":"Georgia, Long County"},2]
[null,null,null,null,null,null,null,null,null,null,null,null,null,"Georgia","Lowndes County",{"$f":"CONCATENATE(tLists4[[#This Row],[State]],\", \",tLists4[[#This Row],[County]])","v":"Georgia, Lowndes County"},2]
[null,null,null,null,null,null,null,null,null,null,null,null,null,"Georgia","Lumpkin County",{"$f":"CONCATENATE(tLists4[[#This Row],[State]],\", \",tLists4[[#This Row],[County]])","v":"Georgia, Lumpkin County"},2]
[null,null,null,null,null,null,null,null,null,null,null,null,null,"Georgia","Macon County",{"$f":"CONCATENATE(tLists4[[#This Row],[State]],\", \",tLists4[[#This Row],[County]])","v":"Georgia, Macon County"},2]
[null,null,null,null,null,null,null,null,null,null,null,null,null,"Georgia","Madison County",{"$f":"CONCATENATE(tLists4[[#This Row],[State]],\", \",tLists4[[#This Row],[County]])","v":"Georgia, Madison County"},3]
[null,null,null,null,null,null,null,null,null,null,null,null,null,"Georgia","Marion County",{"$f":"CONCATENATE(tLists4[[#This Row],[State]],\", \",tLists4[[#This Row],[County]])","v":"Georgia, Marion County"},2]
[null,null,null,null,null,null,null,null,null,null,null,null,null,"Georgia","McDuffie County",{"$f":"CONCATENATE(tLists4[[#This Row],[State]],\", \",tLists4[[#This Row],[County]])","v":"Georgia, McDuffie County"},2]
[null,null,null,null,null,null,null,null,null,null,null,null,null,"Georgia","McIntosh County",{"$f":"CONCATENATE(tLists4[[#This Row],[State]],\", \",tLists4[[#This Row],[County]])","v":"Georgia, McIntosh County"},2]
[null,null,null,null,null,null,null,null,null,null,null,null,null,"Georgia","Meriwether County",{"$f":"CONCATENATE(tLists4[[#This Row],[State]],\", \",tLists4[[#This Row],[County]])","v":"Georgia, Meriwether County"},3]
[null,null,null,null,null,null,null,null,null,null,null,null,null,"Georgia","Miller County",{"$f":"CONCATENATE(tLists4[[#This Row],[State]],\", \",tLists4[[#This Row],[County]])","v":"Georgia, Miller County"},2]
[null,null,null,null,null,null,null,null,null,null,null,null,null,"Georgia","Mitchell County",{"$f":"CONCATENATE(tLists4[[#This Row],[State]],\", \",tLists4[[#This Row],[County]])","v":"Georgia, Mitchell County"},2]
[null,null,null,null,null,null,null,null,null,null,null,null,null,"Georgia","Monroe County",{"$f":"CONCATENATE(tLists4[[#This Row],[State]],\", \",tLists4[[#This Row],[County]])","v":"Georgia, Monroe County"},2]
[null,null,null,null,null,null,null,null,null,null,null,null,null,"Georgia","Montgomery County",{"$f":"CONCATENATE(tLists4[[#This Row],[State]],\", \",tLists4[[#This Row],[County]])","v":"Georgia, Montgomery County"},2]
[null,null,null,null,null,null,null,null,null,null,null,null,null,"Georgia","Morgan County",{"$f":"CONCATENATE(tLists4[[#This Row],[State]],\", \",tLists4[[#This Row],[County]])","v":"Georgia, Morgan County"},2]
[null,null,null,null,null,null,null,null,null,null,null,null,null,"Georgia","Murray County",{"$f":"CONCATENATE(tLists4[[#This Row],[State]],\", \",tLists4[[#This Row],[County]])","v":"Georgia, Murray County"},2]
[null,null,null,null,null,null,null,null,null,null,null,null,null,"Georgia","Muscogee County",{"$f":"CONCATENATE(tLists4[[#This Row],[State]],\", \",tLists4[[#This Row],[County]])","v":"Georgia, Muscogee County"},2]
[null,null,null,null,null,null,null,null,null,null,null,null,null,"Georgia","Newton County",{"$f":"CONCATENATE(tLists4[[#This Row],[State]],\", \",tLists4[[#This Row],[County]])","v":"Georgia, Newton County"},3]
[null,null,null,null,null,null,null,null,null,null,null,null,null,"Georgia","Oconee County",{"$f":"CONCATENATE(tLists4[[#This Row],[State]],\", \",tLists4[[#This Row],[County]])","v":"Georgia, Oconee County"},2]
[null,null,null,null,null,null,null,null,null,null,null,null,null,"Georgia","Oglethorpe County",{"$f":"CONCATENATE(tLists4[[#This Row],[State]],\", \",tLists4[[#This Row],[County]])","v":"Georgia, Oglethorpe County"},2]
[null,null,null,null,null,null,null,null,null,null,null,null,null,"Georgia","Paulding County",{"$f":"CONCATENATE(tLists4[[#This Row],[State]],\", \",tLists4[[#This Row],[County]])","v":"Georgia, Paulding County"},2]
[null,null,null,null,null,null,null,null,null,null,null,null,null,"Georgia","Peach County",{"$f":"CONCATENATE(tLists4[[#This Row],[State]],\", \",tLists4[[#This Row],[County]])","v":"Georgia, Peach County"},2]
[null,null,null,null,null,null,null,null,null,null,null,null,null,"Georgia","Pickens County",{"$f":"CONCATENATE(tLists4[[#This Row],[State]],\", \",tLists4[[#This Row],[County]])","v":"Georgia, Pickens County"},2]
[null,null,null,null,null,null,null,null,null,null,null,null,null,"Georgia","Pierce County",{"$f":"CONCATENATE(tLists4[[#This Row],[State]],\", \",tLists4[[#This Row],[County]])","v":"Georgia, Pierce County"},2]
[null,null,null,null,null,null,null,null,null,null,null,null,null,"Georgia","Pike County",{"$f":"CONCATENATE(tLists4[[#This Row],[State]],\", \",tLists4[[#This Row],[County]])","v":"Georgia, Pike County"},2]
[null,null,null,null,null,null,null,null,null,null,null,null,null,"Georgia","Polk County",{"$f":"CONCATENATE(tLists4[[#This Row],[State]],\", \",tLists4[[#This Row],[County]])","v":"Georgia, Polk County"},2]
[null,null,null,null,null,null,null,null,null,null,null,null,null,"Georgia","Pulaski County",{"$f":"CONCATENATE(tLists4[[#This Row],[State]],\", \",tLists4[[#This Row],[County]])","v":"Georgia, Pulaski County"},2]
[null,null,null,null,null,null,null,null,null,null,null,null,null,"Georgia","Putnam County",{"$f":"CONCATENATE(tLists4[[#This Row],[State]],\", \",tLists4[[#This Row],[County]])","v":"Georgia, Putnam County"},2]
[null,null,null,null,null,null,null,null,null,null,null,null,null,"Georgia","Quitman County",{"$f":"CONCATENATE(tLists4[[#This Row],[State]],\", \",tLists4[[#This Row],[County]])","v":"Georgia, Quitman County"},"Not Eligible for Credit"]
[null,null,null,null,null,null,null,null,null,null,null,null,null,"Georgia","Rabun County",{"$f":"CONCATENATE(tLists4[[#This Row],[State]],\", \",tLists4[[#This Row],[County]])","v":"Georgia, Rabun County"},"Not Eligible for Credit"]
[null,null,null,null,null,null,null,null,null,null,null,null,null,"Georgia","Randolph County",{"$f":"CONCATENATE(tLists4[[#This Row],[State]],\", \",tLists4[[#This Row],[County]])","v":"Georgia, Randolph County"},2]
[null,null,null,null,null,null,null,null,null,null,null,null,null,"Georgia","Richmond County",{"$f":"CONCATENATE(tLists4[[#This Row],[State]],\", \",tLists4[[#This Row],[County]])","v":"Georgia, Richmond County"},2]
[null,null,null,null,null,null,null,null,null,null,null,null,null,"Georgia","Rockdale County",{"$f":"CONCATENATE(tLists4[[#This Row],[State]],\", \",tLists4[[#This Row],[County]])","v":"Georgia, Rockdale County"},3]
[null,null,null,null,null,null,null,null,null,null,null,null,null,"Georgia","Schley County",{"$f":"CONCATENATE(tLists4[[#This Row],[State]],\", \",tLists4[[#This Row],[County]])","v":"Georgia, Schley County"},2]
[null,null,null,null,null,null,null,null,null,null,null,null,null,"Georgia","Screven County",{"$f":"CONCATENATE(tLists4[[#This Row],[State]],\", \",tLists4[[#This Row],[County]])","v":"Georgia, Screven County"},"Not Eligible for Credit"]
[null,null,null,null,null,null,null,null,null,null,null,null,null,"Georgia","Seminole County",{"$f":"CONCATENATE(tLists4[[#This Row],[State]],\", \",tLists4[[#This Row],[County]])","v":"Georgia, Seminole County"},2]
[null,null,null,null,null,null,null,null,null,null,null,null,null,"Georgia","Spalding County",{"$f":"CONCATENATE(tLists4[[#This Row],[State]],\", \",tLists4[[#This Row],[County]])","v":"Georgia, Spalding County"},2]
[null,null,null,null,null,null,null,null,null,null,null,null,null,"Georgia","Stephens County",{"$f":"CONCATENATE(tLists4[[#This Row],[State]],\", \",tLists4[[#This Row],[County]])","v":"Georgia, Stephens County"},2]
[null,null,null,null,null,null,null,null,null,null,null,null,null,"Georgia","Stewart County",{"$f":"CONCATENATE(tLists4[[#This Row],[State]],\", \",tLists4[[#This Row],[County]])","v":"Georgia, Stewart County"},2]
[null,null,null,null,null,null,null,null,null,null,null,null,null,"Georgia","Sumter County",{"$f":"CONCATENATE(tLists4[[#This Row],[State]],\", \",tLists4[[#This Row],[County]])","v":"Georgia, Sumter County"},2]
[null,null,null,null,null,null,null,null,null,null,null,null,null,"Georgia","Talbot County",{"$f":"CONCATENATE(tLists4[[#This Row],[State]],\", \",tLists4[[#This Row],[County]])","v":"Georgia, Talbot County"},"Not Eligible for Credit"]
[null,null,null,null,null,null,null,null,null,null,null,null,null,"Georgia","Taliaferro County",{"$f":"CONCATENATE(tLists4[[#This Row],[State]],\", \",tLists4[[#This Row],[County]])","v":"Georgia, Taliaferro County"},2]
[null,null,null,null,null,null,null,null,null,null,null,null,null,"Georgia","Tattnall County",{"$f":"CONCATENATE(tLists4[[#This Row],[State]],\", \",tLists4[[#This Row],[County]])","v":"Georgia, Tattnall County"},2]
[null,null,null,null,null,null,null,null,null,null,null,null,null,"Georgia","Taylor County",{"$f":"CONCATENATE(tLists4[[#This Row],[State]],\", \",tLists4[[#This Row],[County]])","v":"Georgia, Taylor County"},2]
[null,null,null,null,null,null,null,null,null,null,null,null,null,"Georgia","Telfair County",{"$f":"CONCATENATE(tLists4[[#This Row],[State]],\", \",tLists4[[#This Row],[County]])","v":"Georgia, Telfair County"},2]
[null,null,null,null,null,null,null,null,null,null,null,null,null,"Georgia","Terrell County",{"$f":"CONCATENATE(tLists4[[#This Row],[State]],\", \",tLists4[[#This Row],[County]])","v":"Georgia, Terrell County"},2]
[null,null,null,null,null,null,null,null,null,null,null,null,null,"Georgia","Thomas County",{"$f":"CONCATENATE(tLists4[[#This Row],[State]],\", \",tLists4[[#This Row],[County]])","v":"Georgia, Thomas County"},2]
[null,null,null,null,null,null,null,null,null,null,null,null,null,"Georgia","Tift County",{"$f":"CONCATENATE(tLists4[[#This Row],[State]],\", \",tLists4[[#This Row],[County]])","v":"Georgia, Tift County"},2]
[null,null,null,null,null,null,null,null,null,null,null,null,null,"Georgia","Toombs County",{"$f":"CONCATENATE(tLists4[[#This Row],[State]],\", \",tLists4[[#This Row],[County]])","v":"Georgia, Toombs County"},2]
[null,null,null,null,null,null,null,null,null,null,null,null,null,"Georgia","Towns County",{"$f":"CONCATENATE(tLists4[[#This Row],[State]],\", \",tLists4[[#This Row],[County]])","v":"Georgia, Towns County"},2]
[null,null,null,null,null,null,null,null,null,null,null,null,null,"Georgia","Treutlen County",{"$f":"CONCATENATE(tLists4[[#This Row],[State]],\", \",tLists4[[#This Row],[County]])","v":"Georgia, Treutlen County"},2]
[null,null,null,null,null,null,null,null,null,null,null,null,null,"Georgia","Troup County",{"$f":"CONCATENATE(tLists4[[#This Row],[State]],\", \",tLists4[[#This Row],[County]])","v":"Georgia, Troup County"},2]
[null,null,null,null,null,null,null,null,null,null,null,null,null,"Georgia","Turner County",{"$f":"CONCATENATE(tLists4[[#This Row],[State]],\", \",tLists4[[#This Row],[County]])","v":"Georgia, Turner County"},2]
[null,null,null,null,null,null,null,null,null,null,null,null,null,"Georgia","Twiggs County",{"$f":"CONCATENATE(tLists4[[#This Row],[State]],\", \",tLists4[[#This Row],[County]])","v":"Georgia, Twiggs County"},2]
[null,null,null,null,null,null,null,null,null,null,null,null,null,"Georgia","Union County",{"$f":"CONCATENATE(tLists4[[#This Row],[State]],\", \",tLists4[[#This Row],[County]])","v":"Georgia, Union County"},2]
[null,null,null,null,null,null,null,null,null,null,null,null,null,"Georgia","Upson County",{"$f":"CONCATENATE(tLists4[[#This Row],[State]],\", \",tLists4[[#This Row],[County]])","v":"Georgia, Upson County"},2]
[null,null,null,null,null,null,null,null,null,null,null,null,null,"Georgia","Walker County",{"$f":"CONCATENATE(tLists4[[#This Row],[State]],\", \",tLists4[[#This Row],[County]])","v":"Georgia, Walker County"},2]
[null,null,null,null,null,null,null,null,null,null,null,null,null,"Georgia","Walton County",{"$f":"CONCATENATE(tLists4[[#This Row],[State]],\", \",tLists4[[#This Row],[County]])","v":"Georgia, Walton County"},2]
[null,null,null,null,null,null,null,null,null,null,null,null,null,"Georgia","Ware County",{"$f":"CONCATENATE(tLists4[[#This Row],[State]],\", \",tLists4[[#This Row],[County]])","v":"Georgia, Ware County"},2]
[null,null,null,null,null,null,null,null,null,null,null,null,null,"Georgia","Warren County",{"$f":"CONCATENATE(tLists4[[#This Row],[State]],\", \",tLists4[[#This Row],[County]])","v":"Georgia, Warren County"},"Not Eligible for Credit"]
[null,null,null,null,null,null,null,null,null,null,null,null,null,"Georgia","Washington County",{"$f":"CONCATENATE(tLists4[[#This Row],[State]],\", \",tLists4[[#This Row],[County]])","v":"Georgia, Washington County"},2]
[null,null,null,null,null,null,null,null,null,null,null,null,null,"Georgia","Wayne County",{"$f":"CONCATENATE(tLists4[[#This Row],[State]],\", \",tLists4[[#This Row],[County]])","v":"Georgia, Wayne County"},2]
[null,null,null,null,null,null,null,null,null,null,null,null,null,"Georgia","Webster County",{"$f":"CONCATENATE(tLists4[[#This Row],[State]],\", \",tLists4[[#This Row],[County]])","v":"Georgia, Webster County"},2]
[null,null,null,null,null,null,null,null,null,null,null,null,null,"Georgia","Wheeler County",{"$f":"CONCATENATE(tLists4[[#This Row],[State]],\", \",tLists4[[#This Row],[County]])","v":"Georgia, Wheeler County"},2]
[null,null,null,null,null,null,null,null,null,null,null,null,null,"Georgia","White County",{"$f":"CONCATENATE(tLists4[[#This Row],[State]],\", \",tLists4[[#This Row],[County]])","v":"Georgia, White County"},2]
[null,null,null,null,null,null,null,null,null,null,null,null,null,"Georgia","Whitfield County",{"$f":"CONCATENATE(tLists4[[#This Row],[State]],\", \",tLists4[[#This Row],[County]])","v":"Georgia, Whitfield County"},"Not Eligible for Credit"]
[null,null,null,null,null,null,null,null,null,null,null,null,null,"Georgia","Wilcox County",{"$f":"CONCATENATE(tLists4[[#This Row],[State]],\", \",tLists4[[#This Row],[County]])","v":"Georgia, Wilcox County"},2]
[null,null,null,null,null,null,null,null,null,null,null,null,null,"Georgia","Wilkes County",{"$f":"CONCATENATE(tLists4[[#This Row],[State]],\", \",tLists4[[#This Row],[County]])","v":"Georgia, Wilkes County"},2]
[null,null,null,null,null,null,null,null,null,null,null,null,null,"Georgia","Wilkinson County",{"$f":"CONCATENATE(tLists4[[#This Row],[State]],\", \",tLists4[[#This Row],[County]])","v":"Georgia, Wilkinson County"},2]
[null,null,null,null,null,null,null,null,null,null,null,null,null,"Georgia","Worth County",{"$f":"CONCATENATE(tLists4[[#This Row],[State]],\", \",tLists4[[#This Row],[County]])","v":"Georgia, Worth County"},2]
[null,null,null,null,null,null,null,null,null,null,null,null,null,"Idaho","Ada County",{"$f":"CONCATENATE(tLists4[[#This Row],[State]],\", \",tLists4[[#This Row],[County]])","v":"Idaho, Ada County"},3]
[null,null,null,null,null,null,null,null,null,null,null,null,null,"Idaho","Adams County",{"$f":"CONCATENATE(tLists4[[#This Row],[State]],\", \",tLists4[[#This Row],[County]])","v":"Idaho, Adams County"},3]
[null,null,null,null,null,null,null,null,null,null,null,null,null,"Idaho","Bannock County",{"$f":"CONCATENATE(tLists4[[#This Row],[State]],\", \",tLists4[[#This Row],[County]])","v":"Idaho, Bannock County"},3]
[null,null,null,null,null,null,null,null,null,null,null,null,null,"Idaho","Bear Lake County",{"$f":"CONCATENATE(tLists4[[#This Row],[State]],\", \",tLists4[[#This Row],[County]])","v":"Idaho, Bear Lake County"},3]
[null,null,null,null,null,null,null,null,null,null,null,null,null,"Idaho","Benewah County",{"$f":"CONCATENATE(tLists4[[#This Row],[State]],\", \",tLists4[[#This Row],[County]])","v":"Idaho, Benewah County"},2]
[null,null,null,null,null,null,null,null,null,null,null,null,null,"Idaho","Bingham County",{"$f":"CONCATENATE(tLists4[[#This Row],[State]],\", \",tLists4[[#This Row],[County]])","v":"Idaho, Bingham County"},3]
[null,null,null,null,null,null,null,null,null,null,null,null,null,"Idaho","Blaine County",{"$f":"CONCATENATE(tLists4[[#This Row],[State]],\", \",tLists4[[#This Row],[County]])","v":"Idaho, Blaine County"},3]
[null,null,null,null,null,null,null,null,null,null,null,null,null,"Idaho","Boise County",{"$f":"CONCATENATE(tLists4[[#This Row],[State]],\", \",tLists4[[#This Row],[County]])","v":"Idaho, Boise County"},3]
[null,null,null,null,null,null,null,null,null,null,null,null,null,"Idaho","Bonner County",{"$f":"CONCATENATE(tLists4[[#This Row],[State]],\", \",tLists4[[#This Row],[County]])","v":"Idaho, Bonner County"},2]
[null,null,null,null,null,null,null,null,null,null,null,null,null,"Idaho","Bonneville County",{"$f":"CONCATENATE(tLists4[[#This Row],[State]],\", \",tLists4[[#This Row],[County]])","v":"Idaho, Bonneville County"},3]
[null,null,null,null,null,null,null,null,null,null,null,null,null,"Idaho","Boundary County",{"$f":"CONCATENATE(tLists4[[#This Row],[State]],\", \",tLists4[[#This Row],[County]])","v":"Idaho, Boundary County"},2]
[null,null,null,null,null,null,null,null,null,null,null,null,null,"Idaho","Butte County",{"$f":"CONCATENATE(tLists4[[#This Row],[State]],\", \",tLists4[[#This Row],[County]])","v":"Idaho, Butte County"},3]
[null,null,null,null,null,null,null,null,null,null,null,null,null,"Idaho","Camas County",{"$f":"CONCATENATE(tLists4[[#This Row],[State]],\", \",tLists4[[#This Row],[County]])","v":"Idaho, Camas County"},3]
[null,null,null,null,null,null,null,null,null,null,null,null,null,"Idaho","Canyon County",{"$f":"CONCATENATE(tLists4[[#This Row],[State]],\", \",tLists4[[#This Row],[County]])","v":"Idaho, Canyon County"},6]
[null,null,null,null,null,null,null,null,null,null,null,null,null,"Idaho","Caribou County",{"$f":"CONCATENATE(tLists4[[#This Row],[State]],\", \",tLists4[[#This Row],[County]])","v":"Idaho, Caribou County"},2]
[null,null,null,null,null,null,null,null,null,null,null,null,null,"Idaho","Cassia County",{"$f":"CONCATENATE(tLists4[[#This Row],[State]],\", \",tLists4[[#This Row],[County]])","v":"Idaho, Cassia County"},3]
[null,null,null,null,null,null,null,null,null,null,null,null,null,"Idaho","Clark County",{"$f":"CONCATENATE(tLists4[[#This Row],[State]],\", \",tLists4[[#This Row],[County]])","v":"Idaho, Clark County"},3]
[null,null,null,null,null,null,null,null,null,null,null,null,null,"Idaho","Clearwater County",{"$f":"CONCATENATE(tLists4[[#This Row],[State]],\", \",tLists4[[#This Row],[County]])","v":"Idaho, Clearwater County"},2]
[null,null,null,null,null,null,null,null,null,null,null,null,null,"Idaho","Custer County",{"$f":"CONCATENATE(tLists4[[#This Row],[State]],\", \",tLists4[[#This Row],[County]])","v":"Idaho, Custer County"},3]
[null,null,null,null,null,null,null,null,null,null,null,null,null,"Idaho","Elmore County",{"$f":"CONCATENATE(tLists4[[#This Row],[State]],\", \",tLists4[[#This Row],[County]])","v":"Idaho, Elmore County"},3]
[null,null,null,null,null,null,null,null,null,null,null,null,null,"Idaho","Franklin County",{"$f":"CONCATENATE(tLists4[[#This Row],[State]],\", \",tLists4[[#This Row],[County]])","v":"Idaho, Franklin County"},3]
[null,null,null,null,null,null,null,null,null,null,null,null,null,"Idaho","Fremont County",{"$f":"CONCATENATE(tLists4[[#This Row],[State]],\", \",tLists4[[#This Row],[County]])","v":"Idaho, Fremont County"},2]
[null,null,null,null,null,null,null,null,null,null,null,null,null,"Idaho","Gem County",{"$f":"CONCATENATE(tLists4[[#This Row],[State]],\", \",tLists4[[#This Row],[County]])","v":"Idaho, Gem County"},3]
[null,null,null,null,null,null,null,null,null,null,null,null,null,"Idaho","Gooding County",{"$f":"CONCATENATE(tLists4[[#This Row],[State]],\", \",tLists4[[#This Row],[County]])","v":"Idaho, Gooding County"},3]
[null,null,null,null,null,null,null,null,null,null,null,null,null,"Idaho","Idaho County",{"$f":"CONCATENATE(tLists4[[#This Row],[State]],\", \",tLists4[[#This Row],[County]])","v":"Idaho, Idaho County"},3]
[null,null,null,null,null,null,null,null,null,null,null,null,null,"Idaho","Jefferson County",{"$f":"CONCATENATE(tLists4[[#This Row],[State]],\", \",tLists4[[#This Row],[County]])","v":"Idaho, Jefferson County"},3]
[null,null,null,null,null,null,null,null,null,null,null,null,null,"Idaho","Jerome County",{"$f":"CONCATENATE(tLists4[[#This Row],[State]],\", \",tLists4[[#This Row],[County]])","v":"Idaho, Jerome County"},3]
[null,null,null,null,null,null,null,null,null,null,null,null,null,"Idaho","Kootenai County",{"$f":"CONCATENATE(tLists4[[#This Row],[State]],\", \",tLists4[[#This Row],[County]])","v":"Idaho, Kootenai County"},3]
[null,null,null,null,null,null,null,null,null,null,null,null,null,"Idaho","Latah County",{"$f":"CONCATENATE(tLists4[[#This Row],[State]],\", \",tLists4[[#This Row],[County]])","v":"Idaho, Latah County"},3]
[null,null,null,null,null,null,null,null,null,null,null,null,null,"Idaho","Lemhi County",{"$f":"CONCATENATE(tLists4[[#This Row],[State]],\", \",tLists4[[#This Row],[County]])","v":"Idaho, Lemhi County"},3]
[null,null,null,null,null,null,null,null,null,null,null,null,null,"Idaho","Lewis County",{"$f":"CONCATENATE(tLists4[[#This Row],[State]],\", \",tLists4[[#This Row],[County]])","v":"Idaho, Lewis County"},3]
[null,null,null,null,null,null,null,null,null,null,null,null,null,"Idaho","Lincoln County",{"$f":"CONCATENATE(tLists4[[#This Row],[State]],\", \",tLists4[[#This Row],[County]])","v":"Idaho, Lincoln County"},3]
[null,null,null,null,null,null,null,null,null,null,null,null,null,"Idaho","Madison County",{"$f":"CONCATENATE(tLists4[[#This Row],[State]],\", \",tLists4[[#This Row],[County]])","v":"Idaho, Madison County"},3]
[null,null,null,null,null,null,null,null,null,null,null,null,null,"Idaho","Minidoka County",{"$f":"CONCATENATE(tLists4[[#This Row],[State]],\", \",tLists4[[#This Row],[County]])","v":"Idaho, Minidoka County"},3]
[null,null,null,null,null,null,null,null,null,null,null,null,null,"Idaho","Nez Perce County",{"$f":"CONCATENATE(tLists4[[#This Row],[State]],\", \",tLists4[[#This Row],[County]])","v":"Idaho, Nez Perce County"},3]
[null,null,null,null,null,null,null,null,null,null,null,null,null,"Idaho","Oneida County",{"$f":"CONCATENATE(tLists4[[#This Row],[State]],\", \",tLists4[[#This Row],[County]])","v":"Idaho, Oneida County"},3]
[null,null,null,null,null,null,null,null,null,null,null,null,null,"Idaho","Owyhee County",{"$f":"CONCATENATE(tLists4[[#This Row],[State]],\", \",tLists4[[#This Row],[County]])","v":"Idaho, Owyhee County"},3]
[null,null,null,null,null,null,null,null,null,null,null,null,null,"Idaho","Payette County",{"$f":"CONCATENATE(tLists4[[#This Row],[State]],\", \",tLists4[[#This Row],[County]])","v":"Idaho, Payette County"},6]
[null,null,null,null,null,null,null,null,null,null,null,null,null,"Idaho","Power County",{"$f":"CONCATENATE(tLists4[[#This Row],[State]],\", \",tLists4[[#This Row],[County]])","v":"Idaho, Power County"},3]
[null,null,null,null,null,null,null,null,null,null,null,null,null,"Idaho","Shoshone County",{"$f":"CONCATENATE(tLists4[[#This Row],[State]],\", \",tLists4[[#This Row],[County]])","v":"Idaho, Shoshone County"},3]
[null,null,null,null,null,null,null,null,null,null,null,null,null,"Idaho","Teton County",{"$f":"CONCATENATE(tLists4[[#This Row],[State]],\", \",tLists4[[#This Row],[County]])","v":"Idaho, Teton County"},2]
[null,null,null,null,null,null,null,null,null,null,null,null,null,"Idaho","Twin Falls County",{"$f":"CONCATENATE(tLists4[[#This Row],[State]],\", \",tLists4[[#This Row],[County]])","v":"Idaho, Twin Falls County"},3]
[null,null,null,null,null,null,null,null,null,null,null,null,null,"Idaho","Valley County",{"$f":"CONCATENATE(tLists4[[#This Row],[State]],\", \",tLists4[[#This Row],[County]])","v":"Idaho, Valley County"},3]
[null,null,null,null,null,null,null,null,null,null,null,null,null,"Idaho","Washington County",{"$f":"CONCATENATE(tLists4[[#This Row],[State]],\", \",tLists4[[#This Row],[County]])","v":"Idaho, Washington County"},3]
[null,null,null,null,null,null,null,null,null,null,null,null,null,"Illinois","Adams County",{"$f":"CONCATENATE(tLists4[[#This Row],[State]],\", \",tLists4[[#This Row],[County]])","v":"Illinois, Adams County"},2]
[null,null,null,null,null,null,null,null,null,null,null,null,null,"Illinois","Alexander County",{"$f":"CONCATENATE(tLists4[[#This Row],[State]],\", \",tLists4[[#This Row],[County]])","v":"Illinois, Alexander County"},2]
[null,null,null,null,null,null,null,null,null,null,null,null,null,"Illinois","Bond County",{"$f":"CONCATENATE(tLists4[[#This Row],[State]],\", \",tLists4[[#This Row],[County]])","v":"Illinois, Bond County"},"Not Eligible for Credit"]
[null,null,null,null,null,null,null,null,null,null,null,null,null,"Illinois","Boone County",{"$f":"CONCATENATE(tLists4[[#This Row],[State]],\", \",tLists4[[#This Row],[County]])","v":"Illinois, Boone County"},2]
[null,null,null,null,null,null,null,null,null,null,null,null,null,"Illinois","Brown County",{"$f":"CONCATENATE(tLists4[[#This Row],[State]],\", \",tLists4[[#This Row],[County]])","v":"Illinois, Brown County"},2]
[null,null,null,null,null,null,null,null,null,null,null,null,null,"Illinois","Bureau County",{"$f":"CONCATENATE(tLists4[[#This Row],[State]],\", \",tLists4[[#This Row],[County]])","v":"Illinois, Bureau County"},2]
[null,null,null,null,null,null,null,null,null,null,null,null,null,"Illinois","Calhoun County",{"$f":"CONCATENATE(tLists4[[#This Row],[State]],\", \",tLists4[[#This Row],[County]])","v":"Illinois, Calhoun County"},2]
[null,null,null,null,null,null,null,null,null,null,null,null,null,"Illinois","Carroll County",{"$f":"CONCATENATE(tLists4[[#This Row],[State]],\", \",tLists4[[#This Row],[County]])","v":"Illinois, Carroll County"},2]
[null,null,null,null,null,null,null,null,null,null,null,null,null,"Illinois","Cass County",{"$f":"CONCATENATE(tLists4[[#This Row],[State]],\", \",tLists4[[#This Row],[County]])","v":"Illinois, Cass County"},2]
[null,null,null,null,null,null,null,null,null,null,null,null,null,"Illinois","Champaign County",{"$f":"CONCATENATE(tLists4[[#This Row],[State]],\", \",tLists4[[#This Row],[County]])","v":"Illinois, Champaign County"},2]
[null,null,null,null,null,null,null,null,null,null,null,null,null,"Illinois","Christian County",{"$f":"CONCATENATE(tLists4[[#This Row],[State]],\", \",tLists4[[#This Row],[County]])","v":"Illinois, Christian County"},2]
[null,null,null,null,null,null,null,null,null,null,null,null,null,"Illinois","Clark County",{"$f":"CONCATENATE(tLists4[[#This Row],[State]],\", \",tLists4[[#This Row],[County]])","v":"Illinois, Clark County"},"Not Eligible for Credit"]
[null,null,null,null,null,null,null,null,null,null,null,null,null,"Illinois","Clay County",{"$f":"CONCATENATE(tLists4[[#This Row],[State]],\", \",tLists4[[#This Row],[County]])","v":"Illinois, Clay County"},2]
[null,null,null,null,null,null,null,null,null,null,null,null,null,"Illinois","Clinton County",{"$f":"CONCATENATE(tLists4[[#This Row],[State]],\", \",tLists4[[#This Row],[County]])","v":"Illinois, Clinton County"},2]
[null,null,null,null,null,null,null,null,null,null,null,null,null,"Illinois","Coles County",{"$f":"CONCATENATE(tLists4[[#This Row],[State]],\", \",tLists4[[#This Row],[County]])","v":"Illinois, Coles County"},2]
[null,null,null,null,null,null,null,null,null,null,null,null,null,"Illinois","Cook County",{"$f":"CONCATENATE(tLists4[[#This Row],[State]],\", \",tLists4[[#This Row],[County]])","v":"Illinois, Cook County"},2]
[null,null,null,null,null,null,null,null,null,null,null,null,null,"Illinois","Crawford County",{"$f":"CONCATENATE(tLists4[[#This Row],[State]],\", \",tLists4[[#This Row],[County]])","v":"Illinois, Crawford County"},2]
[null,null,null,null,null,null,null,null,null,null,null,null,null,"Illinois","Cumberland County",{"$f":"CONCATENATE(tLists4[[#This Row],[State]],\", \",tLists4[[#This Row],[County]])","v":"Illinois, Cumberland County"},2]
[null,null,null,null,null,null,null,null,null,null,null,null,null,"Illinois","De Witt County",{"$f":"CONCATENATE(tLists4[[#This Row],[State]],\", \",tLists4[[#This Row],[County]])","v":"Illinois, De Witt County"},2]
[null,null,null,null,null,null,null,null,null,null,null,null,null,"Illinois","DeKalb County",{"$f":"CONCATENATE(tLists4[[#This Row],[State]],\", \",tLists4[[#This Row],[County]])","v":"Illinois, DeKalb County"},2]
[null,null,null,null,null,null,null,null,null,null,null,null,null,"Illinois","Douglas County",{"$f":"CONCATENATE(tLists4[[#This Row],[State]],\", \",tLists4[[#This Row],[County]])","v":"Illinois, Douglas County"},2]
[null,null,null,null,null,null,null,null,null,null,null,null,null,"Illinois","DuPage County",{"$f":"CONCATENATE(tLists4[[#This Row],[State]],\", \",tLists4[[#This Row],[County]])","v":"Illinois, DuPage County"},2]
[null,null,null,null,null,null,null,null,null,null,null,null,null,"Illinois","Edgar County",{"$f":"CONCATENATE(tLists4[[#This Row],[State]],\", \",tLists4[[#This Row],[County]])","v":"Illinois, Edgar County"},2]
[null,null,null,null,null,null,null,null,null,null,null,null,null,"Illinois","Edwards County",{"$f":"CONCATENATE(tLists4[[#This Row],[State]],\", \",tLists4[[#This Row],[County]])","v":"Illinois, Edwards County"},2]
[null,null,null,null,null,null,null,null,null,null,null,null,null,"Illinois","Effingham County",{"$f":"CONCATENATE(tLists4[[#This Row],[State]],\", \",tLists4[[#This Row],[County]])","v":"Illinois, Effingham County"},2]
[null,null,null,null,null,null,null,null,null,null,null,null,null,"Illinois","Fayette County",{"$f":"CONCATENATE(tLists4[[#This Row],[State]],\", \",tLists4[[#This Row],[County]])","v":"Illinois, Fayette County"},2]
[null,null,null,null,null,null,null,null,null,null,null,null,null,"Illinois","Ford County",{"$f":"CONCATENATE(tLists4[[#This Row],[State]],\", \",tLists4[[#This Row],[County]])","v":"Illinois, Ford County"},2]
[null,null,null,null,null,null,null,null,null,null,null,null,null,"Illinois","Franklin County",{"$f":"CONCATENATE(tLists4[[#This Row],[State]],\", \",tLists4[[#This Row],[County]])","v":"Illinois, Franklin County"},2]
[null,null,null,null,null,null,null,null,null,null,null,null,null,"Illinois","Fulton County",{"$f":"CONCATENATE(tLists4[[#This Row],[State]],\", \",tLists4[[#This Row],[County]])","v":"Illinois, Fulton County"},2]
[null,null,null,null,null,null,null,null,null,null,null,null,null,"Illinois","Gallatin County",{"$f":"CONCATENATE(tLists4[[#This Row],[State]],\", \",tLists4[[#This Row],[County]])","v":"Illinois, Gallatin County"},2]
[null,null,null,null,null,null,null,null,null,null,null,null,null,"Illinois","Greene County",{"$f":"CONCATENATE(tLists4[[#This Row],[State]],\", \",tLists4[[#This Row],[County]])","v":"Illinois, Greene County"},2]
[null,null,null,null,null,null,null,null,null,null,null,null,null,"Illinois","Grundy County",{"$f":"CONCATENATE(tLists4[[#This Row],[State]],\", \",tLists4[[#This Row],[County]])","v":"Illinois, Grundy County"},2]
[null,null,null,null,null,null,null,null,null,null,null,null,null,"Illinois","Hamilton County",{"$f":"CONCATENATE(tLists4[[#This Row],[State]],\", \",tLists4[[#This Row],[County]])","v":"Illinois, Hamilton County"},2]
[null,null,null,null,null,null,null,null,null,null,null,null,null,"Illinois","Hancock County",{"$f":"CONCATENATE(tLists4[[#This Row],[State]],\", \",tLists4[[#This Row],[County]])","v":"Illinois, Hancock County"},2]
[null,null,null,null,null,null,null,null,null,null,null,null,null,"Illinois","Hardin County",{"$f":"CONCATENATE(tLists4[[#This Row],[State]],\", \",tLists4[[#This Row],[County]])","v":"Illinois, Hardin County"},"Not Eligible for Credit"]
[null,null,null,null,null,null,null,null,null,null,null,null,null,"Illinois","Henderson County",{"$f":"CONCATENATE(tLists4[[#This Row],[State]],\", \",tLists4[[#This Row],[County]])","v":"Illinois, Henderson County"},2]
[null,null,null,null,null,null,null,null,null,null,null,null,null,"Illinois","Henry County",{"$f":"CONCATENATE(tLists4[[#This Row],[State]],\", \",tLists4[[#This Row],[County]])","v":"Illinois, Henry County"},2]
[null,null,null,null,null,null,null,null,null,null,null,null,null,"Illinois","Iroquois County",{"$f":"CONCATENATE(tLists4[[#This Row],[State]],\", \",tLists4[[#This Row],[County]])","v":"Illinois, Iroquois County"},2]
[null,null,null,null,null,null,null,null,null,null,null,null,null,"Illinois","Jackson County",{"$f":"CONCATENATE(tLists4[[#This Row],[State]],\", \",tLists4[[#This Row],[County]])","v":"Illinois, Jackson County"},"Not Eligible for Credit"]
[null,null,null,null,null,null,null,null,null,null,null,null,null,"Illinois","Jasper County",{"$f":"CONCATENATE(tLists4[[#This Row],[State]],\", \",tLists4[[#This Row],[County]])","v":"Illinois, Jasper County"},2]
[null,null,null,null,null,null,null,null,null,null,null,null,null,"Illinois","Jefferson County",{"$f":"CONCATENATE(tLists4[[#This Row],[State]],\", \",tLists4[[#This Row],[County]])","v":"Illinois, Jefferson County"},2]
[null,null,null,null,null,null,null,null,null,null,null,null,null,"Illinois","Jersey County",{"$f":"CONCATENATE(tLists4[[#This Row],[State]],\", \",tLists4[[#This Row],[County]])","v":"Illinois, Jersey County"},2]
[null,null,null,null,null,null,null,null,null,null,null,null,null,"Illinois","Jo Daviess County",{"$f":"CONCATENATE(tLists4[[#This Row],[State]],\", \",tLists4[[#This Row],[County]])","v":"Illinois, Jo Daviess County"},2]
[null,null,null,null,null,null,null,null,null,null,null,null,null,"Illinois","Johnson County",{"$f":"CONCATENATE(tLists4[[#This Row],[State]],\", \",tLists4[[#This Row],[County]])","v":"Illinois, Johnson County"},2]
[null,null,null,null,null,null,null,null,null,null,null,null,null,"Illinois","Kane County",{"$f":"CONCATENATE(tLists4[[#This Row],[State]],\", \",tLists4[[#This Row],[County]])","v":"Illinois, Kane County"},2]
[null,null,null,null,null,null,null,null,null,null,null,null,null,"Illinois","Kankakee County",{"$f":"CONCATENATE(tLists4[[#This Row],[State]],\", \",tLists4[[#This Row],[County]])","v":"Illinois, Kankakee County"},2]
[null,null,null,null,null,null,null,null,null,null,null,null,null,"Illinois","Kendall County",{"$f":"CONCATENATE(tLists4[[#This Row],[State]],\", \",tLists4[[#This Row],[County]])","v":"Illinois, Kendall County"},2]
[null,null,null,null,null,null,null,null,null,null,null,null,null,"Illinois","Knox County",{"$f":"CONCATENATE(tLists4[[#This Row],[State]],\", \",tLists4[[#This Row],[County]])","v":"Illinois, Knox County"},2]
[null,null,null,null,null,null,null,null,null,null,null,null,null,"Illinois","Lake County",{"$f":"CONCATENATE(tLists4[[#This Row],[State]],\", \",tLists4[[#This Row],[County]])","v":"Illinois, Lake County"},2]
[null,null,null,null,null,null,null,null,null,null,null,null,null,"Illinois","LaSalle County",{"$f":"CONCATENATE(tLists4[[#This Row],[State]],\", \",tLists4[[#This Row],[County]])","v":"Illinois, LaSalle County"},2]
[null,null,null,null,null,null,null,null,null,null,null,null,null,"Illinois","Lawrence County",{"$f":"CONCATENATE(tLists4[[#This Row],[State]],\", \",tLists4[[#This Row],[County]])","v":"Illinois, Lawrence County"},"Not Eligible for Credit"]
[null,null,null,null,null,null,null,null,null,null,null,null,null,"Illinois","Lee County",{"$f":"CONCATENATE(tLists4[[#This Row],[State]],\", \",tLists4[[#This Row],[County]])","v":"Illinois, Lee County"},2]
[null,null,null,null,null,null,null,null,null,null,null,null,null,"Illinois","Livingston County",{"$f":"CONCATENATE(tLists4[[#This Row],[State]],\", \",tLists4[[#This Row],[County]])","v":"Illinois, Livingston County"},2]
[null,null,null,null,null,null,null,null,null,null,null,null,null,"Illinois","Logan County",{"$f":"CONCATENATE(tLists4[[#This Row],[State]],\", \",tLists4[[#This Row],[County]])","v":"Illinois, Logan County"},2]
[null,null,null,null,null,null,null,null,null,null,null,null,null,"Illinois","Macon County",{"$f":"CONCATENATE(tLists4[[#This Row],[State]],\", \",tLists4[[#This Row],[County]])","v":"Illinois, Macon County"},2]
[null,null,null,null,null,null,null,null,null,null,null,null,null,"Illinois","Macoupin County",{"$f":"CONCATENATE(tLists4[[#This Row],[State]],\", \",tLists4[[#This Row],[County]])","v":"Illinois, Macoupin County"},2]
[null,null,null,null,null,null,null,null,null,null,null,null,null,"Illinois","Madison County",{"$f":"CONCATENATE(tLists4[[#This Row],[State]],\", \",tLists4[[#This Row],[County]])","v":"Illinois, Madison County"},2]
[null,null,null,null,null,null,null,null,null,null,null,null,null,"Illinois","Marion County",{"$f":"CONCATENATE(tLists4[[#This Row],[State]],\", \",tLists4[[#This Row],[County]])","v":"Illinois, Marion County"},2]
[null,null,null,null,null,null,null,null,null,null,null,null,null,"Illinois","Marshall County",{"$f":"CONCATENATE(tLists4[[#This Row],[State]],\", \",tLists4[[#This Row],[County]])","v":"Illinois, Marshall County"},2]
[null,null,null,null,null,null,null,null,null,null,null,null,null,"Illinois","Mason County",{"$f":"CONCATENATE(tLists4[[#This Row],[State]],\", \",tLists4[[#This Row],[County]])","v":"Illinois, Mason County"},2]
[null,null,null,null,null,null,null,null,null,null,null,null,null,"Illinois","Massac County",{"$f":"CONCATENATE(tLists4[[#This Row],[State]],\", \",tLists4[[#This Row],[County]])","v":"Illinois, Massac County"},"Not Eligible for Credit"]
[null,null,null,null,null,null,null,null,null,null,null,null,null,"Illinois","McDonough County",{"$f":"CONCATENATE(tLists4[[#This Row],[State]],\", \",tLists4[[#This Row],[County]])","v":"Illinois, McDonough County"},2]
[null,null,null,null,null,null,null,null,null,null,null,null,null,"Illinois","McHenry County",{"$f":"CONCATENATE(tLists4[[#This Row],[State]],\", \",tLists4[[#This Row],[County]])","v":"Illinois, McHenry County"},2]
[null,null,null,null,null,null,null,null,null,null,null,null,null,"Illinois","McLean County",{"$f":"CONCATENATE(tLists4[[#This Row],[State]],\", \",tLists4[[#This Row],[County]])","v":"Illinois, McLean County"},2]
[null,null,null,null,null,null,null,null,null,null,null,null,null,"Illinois","Menard County",{"$f":"CONCATENATE(tLists4[[#This Row],[State]],\", \",tLists4[[#This Row],[County]])","v":"Illinois, Menard County"},2]
[null,null,null,null,null,null,null,null,null,null,null,null,null,"Illinois","Mercer County",{"$f":"CONCATENATE(tLists4[[#This Row],[State]],\", \",tLists4[[#This Row],[County]])","v":"Illinois, Mercer County"},2]
[null,null,null,null,null,null,null,null,null,null,null,null,null,"Illinois","Monroe County",{"$f":"CONCATENATE(tLists4[[#This Row],[State]],\", \",tLists4[[#This Row],[County]])","v":"Illinois, Monroe County"},2]
[null,null,null,null,null,null,null,null,null,null,null,null,null,"Illinois","Montgomery County",{"$f":"CONCATENATE(tLists4[[#This Row],[State]],\", \",tLists4[[#This Row],[County]])","v":"Illinois, Montgomery County"},2]
[null,null,null,null,null,null,null,null,null,null,null,null,null,"Illinois","Morgan County",{"$f":"CONCATENATE(tLists4[[#This Row],[State]],\", \",tLists4[[#This Row],[County]])","v":"Illinois, Morgan County"},2]
[null,null,null,null,null,null,null,null,null,null,null,null,null,"Illinois","Moultrie County",{"$f":"CONCATENATE(tLists4[[#This Row],[State]],\", \",tLists4[[#This Row],[County]])","v":"Illinois, Moultrie County"},2]
[null,null,null,null,null,null,null,null,null,null,null,null,null,"Illinois","Ogle County",{"$f":"CONCATENATE(tLists4[[#This Row],[State]],\", \",tLists4[[#This Row],[County]])","v":"Illinois, Ogle County"},2]
[null,null,null,null,null,null,null,null,null,null,null,null,null,"Illinois","Peoria County",{"$f":"CONCATENATE(tLists4[[#This Row],[State]],\", \",tLists4[[#This Row],[County]])","v":"Illinois, Peoria County"},2]
[null,null,null,null,null,null,null,null,null,null,null,null,null,"Illinois","Perry County",{"$f":"CONCATENATE(tLists4[[#This Row],[State]],\", \",tLists4[[#This Row],[County]])","v":"Illinois, Perry County"},"Not Eligible for Credit"]
[null,null,null,null,null,null,null,null,null,null,null,null,null,"Illinois","Piatt County",{"$f":"CONCATENATE(tLists4[[#This Row],[State]],\", \",tLists4[[#This Row],[County]])","v":"Illinois, Piatt County"},3]
[null,null,null,null,null,null,null,null,null,null,null,null,null,"Illinois","Pike County",{"$f":"CONCATENATE(tLists4[[#This Row],[State]],\", \",tLists4[[#This Row],[County]])","v":"Illinois, Pike County"},2]
[null,null,null,null,null,null,null,null,null,null,null,null,null,"Illinois","Pope County",{"$f":"CONCATENATE(tLists4[[#This Row],[State]],\", \",tLists4[[#This Row],[County]])","v":"Illinois, Pope County"},2]
[null,null,null,null,null,null,null,null,null,null,null,null,null,"Illinois","Pulaski County",{"$f":"CONCATENATE(tLists4[[#This Row],[State]],\", \",tLists4[[#This Row],[County]])","v":"Illinois, Pulaski County"},"Not Eligible for Credit"]
[null,null,null,null,null,null,null,null,null,null,null,null,null,"Illinois","Putnam County",{"$f":"CONCATENATE(tLists4[[#This Row],[State]],\", \",tLists4[[#This Row],[County]])","v":"Illinois, Putnam County"},2]
[null,null,null,null,null,null,null,null,null,null,null,null,null,"Illinois","Randolph County",{"$f":"CONCATENATE(tLists4[[#This Row],[State]],\", \",tLists4[[#This Row],[County]])","v":"Illinois, Randolph County"},"Not Eligible for Credit"]
[null,null,null,null,null,null,null,null,null,null,null,null,null,"Illinois","Richland County",{"$f":"CONCATENATE(tLists4[[#This Row],[State]],\", \",tLists4[[#This Row],[County]])","v":"Illinois, Richland County"},"Not Eligible for Credit"]
[null,null,null,null,null,null,null,null,null,null,null,null,null,"Illinois","Rock Island County",{"$f":"CONCATENATE(tLists4[[#This Row],[State]],\", \",tLists4[[#This Row],[County]])","v":"Illinois, Rock Island County"},2]
[null,null,null,null,null,null,null,null,null,null,null,null,null,"Illinois","Saline County",{"$f":"CONCATENATE(tLists4[[#This Row],[State]],\", \",tLists4[[#This Row],[County]])","v":"Illinois, Saline County"},2]
[null,null,null,null,null,null,null,null,null,null,null,null,null,"Illinois","Sangamon County",{"$f":"CONCATENATE(tLists4[[#This Row],[State]],\", \",tLists4[[#This Row],[County]])","v":"Illinois, Sangamon County"},2]
[null,null,null,null,null,null,null,null,null,null,null,null,null,"Illinois","Schuyler County",{"$f":"CONCATENATE(tLists4[[#This Row],[State]],\", \",tLists4[[#This Row],[County]])","v":"Illinois, Schuyler County"},2]
[null,null,null,null,null,null,null,null,null,null,null,null,null,"Illinois","Scott County",{"$f":"CONCATENATE(tLists4[[#This Row],[State]],\", \",tLists4[[#This Row],[County]])","v":"Illinois, Scott County"},2]
[null,null,null,null,null,null,null,null,null,null,null,null,null,"Illinois","Shelby County",{"$f":"CONCATENATE(tLists4[[#This Row],[State]],\", \",tLists4[[#This Row],[County]])","v":"Illinois, Shelby County"},2]
[null,null,null,null,null,null,null,null,null,null,null,null,null,"Illinois","St. Clair County",{"$f":"CONCATENATE(tLists4[[#This Row],[State]],\", \",tLists4[[#This Row],[County]])","v":"Illinois, St. Clair County"},2]
[null,null,null,null,null,null,null,null,null,null,null,null,null,"Illinois","Stark County",{"$f":"CONCATENATE(tLists4[[#This Row],[State]],\", \",tLists4[[#This Row],[County]])","v":"Illinois, Stark County"},2]
[null,null,null,null,null,null,null,null,null,null,null,null,null,"Illinois","Stephenson County",{"$f":"CONCATENATE(tLists4[[#This Row],[State]],\", \",tLists4[[#This Row],[County]])","v":"Illinois, Stephenson County"},2]
[null,null,null,null,null,null,null,null,null,null,null,null,null,"Illinois","Tazewell County",{"$f":"CONCATENATE(tLists4[[#This Row],[State]],\", \",tLists4[[#This Row],[County]])","v":"Illinois, Tazewell County"},2]
[null,null,null,null,null,null,null,null,null,null,null,null,null,"Illinois","Union County",{"$f":"CONCATENATE(tLists4[[#This Row],[State]],\", \",tLists4[[#This Row],[County]])","v":"Illinois, Union County"},2]
[null,null,null,null,null,null,null,null,null,null,null,null,null,"Illinois","Vermilion County",{"$f":"CONCATENATE(tLists4[[#This Row],[State]],\", \",tLists4[[#This Row],[County]])","v":"Illinois, Vermilion County"},2]
[null,null,null,null,null,null,null,null,null,null,null,null,null,"Illinois","Wabash County",{"$f":"CONCATENATE(tLists4[[#This Row],[State]],\", \",tLists4[[#This Row],[County]])","v":"Illinois, Wabash County"},"Not Eligible for Credit"]
[null,null,null,null,null,null,null,null,null,null,null,null,null,"Illinois","Warren County",{"$f":"CONCATENATE(tLists4[[#This Row],[State]],\", \",tLists4[[#This Row],[County]])","v":"Illinois, Warren County"},3]
[null,null,null,null,null,null,null,null,null,null,null,null,null,"Illinois","Washington County",{"$f":"CONCATENATE(tLists4[[#This Row],[State]],\", \",tLists4[[#This Row],[County]])","v":"Illinois, Washington County"},2]
[null,null,null,null,null,null,null,null,null,null,null,null,null,"Illinois","Wayne County",{"$f":"CONCATENATE(tLists4[[#This Row],[State]],\", \",tLists4[[#This Row],[County]])","v":"Illinois, Wayne County"},2]
[null,null,null,null,null,null,null,null,null,null,null,null,null,"Illinois","White County",{"$f":"CONCATENATE(tLists4[[#This Row],[State]],\", \",tLists4[[#This Row],[County]])","v":"Illinois, White County"},2]
[null,null,null,null,null,null,null,null,null,null,null,null,null,"Illinois","Whiteside County",{"$f":"CONCATENATE(tLists4[[#This Row],[State]],\", \",tLists4[[#This Row],[County]])","v":"Illinois, Whiteside County"},2]
[null,null,null,null,null,null,null,null,null,null,null,null,null,"Illinois","Will County",{"$f":"CONCATENATE(tLists4[[#This Row],[State]],\", \",tLists4[[#This Row],[County]])","v":"Illinois, Will County"},2]
[null,null,null,null,null,null,null,null,null,null,null,null,null,"Illinois","Williamson County",{"$f":"CONCATENATE(tLists4[[#This Row],[State]],\", \",tLists4[[#This Row],[County]])","v":"Illinois, Williamson County"},2]
[null,null,null,null,null,null,null,null,null,null,null,null,null,"Illinois","Winnebago County",{"$f":"CONCATENATE(tLists4[[#This Row],[State]],\", \",tLists4[[#This Row],[County]])","v":"Illinois, Winnebago County"},2]
[null,null,null,null,null,null,null,null,null,null,null,null,null,"Illinois","Woodford County",{"$f":"CONCATENATE(tLists4[[#This Row],[State]],\", \",tLists4[[#This Row],[County]])","v":"Illinois, Woodford County"},2]
[null,null,null,null,null,null,null,null,null,null,null,null,null,"Indiana","Adams County",{"$f":"CONCATENATE(tLists4[[#This Row],[State]],\", \",tLists4[[#This Row],[County]])","v":"Indiana, Adams County"},2]
[null,null,null,null,null,null,null,null,null,null,null,null,null,"Indiana","Allen County",{"$f":"CONCATENATE(tLists4[[#This Row],[State]],\", \",tLists4[[#This Row],[County]])","v":"Indiana, Allen County"},2]
[null,null,null,null,null,null,null,null,null,null,null,null,null,"Indiana","Bartholomew County",{"$f":"CONCATENATE(tLists4[[#This Row],[State]],\", \",tLists4[[#This Row],[County]])","v":"Indiana, Bartholomew County"},2]
[null,null,null,null,null,null,null,null,null,null,null,null,null,"Indiana","Benton County",{"$f":"CONCATENATE(tLists4[[#This Row],[State]],\", \",tLists4[[#This Row],[County]])","v":"Indiana, Benton County"},2]
[null,null,null,null,null,null,null,null,null,null,null,null,null,"Indiana","Blackford County",{"$f":"CONCATENATE(tLists4[[#This Row],[State]],\", \",tLists4[[#This Row],[County]])","v":"Indiana, Blackford County"},2]
[null,null,null,null,null,null,null,null,null,null,null,null,null,"Indiana","Boone County",{"$f":"CONCATENATE(tLists4[[#This Row],[State]],\", \",tLists4[[#This Row],[County]])","v":"Indiana, Boone County"},3]
[null,null,null,null,null,null,null,null,null,null,null,null,null,"Indiana","Brown County",{"$f":"CONCATENATE(tLists4[[#This Row],[State]],\", \",tLists4[[#This Row],[County]])","v":"Indiana, Brown County"},2]
[null,null,null,null,null,null,null,null,null,null,null,null,null,"Indiana","Carroll County",{"$f":"CONCATENATE(tLists4[[#This Row],[State]],\", \",tLists4[[#This Row],[County]])","v":"Indiana, Carroll County"},3]
[null,null,null,null,null,null,null,null,null,null,null,null,null,"Indiana","Cass County",{"$f":"CONCATENATE(tLists4[[#This Row],[State]],\", \",tLists4[[#This Row],[County]])","v":"Indiana, Cass County"},3]
[null,null,null,null,null,null,null,null,null,null,null,null,null,"Indiana","Clark County",{"$f":"CONCATENATE(tLists4[[#This Row],[State]],\", \",tLists4[[#This Row],[County]])","v":"Indiana, Clark County"},2]
[null,null,null,null,null,null,null,null,null,null,null,null,null,"Indiana","Clay County",{"$f":"CONCATENATE(tLists4[[#This Row],[State]],\", \",tLists4[[#This Row],[County]])","v":"Indiana, Clay County"},2]
[null,null,null,null,null,null,null,null,null,null,null,null,null,"Indiana","Clinton County",{"$f":"CONCATENATE(tLists4[[#This Row],[State]],\", \",tLists4[[#This Row],[County]])","v":"Indiana, Clinton County"},2]
[null,null,null,null,null,null,null,null,null,null,null,null,null,"Indiana","Crawford County",{"$f":"CONCATENATE(tLists4[[#This Row],[State]],\", \",tLists4[[#This Row],[County]])","v":"Indiana, Crawford County"},2]
[null,null,null,null,null,null,null,null,null,null,null,null,null,"Indiana","Daviess County",{"$f":"CONCATENATE(tLists4[[#This Row],[State]],\", \",tLists4[[#This Row],[County]])","v":"Indiana, Daviess County"},2]
[null,null,null,null,null,null,null,null,null,null,null,null,null,"Indiana","Dearborn County",{"$f":"CONCATENATE(tLists4[[#This Row],[State]],\", \",tLists4[[#This Row],[County]])","v":"Indiana, Dearborn County"},3]
[null,null,null,null,null,null,null,null,null,null,null,null,null,"Indiana","Decatur County",{"$f":"CONCATENATE(tLists4[[#This Row],[State]],\", \",tLists4[[#This Row],[County]])","v":"Indiana, Decatur County"},2]
[null,null,null,null,null,null,null,null,null,null,null,null,null,"Indiana","DeKalb County",{"$f":"CONCATENATE(tLists4[[#This Row],[State]],\", \",tLists4[[#This Row],[County]])","v":"Indiana, DeKalb County"},2]
[null,null,null,null,null,null,null,null,null,null,null,null,null,"Indiana","Delaware County",{"$f":"CONCATENATE(tLists4[[#This Row],[State]],\", \",tLists4[[#This Row],[County]])","v":"Indiana, Delaware County"},2]
[null,null,null,null,null,null,null,null,null,null,null,null,null,"Indiana","Dubois County",{"$f":"CONCATENATE(tLists4[[#This Row],[State]],\", \",tLists4[[#This Row],[County]])","v":"Indiana, Dubois County"},2]
[null,null,null,null,null,null,null,null,null,null,null,null,null,"Indiana","Elkhart County",{"$f":"CONCATENATE(tLists4[[#This Row],[State]],\", \",tLists4[[#This Row],[County]])","v":"Indiana, Elkhart County"},2]
[null,null,null,null,null,null,null,null,null,null,null,null,null,"Indiana","Fayette County",{"$f":"CONCATENATE(tLists4[[#This Row],[State]],\", \",tLists4[[#This Row],[County]])","v":"Indiana, Fayette County"},2]
[null,null,null,null,null,null,null,null,null,null,null,null,null,"Indiana","Floyd County",{"$f":"CONCATENATE(tLists4[[#This Row],[State]],\", \",tLists4[[#This Row],[County]])","v":"Indiana, Floyd County"},2]
[null,null,null,null,null,null,null,null,null,null,null,null,null,"Indiana","Fountain County",{"$f":"CONCATENATE(tLists4[[#This Row],[State]],\", \",tLists4[[#This Row],[County]])","v":"Indiana, Fountain County"},2]
[null,null,null,null,null,null,null,null,null,null,null,null,null,"Indiana","Franklin County",{"$f":"CONCATENATE(tLists4[[#This Row],[State]],\", \",tLists4[[#This Row],[County]])","v":"Indiana, Franklin County"},2]
[null,null,null,null,null,null,null,null,null,null,null,null,null,"Indiana","Fulton County",{"$f":"CONCATENATE(tLists4[[#This Row],[State]],\", \",tLists4[[#This Row],[County]])","v":"Indiana, Fulton County"},2]
[null,null,null,null,null,null,null,null,null,null,null,null,null,"Indiana","Gibson County",{"$f":"CONCATENATE(tLists4[[#This Row],[State]],\", \",tLists4[[#This Row],[County]])","v":"Indiana, Gibson County"},2]
[null,null,null,null,null,null,null,null,null,null,null,null,null,"Indiana","Grant County",{"$f":"CONCATENATE(tLists4[[#This Row],[State]],\", \",tLists4[[#This Row],[County]])","v":"Indiana, Grant County"},2]
[null,null,null,null,null,null,null,null,null,null,null,null,null,"Indiana","Greene County",{"$f":"CONCATENATE(tLists4[[#This Row],[State]],\", \",tLists4[[#This Row],[County]])","v":"Indiana, Greene County"},2]
[null,null,null,null,null,null,null,null,null,null,null,null,null,"Indiana","Hamilton County",{"$f":"CONCATENATE(tLists4[[#This Row],[State]],\", \",tLists4[[#This Row],[County]])","v":"Indiana, Hamilton County"},3]
[null,null,null,null,null,null,null,null,null,null,null,null,null,"Indiana","Hancock County",{"$f":"CONCATENATE(tLists4[[#This Row],[State]],\", \",tLists4[[#This Row],[County]])","v":"Indiana, Hancock County"},2]
[null,null,null,null,null,null,null,null,null,null,null,null,null,"Indiana","Harrison County",{"$f":"CONCATENATE(tLists4[[#This Row],[State]],\", \",tLists4[[#This Row],[County]])","v":"Indiana, Harrison County"},2]
[null,null,null,null,null,null,null,null,null,null,null,null,null,"Indiana","Hendricks County",{"$f":"CONCATENATE(tLists4[[#This Row],[State]],\", \",tLists4[[#This Row],[County]])","v":"Indiana, Hendricks County"},2]
[null,null,null,null,null,null,null,null,null,null,null,null,null,"Indiana","Henry County",{"$f":"CONCATENATE(tLists4[[#This Row],[State]],\", \",tLists4[[#This Row],[County]])","v":"Indiana, Henry County"},2]
[null,null,null,null,null,null,null,null,null,null,null,null,null,"Indiana","Howard County",{"$f":"CONCATENATE(tLists4[[#This Row],[State]],\", \",tLists4[[#This Row],[County]])","v":"Indiana, Howard County"},2]
[null,null,null,null,null,null,null,null,null,null,null,null,null,"Indiana","Huntington County",{"$f":"CONCATENATE(tLists4[[#This Row],[State]],\", \",tLists4[[#This Row],[County]])","v":"Indiana, Huntington County"},2]
[null,null,null,null,null,null,null,null,null,null,null,null,null,"Indiana","Jackson County",{"$f":"CONCATENATE(tLists4[[#This Row],[State]],\", \",tLists4[[#This Row],[County]])","v":"Indiana, Jackson County"},2]
[null,null,null,null,null,null,null,null,null,null,null,null,null,"Indiana","Jasper County",{"$f":"CONCATENATE(tLists4[[#This Row],[State]],\", \",tLists4[[#This Row],[County]])","v":"Indiana, Jasper County"},2]
[null,null,null,null,null,null,null,null,null,null,null,null,null,"Indiana","Jay County",{"$f":"CONCATENATE(tLists4[[#This Row],[State]],\", \",tLists4[[#This Row],[County]])","v":"Indiana, Jay County"},2]
[null,null,null,null,null,null,null,null,null,null,null,null,null,"Indiana","Jefferson County",{"$f":"CONCATENATE(tLists4[[#This Row],[State]],\", \",tLists4[[#This Row],[County]])","v":"Indiana, Jefferson County"},2]
[null,null,null,null,null,null,null,null,null,null,null,null,null,"Indiana","Jennings County",{"$f":"CONCATENATE(tLists4[[#This Row],[State]],\", \",tLists4[[#This Row],[County]])","v":"Indiana, Jennings County"},2]
[null,null,null,null,null,null,null,null,null,null,null,null,null,"Indiana","Johnson County",{"$f":"CONCATENATE(tLists4[[#This Row],[State]],\", \",tLists4[[#This Row],[County]])","v":"Indiana, Johnson County"},2]
[null,null,null,null,null,null,null,null,null,null,null,null,null,"Indiana","Knox County",{"$f":"CONCATENATE(tLists4[[#This Row],[State]],\", \",tLists4[[#This Row],[County]])","v":"Indiana, Knox County"},2]
[null,null,null,null,null,null,null,null,null,null,null,null,null,"Indiana","Kosciusko County",{"$f":"CONCATENATE(tLists4[[#This Row],[State]],\", \",tLists4[[#This Row],[County]])","v":"Indiana, Kosciusko County"},2]
[null,null,null,null,null,null,null,null,null,null,null,null,null,"Indiana","LaGrange County",{"$f":"CONCATENATE(tLists4[[#This Row],[State]],\", \",tLists4[[#This Row],[County]])","v":"Indiana, LaGrange County"},2]
[null,null,null,null,null,null,null,null,null,null,null,null,null,"Indiana","Lake County",{"$f":"CONCATENATE(tLists4[[#This Row],[State]],\", \",tLists4[[#This Row],[County]])","v":"Indiana, Lake County"},2]
[null,null,null,null,null,null,null,null,null,null,null,null,null,"Indiana","LaPorte County",{"$f":"CONCATENATE(tLists4[[#This Row],[State]],\", \",tLists4[[#This Row],[County]])","v":"Indiana, LaPorte County"},2]
[null,null,null,null,null,null,null,null,null,null,null,null,null,"Indiana","Lawrence County",{"$f":"CONCATENATE(tLists4[[#This Row],[State]],\", \",tLists4[[#This Row],[County]])","v":"Indiana, Lawrence County"},2]
[null,null,null,null,null,null,null,null,null,null,null,null,null,"Indiana","Madison County",{"$f":"CONCATENATE(tLists4[[#This Row],[State]],\", \",tLists4[[#This Row],[County]])","v":"Indiana, Madison County"},2]
[null,null,null,null,null,null,null,null,null,null,null,null,null,"Indiana","Marion County",{"$f":"CONCATENATE(tLists4[[#This Row],[State]],\", \",tLists4[[#This Row],[County]])","v":"Indiana, Marion County"},2]
[null,null,null,null,null,null,null,null,null,null,null,null,null,"Indiana","Marshall County",{"$f":"CONCATENATE(tLists4[[#This Row],[State]],\", \",tLists4[[#This Row],[County]])","v":"Indiana, Marshall County"},2]
[null,null,null,null,null,null,null,null,null,null,null,null,null,"Indiana","Martin County",{"$f":"CONCATENATE(tLists4[[#This Row],[State]],\", \",tLists4[[#This Row],[County]])","v":"Indiana, Martin County"},"Not Eligible for Credit"]
[null,null,null,null,null,null,null,null,null,null,null,null,null,"Indiana","Miami County",{"$f":"CONCATENATE(tLists4[[#This Row],[State]],\", \",tLists4[[#This Row],[County]])","v":"Indiana, Miami County"},2]
[null,null,null,null,null,null,null,null,null,null,null,null,null,"Indiana","Monroe County",{"$f":"CONCATENATE(tLists4[[#This Row],[State]],\", \",tLists4[[#This Row],[County]])","v":"Indiana, Monroe County"},2]
[null,null,null,null,null,null,null,null,null,null,null,null,null,"Indiana","Montgomery County",{"$f":"CONCATENATE(tLists4[[#This Row],[State]],\", \",tLists4[[#This Row],[County]])","v":"Indiana, Montgomery County"},2]
[null,null,null,null,null,null,null,null,null,null,null,null,null,"Indiana","Morgan County",{"$f":"CONCATENATE(tLists4[[#This Row],[State]],\", \",tLists4[[#This Row],[County]])","v":"Indiana, Morgan County"},2]
[null,null,null,null,null,null,null,null,null,null,null,null,null,"Indiana","Newton County",{"$f":"CONCATENATE(tLists4[[#This Row],[State]],\", \",tLists4[[#This Row],[County]])","v":"Indiana, Newton County"},2]
[null,null,null,null,null,null,null,null,null,null,null,null,null,"Indiana","Noble County",{"$f":"CONCATENATE(tLists4[[#This Row],[State]],\", \",tLists4[[#This Row],[County]])","v":"Indiana, Noble County"},2]
[null,null,null,null,null,null,null,null,null,null,null,null,null,"Indiana","Ohio County",{"$f":"CONCATENATE(tLists4[[#This Row],[State]],\", \",tLists4[[#This Row],[County]])","v":"Indiana, Ohio County"},2]
[null,null,null,null,null,null,null,null,null,null,null,null,null,"Indiana","Orange County",{"$f":"CONCATENATE(tLists4[[#This Row],[State]],\", \",tLists4[[#This Row],[County]])","v":"Indiana, Orange County"},2]
[null,null,null,null,null,null,null,null,null,null,null,null,null,"Indiana","Owen County",{"$f":"CONCATENATE(tLists4[[#This Row],[State]],\", \",tLists4[[#This Row],[County]])","v":"Indiana, Owen County"},2]
[null,null,null,null,null,null,null,null,null,null,null,null,null,"Indiana","Parke County",{"$f":"CONCATENATE(tLists4[[#This Row],[State]],\", \",tLists4[[#This Row],[County]])","v":"Indiana, Parke County"},2]
[null,null,null,null,null,null,null,null,null,null,null,null,null,"Indiana","Perry County",{"$f":"CONCATENATE(tLists4[[#This Row],[State]],\", \",tLists4[[#This Row],[County]])","v":"Indiana, Perry County"},2]
[null,null,null,null,null,null,null,null,null,null,null,null,null,"Indiana","Pike County",{"$f":"CONCATENATE(tLists4[[#This Row],[State]],\", \",tLists4[[#This Row],[County]])","v":"Indiana, Pike County"},2]
[null,null,null,null,null,null,null,null,null,null,null,null,null,"Indiana","Porter County",{"$f":"CONCATENATE(tLists4[[#This Row],[State]],\", \",tLists4[[#This Row],[County]])","v":"Indiana, Porter County"},2]
[null,null,null,null,null,null,null,null,null,null,null,null,null,"Indiana","Posey County",{"$f":"CONCATENATE(tLists4[[#This Row],[State]],\", \",tLists4[[#This Row],[County]])","v":"Indiana, Posey County"},2]
[null,null,null,null,null,null,null,null,null,null,null,null,null,"Indiana","Pulaski County",{"$f":"CONCATENATE(tLists4[[#This Row],[State]],\", \",tLists4[[#This Row],[County]])","v":"Indiana, Pulaski County"},2]
[null,null,null,null,null,null,null,null,null,null,null,null,null,"Indiana","Putnam County",{"$f":"CONCATENATE(tLists4[[#This Row],[State]],\", \",tLists4[[#This Row],[County]])","v":"Indiana, Putnam County"},2]
[null,null,null,null,null,null,null,null,null,null,null,null,null,"Indiana","Randolph County",{"$f":"CONCATENATE(tLists4[[#This Row],[State]],\", \",tLists4[[#This Row],[County]])","v":"Indiana, Randolph County"},2]
[null,null,null,null,null,null,null,null,null,null,null,null,null,"Indiana","Ripley County",{"$f":"CONCATENATE(tLists4[[#This Row],[State]],\", \",tLists4[[#This Row],[County]])","v":"Indiana, Ripley County"},2]
[null,null,null,null,null,null,null,null,null,null,null,null,null,"Indiana","Rush County",{"$f":"CONCATENATE(tLists4[[#This Row],[State]],\", \",tLists4[[#This Row],[County]])","v":"Indiana, Rush County"},2]
[null,null,null,null,null,null,null,null,null,null,null,null,null,"Indiana","Scott County",{"$f":"CONCATENATE(tLists4[[#This Row],[State]],\", \",tLists4[[#This Row],[County]])","v":"Indiana, Scott County"},2]
[null,null,null,null,null,null,null,null,null,null,null,null,null,"Indiana","Shelby County",{"$f":"CONCATENATE(tLists4[[#This Row],[State]],\", \",tLists4[[#This Row],[County]])","v":"Indiana, Shelby County"},3]
[null,null,null,null,null,null,null,null,null,null,null,null,null,"Indiana","Spencer County",{"$f":"CONCATENATE(tLists4[[#This Row],[State]],\", \",tLists4[[#This Row],[County]])","v":"Indiana, Spencer County"},2]
[null,null,null,null,null,null,null,null,null,null,null,null,null,"Indiana","St. Joseph County",{"$f":"CONCATENATE(tLists4[[#This Row],[State]],\", \",tLists4[[#This Row],[County]])","v":"Indiana, St. Joseph County"},2]
[null,null,null,null,null,null,null,null,null,null,null,null,null,"Indiana","Starke County",{"$f":"CONCATENATE(tLists4[[#This Row],[State]],\", \",tLists4[[#This Row],[County]])","v":"Indiana, Starke County"},3]
[null,null,null,null,null,null,null,null,null,null,null,null,null,"Indiana","Steuben County",{"$f":"CONCATENATE(tLists4[[#This Row],[State]],\", \",tLists4[[#This Row],[County]])","v":"Indiana, Steuben County"},2]
[null,null,null,null,null,null,null,null,null,null,null,null,null,"Indiana","Sullivan County",{"$f":"CONCATENATE(tLists4[[#This Row],[State]],\", \",tLists4[[#This Row],[County]])","v":"Indiana, Sullivan County"},2]
[null,null,null,null,null,null,null,null,null,null,null,null,null,"Indiana","Switzerland County",{"$f":"CONCATENATE(tLists4[[#This Row],[State]],\", \",tLists4[[#This Row],[County]])","v":"Indiana, Switzerland County"},2]
[null,null,null,null,null,null,null,null,null,null,null,null,null,"Indiana","Tippecanoe County",{"$f":"CONCATENATE(tLists4[[#This Row],[State]],\", \",tLists4[[#This Row],[County]])","v":"Indiana, Tippecanoe County"},3]
[null,null,null,null,null,null,null,null,null,null,null,null,null,"Indiana","Tipton County",{"$f":"CONCATENATE(tLists4[[#This Row],[State]],\", \",tLists4[[#This Row],[County]])","v":"Indiana, Tipton County"},3]
[null,null,null,null,null,null,null,null,null,null,null,null,null,"Indiana","Union County",{"$f":"CONCATENATE(tLists4[[#This Row],[State]],\", \",tLists4[[#This Row],[County]])","v":"Indiana, Union County"},2]
[null,null,null,null,null,null,null,null,null,null,null,null,null,"Indiana","Vanderburgh County",{"$f":"CONCATENATE(tLists4[[#This Row],[State]],\", \",tLists4[[#This Row],[County]])","v":"Indiana, Vanderburgh County"},2]
[null,null,null,null,null,null,null,null,null,null,null,null,null,"Indiana","Vermillion County",{"$f":"CONCATENATE(tLists4[[#This Row],[State]],\", \",tLists4[[#This Row],[County]])","v":"Indiana, Vermillion County"},2]
[null,null,null,null,null,null,null,null,null,null,null,null,null,"Indiana","Vigo County",{"$f":"CONCATENATE(tLists4[[#This Row],[State]],\", \",tLists4[[#This Row],[County]])","v":"Indiana, Vigo County"},2]
[null,null,null,null,null,null,null,null,null,null,null,null,null,"Indiana","Wabash County",{"$f":"CONCATENATE(tLists4[[#This Row],[State]],\", \",tLists4[[#This Row],[County]])","v":"Indiana, Wabash County"},2]
[null,null,null,null,null,null,null,null,null,null,null,null,null,"Indiana","Warren County",{"$f":"CONCATENATE(tLists4[[#This Row],[State]],\", \",tLists4[[#This Row],[County]])","v":"Indiana, Warren County"},2]
[null,null,null,null,null,null,null,null,null,null,null,null,null,"Indiana","Warrick County",{"$f":"CONCATENATE(tLists4[[#This Row],[State]],\", \",tLists4[[#This Row],[County]])","v":"Indiana, Warrick County"},2]
[null,null,null,null,null,null,null,null,null,null,null,null,null,"Indiana","Washington County",{"$f":"CONCATENATE(tLists4[[#This Row],[State]],\", \",tLists4[[#This Row],[County]])","v":"Indiana, Washington County"},2]
[null,null,null,null,null,null,null,null,null,null,null,null,null,"Indiana","Wayne County",{"$f":"CONCATENATE(tLists4[[#This Row],[State]],\", \",tLists4[[#This Row],[County]])","v":"Indiana, Wayne County"},2]
[null,null,null,null,null,null,null,null,null,null,null,null,null,"Indiana","Wells County",{"$f":"CONCATENATE(tLists4[[#This Row],[State]],\", \",tLists4[[#This Row],[County]])","v":"Indiana, Wells County"},2]
[null,null,null,null,null,null,null,null,null,null,null,null,null,"Indiana","White County",{"$f":"CONCATENATE(tLists4[[#This Row],[State]],\", \",tLists4[[#This Row],[County]])","v":"Indiana, White County"},3]
[null,null,null,null,null,null,null,null,null,null,null,null,null,"Indiana","Whitley County",{"$f":"CONCATENATE(tLists4[[#This Row],[State]],\", \",tLists4[[#This Row],[County]])","v":"Indiana, Whitley County"},2]
[null,null,null,null,null,null,null,null,null,null,null,null,null,"Iowa","Adair County",{"$f":"CONCATENATE(tLists4[[#This Row],[State]],\", \",tLists4[[#This Row],[County]])","v":"Iowa, Adair County"},"Not Eligible for Credit"]
[null,null,null,null,null,null,null,null,null,null,null,null,null,"Iowa","Adams County",{"$f":"CONCATENATE(tLists4[[#This Row],[State]],\", \",tLists4[[#This Row],[County]])","v":"Iowa, Adams County"},"Not Eligible for Credit"]
[null,null,null,null,null,null,null,null,null,null,null,null,null,"Iowa","Allamakee County",{"$f":"CONCATENATE(tLists4[[#This Row],[State]],\", \",tLists4[[#This Row],[County]])","v":"Iowa, Allamakee County"},2]
[null,null,null,null,null,null,null,null,null,null,null,null,null,"Iowa","Appanoose County",{"$f":"CONCATENATE(tLists4[[#This Row],[State]],\", \",tLists4[[#This Row],[County]])","v":"Iowa, Appanoose County"},"Not Eligible for Credit"]
[null,null,null,null,null,null,null,null,null,null,null,null,null,"Iowa","Audubon County",{"$f":"CONCATENATE(tLists4[[#This Row],[State]],\", \",tLists4[[#This Row],[County]])","v":"Iowa, Audubon County"},"Not Eligible for Credit"]
[null,null,null,null,null,null,null,null,null,null,null,null,null,"Iowa","Benton County",{"$f":"CONCATENATE(tLists4[[#This Row],[State]],\", \",tLists4[[#This Row],[County]])","v":"Iowa, Benton County"},2]
[null,null,null,null,null,null,null,null,null,null,null,null,null,"Iowa","Black Hawk County",{"$f":"CONCATENATE(tLists4[[#This Row],[State]],\", \",tLists4[[#This Row],[County]])","v":"Iowa, Black Hawk County"},2]
[null,null,null,null,null,null,null,null,null,null,null,null,null,"Iowa","Boone County",{"$f":"CONCATENATE(tLists4[[#This Row],[State]],\", \",tLists4[[#This Row],[County]])","v":"Iowa, Boone County"},2]
[null,null,null,null,null,null,null,null,null,null,null,null,null,"Iowa","Bremer County",{"$f":"CONCATENATE(tLists4[[#This Row],[State]],\", \",tLists4[[#This Row],[County]])","v":"Iowa, Bremer County"},2]
[null,null,null,null,null,null,null,null,null,null,null,null,null,"Iowa","Buchanan County",{"$f":"CONCATENATE(tLists4[[#This Row],[State]],\", \",tLists4[[#This Row],[County]])","v":"Iowa, Buchanan County"},2]
[null,null,null,null,null,null,null,null,null,null,null,null,null,"Iowa","Buena Vista County",{"$f":"CONCATENATE(tLists4[[#This Row],[State]],\", \",tLists4[[#This Row],[County]])","v":"Iowa, Buena Vista County"},2]
[null,null,null,null,null,null,null,null,null,null,null,null,null,"Iowa","Butler County",{"$f":"CONCATENATE(tLists4[[#This Row],[State]],\", \",tLists4[[#This Row],[County]])","v":"Iowa, Butler County"},2]
[null,null,null,null,null,null,null,null,null,null,null,null,null,"Iowa","Calhoun County",{"$f":"CONCATENATE(tLists4[[#This Row],[State]],\", \",tLists4[[#This Row],[County]])","v":"Iowa, Calhoun County"},2]
[null,null,null,null,null,null,null,null,null,null,null,null,null,"Iowa","Carroll County",{"$f":"CONCATENATE(tLists4[[#This Row],[State]],\", \",tLists4[[#This Row],[County]])","v":"Iowa, Carroll County"},"Not Eligible for Credit"]
[null,null,null,null,null,null,null,null,null,null,null,null,null,"Iowa","Cass County",{"$f":"CONCATENATE(tLists4[[#This Row],[State]],\", \",tLists4[[#This Row],[County]])","v":"Iowa, Cass County"},"Not Eligible for Credit"]
[null,null,null,null,null,null,null,null,null,null,null,null,null,"Iowa","Cedar County",{"$f":"CONCATENATE(tLists4[[#This Row],[State]],\", \",tLists4[[#This Row],[County]])","v":"Iowa, Cedar County"},2]
[null,null,null,null,null,null,null,null,null,null,null,null,null,"Iowa","Cerro Gordo County",{"$f":"CONCATENATE(tLists4[[#This Row],[State]],\", \",tLists4[[#This Row],[County]])","v":"Iowa, Cerro Gordo County"},"Not Eligible for Credit"]
[null,null,null,null,null,null,null,null,null,null,null,null,null,"Iowa","Cherokee County",{"$f":"CONCATENATE(tLists4[[#This Row],[State]],\", \",tLists4[[#This Row],[County]])","v":"Iowa, Cherokee County"},2]
[null,null,null,null,null,null,null,null,null,null,null,null,null,"Iowa","Chickasaw County",{"$f":"CONCATENATE(tLists4[[#This Row],[State]],\", \",tLists4[[#This Row],[County]])","v":"Iowa, Chickasaw County"},"Not Eligible for Credit"]
[null,null,null,null,null,null,null,null,null,null,null,null,null,"Iowa","Clarke County",{"$f":"CONCATENATE(tLists4[[#This Row],[State]],\", \",tLists4[[#This Row],[County]])","v":"Iowa, Clarke County"},"Not Eligible for Credit"]
[null,null,null,null,null,null,null,null,null,null,null,null,null,"Iowa","Clay County",{"$f":"CONCATENATE(tLists4[[#This Row],[State]],\", \",tLists4[[#This Row],[County]])","v":"Iowa, Clay County"},2]
[null,null,null,null,null,null,null,null,null,null,null,null,null,"Iowa","Clayton County",{"$f":"CONCATENATE(tLists4[[#This Row],[State]],\", \",tLists4[[#This Row],[County]])","v":"Iowa, Clayton County"},2]
[null,null,null,null,null,null,null,null,null,null,null,null,null,"Iowa","Clinton County",{"$f":"CONCATENATE(tLists4[[#This Row],[State]],\", \",tLists4[[#This Row],[County]])","v":"Iowa, Clinton County"},2]
[null,null,null,null,null,null,null,null,null,null,null,null,null,"Iowa","Crawford County",{"$f":"CONCATENATE(tLists4[[#This Row],[State]],\", \",tLists4[[#This Row],[County]])","v":"Iowa, Crawford County"},2]
[null,null,null,null,null,null,null,null,null,null,null,null,null,"Iowa","Dallas County",{"$f":"CONCATENATE(tLists4[[#This Row],[State]],\", \",tLists4[[#This Row],[County]])","v":"Iowa, Dallas County"},"Not Eligible for Credit"]
[null,null,null,null,null,null,null,null,null,null,null,null,null,"Iowa","Davis County",{"$f":"CONCATENATE(tLists4[[#This Row],[State]],\", \",tLists4[[#This Row],[County]])","v":"Iowa, Davis County"},"Not Eligible for Credit"]
[null,null,null,null,null,null,null,null,null,null,null,null,null,"Iowa","Decatur County",{"$f":"CONCATENATE(tLists4[[#This Row],[State]],\", \",tLists4[[#This Row],[County]])","v":"Iowa, Decatur County"},"Not Eligible for Credit"]
[null,null,null,null,null,null,null,null,null,null,null,null,null,"Iowa","Delaware County",{"$f":"CONCATENATE(tLists4[[#This Row],[State]],\", \",tLists4[[#This Row],[County]])","v":"Iowa, Delaware County"},2]
[null,null,null,null,null,null,null,null,null,null,null,null,null,"Iowa","Des Moines County",{"$f":"CONCATENATE(tLists4[[#This Row],[State]],\", \",tLists4[[#This Row],[County]])","v":"Iowa, Des Moines County"},2]
[null,null,null,null,null,null,null,null,null,null,null,null,null,"Iowa","Dickinson County",{"$f":"CONCATENATE(tLists4[[#This Row],[State]],\", \",tLists4[[#This Row],[County]])","v":"Iowa, Dickinson County"},2]
[null,null,null,null,null,null,null,null,null,null,null,null,null,"Iowa","Dubuque County",{"$f":"CONCATENATE(tLists4[[#This Row],[State]],\", \",tLists4[[#This Row],[County]])","v":"Iowa, Dubuque County"},2]
[null,null,null,null,null,null,null,null,null,null,null,null,null,"Iowa","Emmet County",{"$f":"CONCATENATE(tLists4[[#This Row],[State]],\", \",tLists4[[#This Row],[County]])","v":"Iowa, Emmet County"},2]
[null,null,null,null,null,null,null,null,null,null,null,null,null,"Iowa","Fayette County",{"$f":"CONCATENATE(tLists4[[#This Row],[State]],\", \",tLists4[[#This Row],[County]])","v":"Iowa, Fayette County"},2]
[null,null,null,null,null,null,null,null,null,null,null,null,null,"Iowa","Floyd County",{"$f":"CONCATENATE(tLists4[[#This Row],[State]],\", \",tLists4[[#This Row],[County]])","v":"Iowa, Floyd County"},"Not Eligible for Credit"]
[null,null,null,null,null,null,null,null,null,null,null,null,null,"Iowa","Franklin County",{"$f":"CONCATENATE(tLists4[[#This Row],[State]],\", \",tLists4[[#This Row],[County]])","v":"Iowa, Franklin County"},"Not Eligible for Credit"]
[null,null,null,null,null,null,null,null,null,null,null,null,null,"Iowa","Fremont County",{"$f":"CONCATENATE(tLists4[[#This Row],[State]],\", \",tLists4[[#This Row],[County]])","v":"Iowa, Fremont County"},"Not Eligible for Credit"]
[null,null,null,null,null,null,null,null,null,null,null,null,null,"Iowa","Greene County",{"$f":"CONCATENATE(tLists4[[#This Row],[State]],\", \",tLists4[[#This Row],[County]])","v":"Iowa, Greene County"},2]
[null,null,null,null,null,null,null,null,null,null,null,null,null,"Iowa","Grundy County",{"$f":"CONCATENATE(tLists4[[#This Row],[State]],\", \",tLists4[[#This Row],[County]])","v":"Iowa, Grundy County"},2]
[null,null,null,null,null,null,null,null,null,null,null,null,null,"Iowa","Guthrie County",{"$f":"CONCATENATE(tLists4[[#This Row],[State]],\", \",tLists4[[#This Row],[County]])","v":"Iowa, Guthrie County"},"Not Eligible for Credit"]
[null,null,null,null,null,null,null,null,null,null,null,null,null,"Iowa","Hamilton County",{"$f":"CONCATENATE(tLists4[[#This Row],[State]],\", \",tLists4[[#This Row],[County]])","v":"Iowa, Hamilton County"},2]
[null,null,null,null,null,null,null,null,null,null,null,null,null,"Iowa","Hancock County",{"$f":"CONCATENATE(tLists4[[#This Row],[State]],\", \",tLists4[[#This Row],[County]])","v":"Iowa, Hancock County"},"Not Eligible for Credit"]
[null,null,null,null,null,null,null,null,null,null,null,null,null,"Iowa","Hardin County",{"$f":"CONCATENATE(tLists4[[#This Row],[State]],\", \",tLists4[[#This Row],[County]])","v":"Iowa, Hardin County"},2]
[null,null,null,null,null,null,null,null,null,null,null,null,null,"Iowa","Harrison County",{"$f":"CONCATENATE(tLists4[[#This Row],[State]],\", \",tLists4[[#This Row],[County]])","v":"Iowa, Harrison County"},"Not Eligible for Credit"]
[null,null,null,null,null,null,null,null,null,null,null,null,null,"Iowa","Henry County",{"$f":"CONCATENATE(tLists4[[#This Row],[State]],\", \",tLists4[[#This Row],[County]])","v":"Iowa, Henry County"},2]
[null,null,null,null,null,null,null,null,null,null,null,null,null,"Iowa","Howard County",{"$f":"CONCATENATE(tLists4[[#This Row],[State]],\", \",tLists4[[#This Row],[County]])","v":"Iowa, Howard County"},2]
[null,null,null,null,null,null,null,null,null,null,null,null,null,"Iowa","Humboldt County",{"$f":"CONCATENATE(tLists4[[#This Row],[State]],\", \",tLists4[[#This Row],[County]])","v":"Iowa, Humboldt County"},2]
[null,null,null,null,null,null,null,null,null,null,null,null,null,"Iowa","Ida County",{"$f":"CONCATENATE(tLists4[[#This Row],[State]],\", \",tLists4[[#This Row],[County]])","v":"Iowa, Ida County"},2]
[null,null,null,null,null,null,null,null,null,null,null,null,null,"Iowa","Iowa County",{"$f":"CONCATENATE(tLists4[[#This Row],[State]],\", \",tLists4[[#This Row],[County]])","v":"Iowa, Iowa County"},"Not Eligible for Credit"]
[null,null,null,null,null,null,null,null,null,null,null,null,null,"Iowa","Jackson County",{"$f":"CONCATENATE(tLists4[[#This Row],[State]],\", \",tLists4[[#This Row],[County]])","v":"Iowa, Jackson County"},2]
[null,null,null,null,null,null,null,null,null,null,null,null,null,"Iowa","Jasper County",{"$f":"CONCATENATE(tLists4[[#This Row],[State]],\", \",tLists4[[#This Row],[County]])","v":"Iowa, Jasper County"},"Not Eligible for Credit"]
[null,null,null,null,null,null,null,null,null,null,null,null,null,"Iowa","Jefferson County",{"$f":"CONCATENATE(tLists4[[#This Row],[State]],\", \",tLists4[[#This Row],[County]])","v":"Iowa, Jefferson County"},2]
[null,null,null,null,null,null,null,null,null,null,null,null,null,"Iowa","Johnson County",{"$f":"CONCATENATE(tLists4[[#This Row],[State]],\", \",tLists4[[#This Row],[County]])","v":"Iowa, Johnson County"},2]
[null,null,null,null,null,null,null,null,null,null,null,null,null,"Iowa","Jones County",{"$f":"CONCATENATE(tLists4[[#This Row],[State]],\", \",tLists4[[#This Row],[County]])","v":"Iowa, Jones County"},2]
[null,null,null,null,null,null,null,null,null,null,null,null,null,"Iowa","Keokuk County",{"$f":"CONCATENATE(tLists4[[#This Row],[State]],\", \",tLists4[[#This Row],[County]])","v":"Iowa, Keokuk County"},"Not Eligible for Credit"]
[null,null,null,null,null,null,null,null,null,null,null,null,null,"Iowa","Kossuth County",{"$f":"CONCATENATE(tLists4[[#This Row],[State]],\", \",tLists4[[#This Row],[County]])","v":"Iowa, Kossuth County"},2]
[null,null,null,null,null,null,null,null,null,null,null,null,null,"Iowa","Lee County",{"$f":"CONCATENATE(tLists4[[#This Row],[State]],\", \",tLists4[[#This Row],[County]])","v":"Iowa, Lee County"},"Not Eligible for Credit"]
[null,null,null,null,null,null,null,null,null,null,null,null,null,"Iowa","Linn County",{"$f":"CONCATENATE(tLists4[[#This Row],[State]],\", \",tLists4[[#This Row],[County]])","v":"Iowa, Linn County"},2]
[null,null,null,null,null,null,null,null,null,null,null,null,null,"Iowa","Louisa County",{"$f":"CONCATENATE(tLists4[[#This Row],[State]],\", \",tLists4[[#This Row],[County]])","v":"Iowa, Louisa County"},2]
[null,null,null,null,null,null,null,null,null,null,null,null,null,"Iowa","Lucas County",{"$f":"CONCATENATE(tLists4[[#This Row],[State]],\", \",tLists4[[#This Row],[County]])","v":"Iowa, Lucas County"},"Not Eligible for Credit"]
[null,null,null,null,null,null,null,null,null,null,null,null,null,"Iowa","Lyon County",{"$f":"CONCATENATE(tLists4[[#This Row],[State]],\", \",tLists4[[#This Row],[County]])","v":"Iowa, Lyon County"},2]
[null,null,null,null,null,null,null,null,null,null,null,null,null,"Iowa","Madison County",{"$f":"CONCATENATE(tLists4[[#This Row],[State]],\", \",tLists4[[#This Row],[County]])","v":"Iowa, Madison County"},"Not Eligible for Credit"]
[null,null,null,null,null,null,null,null,null,null,null,null,null,"Iowa","Mahaska County",{"$f":"CONCATENATE(tLists4[[#This Row],[State]],\", \",tLists4[[#This Row],[County]])","v":"Iowa, Mahaska County"},"Not Eligible for Credit"]
[null,null,null,null,null,null,null,null,null,null,null,null,null,"Iowa","Marion County",{"$f":"CONCATENATE(tLists4[[#This Row],[State]],\", \",tLists4[[#This Row],[County]])","v":"Iowa, Marion County"},"Not Eligible for Credit"]
[null,null,null,null,null,null,null,null,null,null,null,null,null,"Iowa","Marshall County",{"$f":"CONCATENATE(tLists4[[#This Row],[State]],\", \",tLists4[[#This Row],[County]])","v":"Iowa, Marshall County"},2]
[null,null,null,null,null,null,null,null,null,null,null,null,null,"Iowa","Mills County",{"$f":"CONCATENATE(tLists4[[#This Row],[State]],\", \",tLists4[[#This Row],[County]])","v":"Iowa, Mills County"},"Not Eligible for Credit"]
[null,null,null,null,null,null,null,null,null,null,null,null,null,"Iowa","Mitchell County",{"$f":"CONCATENATE(tLists4[[#This Row],[State]],\", \",tLists4[[#This Row],[County]])","v":"Iowa, Mitchell County"},2]
[null,null,null,null,null,null,null,null,null,null,null,null,null,"Iowa","Monona County",{"$f":"CONCATENATE(tLists4[[#This Row],[State]],\", \",tLists4[[#This Row],[County]])","v":"Iowa, Monona County"},"Not Eligible for Credit"]
[null,null,null,null,null,null,null,null,null,null,null,null,null,"Iowa","Monroe County",{"$f":"CONCATENATE(tLists4[[#This Row],[State]],\", \",tLists4[[#This Row],[County]])","v":"Iowa, Monroe County"},2]
[null,null,null,null,null,null,null,null,null,null,null,null,null,"Iowa","Montgomery County",{"$f":"CONCATENATE(tLists4[[#This Row],[State]],\", \",tLists4[[#This Row],[County]])","v":"Iowa, Montgomery County"},"Not Eligible for Credit"]
[null,null,null,null,null,null,null,null,null,null,null,null,null,"Iowa","Muscatine County",{"$f":"CONCATENATE(tLists4[[#This Row],[State]],\", \",tLists4[[#This Row],[County]])","v":"Iowa, Muscatine County"},"Not Eligible for Credit"]
[null,null,null,null,null,null,null,null,null,null,null,null,null,"Iowa","O'Brien County",{"$f":"CONCATENATE(tLists4[[#This Row],[State]],\", \",tLists4[[#This Row],[County]])","v":"Iowa, O'Brien County"},2]
[null,null,null,null,null,null,null,null,null,null,null,null,null,"Iowa","Osceola County",{"$f":"CONCATENATE(tLists4[[#This Row],[State]],\", \",tLists4[[#This Row],[County]])","v":"Iowa, Osceola County"},2]
[null,null,null,null,null,null,null,null,null,null,null,null,null,"Iowa","Page County",{"$f":"CONCATENATE(tLists4[[#This Row],[State]],\", \",tLists4[[#This Row],[County]])","v":"Iowa, Page County"},"Not Eligible for Credit"]
[null,null,null,null,null,null,null,null,null,null,null,null,null,"Iowa","Palo Alto County",{"$f":"CONCATENATE(tLists4[[#This Row],[State]],\", \",tLists4[[#This Row],[County]])","v":"Iowa, Palo Alto County"},2]
[null,null,null,null,null,null,null,null,null,null,null,null,null,"Iowa","Plymouth County",{"$f":"CONCATENATE(tLists4[[#This Row],[State]],\", \",tLists4[[#This Row],[County]])","v":"Iowa, Plymouth County"},2]
[null,null,null,null,null,null,null,null,null,null,null,null,null,"Iowa","Pocahontas County",{"$f":"CONCATENATE(tLists4[[#This Row],[State]],\", \",tLists4[[#This Row],[County]])","v":"Iowa, Pocahontas County"},2]
[null,null,null,null,null,null,null,null,null,null,null,null,null,"Iowa","Polk County",{"$f":"CONCATENATE(tLists4[[#This Row],[State]],\", \",tLists4[[#This Row],[County]])","v":"Iowa, Polk County"},2]
[null,null,null,null,null,null,null,null,null,null,null,null,null,"Iowa","Pottawattamie County",{"$f":"CONCATENATE(tLists4[[#This Row],[State]],\", \",tLists4[[#This Row],[County]])","v":"Iowa, Pottawattamie County"},"Not Eligible for Credit"]
[null,null,null,null,null,null,null,null,null,null,null,null,null,"Iowa","Poweshiek County",{"$f":"CONCATENATE(tLists4[[#This Row],[State]],\", \",tLists4[[#This Row],[County]])","v":"Iowa, Poweshiek County"},"Not Eligible for Credit"]
[null,null,null,null,null,null,null,null,null,null,null,null,null,"Iowa","Ringgold County",{"$f":"CONCATENATE(tLists4[[#This Row],[State]],\", \",tLists4[[#This Row],[County]])","v":"Iowa, Ringgold County"},"Not Eligible for Credit"]
[null,null,null,null,null,null,null,null,null,null,null,null,null,"Iowa","Sac County",{"$f":"CONCATENATE(tLists4[[#This Row],[State]],\", \",tLists4[[#This Row],[County]])","v":"Iowa, Sac County"},2]
[null,null,null,null,null,null,null,null,null,null,null,null,null,"Iowa","Scott County",{"$f":"CONCATENATE(tLists4[[#This Row],[State]],\", \",tLists4[[#This Row],[County]])","v":"Iowa, Scott County"},2]
[null,null,null,null,null,null,null,null,null,null,null,null,null,"Iowa","Shelby County",{"$f":"CONCATENATE(tLists4[[#This Row],[State]],\", \",tLists4[[#This Row],[County]])","v":"Iowa, Shelby County"},"Not Eligible for Credit"]
[null,null,null,null,null,null,null,null,null,null,null,null,null,"Iowa","Sioux County",{"$f":"CONCATENATE(tLists4[[#This Row],[State]],\", \",tLists4[[#This Row],[County]])","v":"Iowa, Sioux County"},2]
[null,null,null,null,null,null,null,null,null,null,null,null,null,"Iowa","Story County",{"$f":"CONCATENATE(tLists4[[#This Row],[State]],\", \",tLists4[[#This Row],[County]])","v":"Iowa, Story County"},2]
[null,null,null,null,null,null,null,null,null,null,null,null,null,"Iowa","Tama County",{"$f":"CONCATENATE(tLists4[[#This Row],[State]],\", \",tLists4[[#This Row],[County]])","v":"Iowa, Tama County"},2]
[null,null,null,null,null,null,null,null,null,null,null,null,null,"Iowa","Taylor County",{"$f":"CONCATENATE(tLists4[[#This Row],[State]],\", \",tLists4[[#This Row],[County]])","v":"Iowa, Taylor County"},"Not Eligible for Credit"]
[null,null,null,null,null,null,null,null,null,null,null,null,null,"Iowa","Union County",{"$f":"CONCATENATE(tLists4[[#This Row],[State]],\", \",tLists4[[#This Row],[County]])","v":"Iowa, Union County"},"Not Eligible for Credit"]
[null,null,null,null,null,null,null,null,null,null,null,null,null,"Iowa","Van Buren County",{"$f":"CONCATENATE(tLists4[[#This Row],[State]],\", \",tLists4[[#This Row],[County]])","v":"Iowa, Van Buren County"},"Not Eligible for Credit"]
[null,null,null,null,null,null,null,null,null,null,null,null,null,"Iowa","Wapello County",{"$f":"CONCATENATE(tLists4[[#This Row],[State]],\", \",tLists4[[#This Row],[County]])","v":"Iowa, Wapello County"},2]
[null,null,null,null,null,null,null,null,null,null,null,null,null,"Iowa","Warren County",{"$f":"CONCATENATE(tLists4[[#This Row],[State]],\", \",tLists4[[#This Row],[County]])","v":"Iowa, Warren County"},"Not Eligible for Credit"]
[null,null,null,null,null,null,null,null,null,null,null,null,null,"Iowa","Washington County",{"$f":"CONCATENATE(tLists4[[#This Row],[State]],\", \",tLists4[[#This Row],[County]])","v":"Iowa, Washington County"},"Not Eligible for Credit"]
[null,null,null,null,null,null,null,null,null,null,null,null,null,"Iowa","Wayne County",{"$f":"CONCATENATE(tLists4[[#This Row],[State]],\", \",tLists4[[#This Row],[County]])","v":"Iowa, Wayne County"},"Not Eligible for Credit"]
[null,null,null,null,null,null,null,null,null,null,null,null,null,"Iowa","Webster County",{"$f":"CONCATENATE(tLists4[[#This Row],[State]],\", \",tLists4[[#This Row],[County]])","v":"Iowa, Webster County"},2]
[null,null,null,null,null,null,null,null,null,null,null,null,null,"Iowa","Winnebago County",{"$f":"CONCATENATE(tLists4[[#This Row],[State]],\", \",tLists4[[#This Row],[County]])","v":"Iowa, Winnebago County"},"Not Eligible for Credit"]
[null,null,null,null,null,null,null,null,null,null,null,null,null,"Iowa","Winneshiek County",{"$f":"CONCATENATE(tLists4[[#This Row],[State]],\", \",tLists4[[#This Row],[County]])","v":"Iowa, Winneshiek County"},2]
[null,null,null,null,null,null,null,null,null,null,null,null,null,"Iowa","Woodbury County",{"$f":"CONCATENATE(tLists4[[#This Row],[State]],\", \",tLists4[[#This Row],[County]])","v":"Iowa, Woodbury County"},2]
[null,null,null,null,null,null,null,null,null,null,null,null,null,"Iowa","Worth County",{"$f":"CONCATENATE(tLists4[[#This Row],[State]],\", \",tLists4[[#This Row],[County]])","v":"Iowa, Worth County"},2]
[null,null,null,null,null,null,null,null,null,null,null,null,null,"Iowa","Wright County",{"$f":"CONCATENATE(tLists4[[#This Row],[State]],\", \",tLists4[[#This Row],[County]])","v":"Iowa, Wright County"},2]
[null,null,null,null,null,null,null,null,null,null,null,null,null,"Kansas","Allen County",{"$f":"CONCATENATE(tLists4[[#This Row],[State]],\", \",tLists4[[#This Row],[County]])","v":"Kansas, Allen County"},"Not Eligible for Credit"]
[null,null,null,null,null,null,null,null,null,null,null,null,null,"Kansas","Anderson County",{"$f":"CONCATENATE(tLists4[[#This Row],[State]],\", \",tLists4[[#This Row],[County]])","v":"Kansas, Anderson County"},"Not Eligible for Credit"]
[null,null,null,null,null,null,null,null,null,null,null,null,null,"Kansas","Atchison County",{"$f":"CONCATENATE(tLists4[[#This Row],[State]],\", \",tLists4[[#This Row],[County]])","v":"Kansas, Atchison County"},"Not Eligible for Credit"]
[null,null,null,null,null,null,null,null,null,null,null,null,null,"Kansas","Barber County",{"$f":"CONCATENATE(tLists4[[#This Row],[State]],\", \",tLists4[[#This Row],[County]])","v":"Kansas, Barber County"},2]
[null,null,null,null,null,null,null,null,null,null,null,null,null,"Kansas","Barton County",{"$f":"CONCATENATE(tLists4[[#This Row],[State]],\", \",tLists4[[#This Row],[County]])","v":"Kansas, Barton County"},2]
[null,null,null,null,null,null,null,null,null,null,null,null,null,"Kansas","Bourbon County",{"$f":"CONCATENATE(tLists4[[#This Row],[State]],\", \",tLists4[[#This Row],[County]])","v":"Kansas, Bourbon County"},"Not Eligible for Credit"]
[null,null,null,null,null,null,null,null,null,null,null,null,null,"Kansas","Brown County",{"$f":"CONCATENATE(tLists4[[#This Row],[State]],\", \",tLists4[[#This Row],[County]])","v":"Kansas, Brown County"},"Not Eligible for Credit"]
[null,null,null,null,null,null,null,null,null,null,null,null,null,"Kansas","Butler County",{"$f":"CONCATENATE(tLists4[[#This Row],[State]],\", \",tLists4[[#This Row],[County]])","v":"Kansas, Butler County"},"Not Eligible for Credit"]
[null,null,null,null,null,null,null,null,null,null,null,null,null,"Kansas","Chase County",{"$f":"CONCATENATE(tLists4[[#This Row],[State]],\", \",tLists4[[#This Row],[County]])","v":"Kansas, Chase County"},"Not Eligible for Credit"]
[null,null,null,null,null,null,null,null,null,null,null,null,null,"Kansas","Chautauqua County",{"$f":"CONCATENATE(tLists4[[#This Row],[State]],\", \",tLists4[[#This Row],[County]])","v":"Kansas, Chautauqua County"},"Not Eligible for Credit"]
[null,null,null,null,null,null,null,null,null,null,null,null,null,"Kansas","Cherokee County",{"$f":"CONCATENATE(tLists4[[#This Row],[State]],\", \",tLists4[[#This Row],[County]])","v":"Kansas, Cherokee County"},"Not Eligible for Credit"]
[null,null,null,null,null,null,null,null,null,null,null,null,null,"Kansas","Cheyenne County",{"$f":"CONCATENATE(tLists4[[#This Row],[State]],\", \",tLists4[[#This Row],[County]])","v":"Kansas, Cheyenne County"},3]
[null,null,null,null,null,null,null,null,null,null,null,null,null,"Kansas","Clark County",{"$f":"CONCATENATE(tLists4[[#This Row],[State]],\", \",tLists4[[#This Row],[County]])","v":"Kansas, Clark County"},3]
[null,null,null,null,null,null,null,null,null,null,null,null,null,"Kansas","Clay County",{"$f":"CONCATENATE(tLists4[[#This Row],[State]],\", \",tLists4[[#This Row],[County]])","v":"Kansas, Clay County"},"Not Eligible for Credit"]
[null,null,null,null,null,null,null,null,null,null,null,null,null,"Kansas","Cloud County",{"$f":"CONCATENATE(tLists4[[#This Row],[State]],\", \",tLists4[[#This Row],[County]])","v":"Kansas, Cloud County"},2]
[null,null,null,null,null,null,null,null,null,null,null,null,null,"Kansas","Coffey County",{"$f":"CONCATENATE(tLists4[[#This Row],[State]],\", \",tLists4[[#This Row],[County]])","v":"Kansas, Coffey County"},"Not Eligible for Credit"]
[null,null,null,null,null,null,null,null,null,null,null,null,null,"Kansas","Comanche County",{"$f":"CONCATENATE(tLists4[[#This Row],[State]],\", \",tLists4[[#This Row],[County]])","v":"Kansas, Comanche County"},2]
[null,null,null,null,null,null,null,null,null,null,null,null,null,"Kansas","Cowley County",{"$f":"CONCATENATE(tLists4[[#This Row],[State]],\", \",tLists4[[#This Row],[County]])","v":"Kansas, Cowley County"},"Not Eligible for Credit"]
[null,null,null,null,null,null,null,null,null,null,null,null,null,"Kansas","Crawford County",{"$f":"CONCATENATE(tLists4[[#This Row],[State]],\", \",tLists4[[#This Row],[County]])","v":"Kansas, Crawford County"},"Not Eligible for Credit"]
[null,null,null,null,null,null,null,null,null,null,null,null,null,"Kansas","Decatur County",{"$f":"CONCATENATE(tLists4[[#This Row],[State]],\", \",tLists4[[#This Row],[County]])","v":"Kansas, Decatur County"},2]
[null,null,null,null,null,null,null,null,null,null,null,null,null,"Kansas","Dickinson County",{"$f":"CONCATENATE(tLists4[[#This Row],[State]],\", \",tLists4[[#This Row],[County]])","v":"Kansas, Dickinson County"},"Not Eligible for Credit"]
[null,null,null,null,null,null,null,null,null,null,null,null,null,"Kansas","Doniphan County",{"$f":"CONCATENATE(tLists4[[#This Row],[State]],\", \",tLists4[[#This Row],[County]])","v":"Kansas, Doniphan County"},"Not Eligible for Credit"]
[null,null,null,null,null,null,null,null,null,null,null,null,null,"Kansas","Douglas County",{"$f":"CONCATENATE(tLists4[[#This Row],[State]],\", \",tLists4[[#This Row],[County]])","v":"Kansas, Douglas County"},"Not Eligible for Credit"]
[null,null,null,null,null,null,null,null,null,null,null,null,null,"Kansas","Edwards County",{"$f":"CONCATENATE(tLists4[[#This Row],[State]],\", \",tLists4[[#This Row],[County]])","v":"Kansas, Edwards County"},2]
[null,null,null,null,null,null,null,null,null,null,null,null,null,"Kansas","Elk County",{"$f":"CONCATENATE(tLists4[[#This Row],[State]],\", \",tLists4[[#This Row],[County]])","v":"Kansas, Elk County"},"Not Eligible for Credit"]
[null,null,null,null,null,null,null,null,null,null,null,null,null,"Kansas","Ellis County",{"$f":"CONCATENATE(tLists4[[#This Row],[State]],\", \",tLists4[[#This Row],[County]])","v":"Kansas, Ellis County"},2]
[null,null,null,null,null,null,null,null,null,null,null,null,null,"Kansas","Ellsworth County",{"$f":"CONCATENATE(tLists4[[#This Row],[State]],\", \",tLists4[[#This Row],[County]])","v":"Kansas, Ellsworth County"},2]
[null,null,null,null,null,null,null,null,null,null,null,null,null,"Kansas","Finney County",{"$f":"CONCATENATE(tLists4[[#This Row],[State]],\", \",tLists4[[#This Row],[County]])","v":"Kansas, Finney County"},3]
[null,null,null,null,null,null,null,null,null,null,null,null,null,"Kansas","Ford County",{"$f":"CONCATENATE(tLists4[[#This Row],[State]],\", \",tLists4[[#This Row],[County]])","v":"Kansas, Ford County"},3]
[null,null,null,null,null,null,null,null,null,null,null,null,null,"Kansas","Franklin County",{"$f":"CONCATENATE(tLists4[[#This Row],[State]],\", \",tLists4[[#This Row],[County]])","v":"Kansas, Franklin County"},"Not Eligible for Credit"]
[null,null,null,null,null,null,null,null,null,null,null,null,null,"Kansas","Geary County",{"$f":"CONCATENATE(tLists4[[#This Row],[State]],\", \",tLists4[[#This Row],[County]])","v":"Kansas, Geary County"},"Not Eligible for Credit"]
[null,null,null,null,null,null,null,null,null,null,null,null,null,"Kansas","Gove County",{"$f":"CONCATENATE(tLists4[[#This Row],[State]],\", \",tLists4[[#This Row],[County]])","v":"Kansas, Gove County"},3]
[null,null,null,null,null,null,null,null,null,null,null,null,null,"Kansas","Graham County",{"$f":"CONCATENATE(tLists4[[#This Row],[State]],\", \",tLists4[[#This Row],[County]])","v":"Kansas, Graham County"},3]
[null,null,null,null,null,null,null,null,null,null,null,null,null,"Kansas","Grant County",{"$f":"CONCATENATE(tLists4[[#This Row],[State]],\", \",tLists4[[#This Row],[County]])","v":"Kansas, Grant County"},3]
[null,null,null,null,null,null,null,null,null,null,null,null,null,"Kansas","Gray County",{"$f":"CONCATENATE(tLists4[[#This Row],[State]],\", \",tLists4[[#This Row],[County]])","v":"Kansas, Gray County"},2]
[null,null,null,null,null,null,null,null,null,null,null,null,null,"Kansas","Greeley County",{"$f":"CONCATENATE(tLists4[[#This Row],[State]],\", \",tLists4[[#This Row],[County]])","v":"Kansas, Greeley County"},3]
[null,null,null,null,null,null,null,null,null,null,null,null,null,"Kansas","Greenwood County",{"$f":"CONCATENATE(tLists4[[#This Row],[State]],\", \",tLists4[[#This Row],[County]])","v":"Kansas, Greenwood County"},"Not Eligible for Credit"]
[null,null,null,null,null,null,null,null,null,null,null,null,null,"Kansas","Hamilton County",{"$f":"CONCATENATE(tLists4[[#This Row],[State]],\", \",tLists4[[#This Row],[County]])","v":"Kansas, Hamilton County"},3]
[null,null,null,null,null,null,null,null,null,null,null,null,null,"Kansas","Harper County",{"$f":"CONCATENATE(tLists4[[#This Row],[State]],\", \",tLists4[[#This Row],[County]])","v":"Kansas, Harper County"},2]
[null,null,null,null,null,null,null,null,null,null,null,null,null,"Kansas","Harvey County",{"$f":"CONCATENATE(tLists4[[#This Row],[State]],\", \",tLists4[[#This Row],[County]])","v":"Kansas, Harvey County"},"Not Eligible for Credit"]
[null,null,null,null,null,null,null,null,null,null,null,null,null,"Kansas","Haskell County",{"$f":"CONCATENATE(tLists4[[#This Row],[State]],\", \",tLists4[[#This Row],[County]])","v":"Kansas, Haskell County"},3]
[null,null,null,null,null,null,null,null,null,null,null,null,null,"Kansas","Hodgeman County",{"$f":"CONCATENATE(tLists4[[#This Row],[State]],\", \",tLists4[[#This Row],[County]])","v":"Kansas, Hodgeman County"},2]
[null,null,null,null,null,null,null,null,null,null,null,null,null,"Kansas","Jackson County",{"$f":"CONCATENATE(tLists4[[#This Row],[State]],\", \",tLists4[[#This Row],[County]])","v":"Kansas, Jackson County"},"Not Eligible for Credit"]
[null,null,null,null,null,null,null,null,null,null,null,null,null,"Kansas","Jefferson County",{"$f":"CONCATENATE(tLists4[[#This Row],[State]],\", \",tLists4[[#This Row],[County]])","v":"Kansas, Jefferson County"},"Not Eligible for Credit"]
[null,null,null,null,null,null,null,null,null,null,null,null,null,"Kansas","Jewell County",{"$f":"CONCATENATE(tLists4[[#This Row],[State]],\", \",tLists4[[#This Row],[County]])","v":"Kansas, Jewell County"},2]
[null,null,null,null,null,null,null,null,null,null,null,null,null,"Kansas","Johnson County",{"$f":"CONCATENATE(tLists4[[#This Row],[State]],\", \",tLists4[[#This Row],[County]])","v":"Kansas, Johnson County"},"Not Eligible for Credit"]
[null,null,null,null,null,null,null,null,null,null,null,null,null,"Kansas","Kearny County",{"$f":"CONCATENATE(tLists4[[#This Row],[State]],\", \",tLists4[[#This Row],[County]])","v":"Kansas, Kearny County"},3]
[null,null,null,null,null,null,null,null,null,null,null,null,null,"Kansas","Kingman County",{"$f":"CONCATENATE(tLists4[[#This Row],[State]],\", \",tLists4[[#This Row],[County]])","v":"Kansas, Kingman County"},2]
[null,null,null,null,null,null,null,null,null,null,null,null,null,"Kansas","Kiowa County",{"$f":"CONCATENATE(tLists4[[#This Row],[State]],\", \",tLists4[[#This Row],[County]])","v":"Kansas, Kiowa County"},2]
[null,null,null,null,null,null,null,null,null,null,null,null,null,"Kansas","Labette County",{"$f":"CONCATENATE(tLists4[[#This Row],[State]],\", \",tLists4[[#This Row],[County]])","v":"Kansas, Labette County"},"Not Eligible for Credit"]
[null,null,null,null,null,null,null,null,null,null,null,null,null,"Kansas","Lane County",{"$f":"CONCATENATE(tLists4[[#This Row],[State]],\", \",tLists4[[#This Row],[County]])","v":"Kansas, Lane County"},3]
[null,null,null,null,null,null,null,null,null,null,null,null,null,"Kansas","Leavenworth County",{"$f":"CONCATENATE(tLists4[[#This Row],[State]],\", \",tLists4[[#This Row],[County]])","v":"Kansas, Leavenworth County"},"Not Eligible for Credit"]
[null,null,null,null,null,null,null,null,null,null,null,null,null,"Kansas","Lincoln County",{"$f":"CONCATENATE(tLists4[[#This Row],[State]],\", \",tLists4[[#This Row],[County]])","v":"Kansas, Lincoln County"},2]
[null,null,null,null,null,null,null,null,null,null,null,null,null,"Kansas","Linn County",{"$f":"CONCATENATE(tLists4[[#This Row],[State]],\", \",tLists4[[#This Row],[County]])","v":"Kansas, Linn County"},"Not Eligible for Credit"]
[null,null,null,null,null,null,null,null,null,null,null,null,null,"Kansas","Logan County",{"$f":"CONCATENATE(tLists4[[#This Row],[State]],\", \",tLists4[[#This Row],[County]])","v":"Kansas, Logan County"},3]
[null,null,null,null,null,null,null,null,null,null,null,null,null,"Kansas","Lyon County",{"$f":"CONCATENATE(tLists4[[#This Row],[State]],\", \",tLists4[[#This Row],[County]])","v":"Kansas, Lyon County"},"Not Eligible for Credit"]
[null,null,null,null,null,null,null,null,null,null,null,null,null,"Kansas","Marion County",{"$f":"CONCATENATE(tLists4[[#This Row],[State]],\", \",tLists4[[#This Row],[County]])","v":"Kansas, Marion County"},"Not Eligible for Credit"]
[null,null,null,null,null,null,null,null,null,null,null,null,null,"Kansas","Marshall County",{"$f":"CONCATENATE(tLists4[[#This Row],[State]],\", \",tLists4[[#This Row],[County]])","v":"Kansas, Marshall County"},"Not Eligible for Credit"]
[null,null,null,null,null,null,null,null,null,null,null,null,null,"Kansas","McPherson County",{"$f":"CONCATENATE(tLists4[[#This Row],[State]],\", \",tLists4[[#This Row],[County]])","v":"Kansas, McPherson County"},"Not Eligible for Credit"]
[null,null,null,null,null,null,null,null,null,null,null,null,null,"Kansas","Meade County",{"$f":"CONCATENATE(tLists4[[#This Row],[State]],\", \",tLists4[[#This Row],[County]])","v":"Kansas, Meade County"},3]
[null,null,null,null,null,null,null,null,null,null,null,null,null,"Kansas","Miami County",{"$f":"CONCATENATE(tLists4[[#This Row],[State]],\", \",tLists4[[#This Row],[County]])","v":"Kansas, Miami County"},"Not Eligible for Credit"]
[null,null,null,null,null,null,null,null,null,null,null,null,null,"Kansas","Mitchell County",{"$f":"CONCATENATE(tLists4[[#This Row],[State]],\", \",tLists4[[#This Row],[County]])","v":"Kansas, Mitchell County"},2]
[null,null,null,null,null,null,null,null,null,null,null,null,null,"Kansas","Montgomery County",{"$f":"CONCATENATE(tLists4[[#This Row],[State]],\", \",tLists4[[#This Row],[County]])","v":"Kansas, Montgomery County"},"Not Eligible for Credit"]
[null,null,null,null,null,null,null,null,null,null,null,null,null,"Kansas","Morris County",{"$f":"CONCATENATE(tLists4[[#This Row],[State]],\", \",tLists4[[#This Row],[County]])","v":"Kansas, Morris County"},"Not Eligible for Credit"]
[null,null,null,null,null,null,null,null,null,null,null,null,null,"Kansas","Morton County",{"$f":"CONCATENATE(tLists4[[#This Row],[State]],\", \",tLists4[[#This Row],[County]])","v":"Kansas, Morton County"},3]
[null,null,null,null,null,null,null,null,null,null,null,null,null,"Kansas","Nemaha County",{"$f":"CONCATENATE(tLists4[[#This Row],[State]],\", \",tLists4[[#This Row],[County]])","v":"Kansas, Nemaha County"},"Not Eligible for Credit"]
[null,null,null,null,null,null,null,null,null,null,null,null,null,"Kansas","Neosho County",{"$f":"CONCATENATE(tLists4[[#This Row],[State]],\", \",tLists4[[#This Row],[County]])","v":"Kansas, Neosho County"},"Not Eligible for Credit"]
[null,null,null,null,null,null,null,null,null,null,null,null,null,"Kansas","Ness County",{"$f":"CONCATENATE(tLists4[[#This Row],[State]],\", \",tLists4[[#This Row],[County]])","v":"Kansas, Ness County"},3]
[null,null,null,null,null,null,null,null,null,null,null,null,null,"Kansas","Norton County",{"$f":"CONCATENATE(tLists4[[#This Row],[State]],\", \",tLists4[[#This Row],[County]])","v":"Kansas, Norton County"},3]
[null,null,null,null,null,null,null,null,null,null,null,null,null,"Kansas","Osage County",{"$f":"CONCATENATE(tLists4[[#This Row],[State]],\", \",tLists4[[#This Row],[County]])","v":"Kansas, Osage County"},"Not Eligible for Credit"]
[null,null,null,null,null,null,null,null,null,null,null,null,null,"Kansas","Osborne County",{"$f":"CONCATENATE(tLists4[[#This Row],[State]],\", \",tLists4[[#This Row],[County]])","v":"Kansas, Osborne County"},2]
[null,null,null,null,null,null,null,null,null,null,null,null,null,"Kansas","Ottawa County",{"$f":"CONCATENATE(tLists4[[#This Row],[State]],\", \",tLists4[[#This Row],[County]])","v":"Kansas, Ottawa County"},2]
[null,null,null,null,null,null,null,null,null,null,null,null,null,"Kansas","Pawnee County",{"$f":"CONCATENATE(tLists4[[#This Row],[State]],\", \",tLists4[[#This Row],[County]])","v":"Kansas, Pawnee County"},2]
[null,null,null,null,null,null,null,null,null,null,null,null,null,"Kansas","Phillips County",{"$f":"CONCATENATE(tLists4[[#This Row],[State]],\", \",tLists4[[#This Row],[County]])","v":"Kansas, Phillips County"},2]
[null,null,null,null,null,null,null,null,null,null,null,null,null,"Kansas","Pottawatomie County",{"$f":"CONCATENATE(tLists4[[#This Row],[State]],\", \",tLists4[[#This Row],[County]])","v":"Kansas, Pottawatomie County"},"Not Eligible for Credit"]
[null,null,null,null,null,null,null,null,null,null,null,null,null,"Kansas","Pratt County",{"$f":"CONCATENATE(tLists4[[#This Row],[State]],\", \",tLists4[[#This Row],[County]])","v":"Kansas, Pratt County"},2]
[null,null,null,null,null,null,null,null,null,null,null,null,null,"Kansas","Rawlins County",{"$f":"CONCATENATE(tLists4[[#This Row],[State]],\", \",tLists4[[#This Row],[County]])","v":"Kansas, Rawlins County"},3]
[null,null,null,null,null,null,null,null,null,null,null,null,null,"Kansas","Reno County",{"$f":"CONCATENATE(tLists4[[#This Row],[State]],\", \",tLists4[[#This Row],[County]])","v":"Kansas, Reno County"},2]
[null,null,null,null,null,null,null,null,null,null,null,null,null,"Kansas","Republic County",{"$f":"CONCATENATE(tLists4[[#This Row],[State]],\", \",tLists4[[#This Row],[County]])","v":"Kansas, Republic County"},2]
[null,null,null,null,null,null,null,null,null,null,null,null,null,"Kansas","Rice County",{"$f":"CONCATENATE(tLists4[[#This Row],[State]],\", \",tLists4[[#This Row],[County]])","v":"Kansas, Rice County"},2]
[null,null,null,null,null,null,null,null,null,null,null,null,null,"Kansas","Riley County",{"$f":"CONCATENATE(tLists4[[#This Row],[State]],\", \",tLists4[[#This Row],[County]])","v":"Kansas, Riley County"},"Not Eligible for Credit"]
[null,null,null,null,null,null,null,null,null,null,null,null,null,"Kansas","Rooks County",{"$f":"CONCATENATE(tLists4[[#This Row],[State]],\", \",tLists4[[#This Row],[County]])","v":"Kansas, Rooks County"},2]
[null,null,null,null,null,null,null,null,null,null,null,null,null,"Kansas","Rush County",{"$f":"CONCATENATE(tLists4[[#This Row],[State]],\", \",tLists4[[#This Row],[County]])","v":"Kansas, Rush County"},2]
[null,null,null,null,null,null,null,null,null,null,null,null,null,"Kansas","Russell County",{"$f":"CONCATENATE(tLists4[[#This Row],[State]],\", \",tLists4[[#This Row],[County]])","v":"Kansas, Russell County"},2]
[null,null,null,null,null,null,null,null,null,null,null,null,null,"Kansas","Saline County",{"$f":"CONCATENATE(tLists4[[#This Row],[State]],\", \",tLists4[[#This Row],[County]])","v":"Kansas, Saline County"},2]
[null,null,null,null,null,null,null,null,null,null,null,null,null,"Kansas","Scott County",{"$f":"CONCATENATE(tLists4[[#This Row],[State]],\", \",tLists4[[#This Row],[County]])","v":"Kansas, Scott County"},3]
[null,null,null,null,null,null,null,null,null,null,null,null,null,"Kansas","Sedgwick County",{"$f":"CONCATENATE(tLists4[[#This Row],[State]],\", \",tLists4[[#This Row],[County]])","v":"Kansas, Sedgwick County"},"Not Eligible for Credit"]
[null,null,null,null,null,null,null,null,null,null,null,null,null,"Kansas","Seward County",{"$f":"CONCATENATE(tLists4[[#This Row],[State]],\", \",tLists4[[#This Row],[County]])","v":"Kansas, Seward County"},3]
[null,null,null,null,null,null,null,null,null,null,null,null,null,"Kansas","Shawnee County",{"$f":"CONCATENATE(tLists4[[#This Row],[State]],\", \",tLists4[[#This Row],[County]])","v":"Kansas, Shawnee County"},"Not Eligible for Credit"]
[null,null,null,null,null,null,null,null,null,null,null,null,null,"Kansas","Sheridan County",{"$f":"CONCATENATE(tLists4[[#This Row],[State]],\", \",tLists4[[#This Row],[County]])","v":"Kansas, Sheridan County"},3]
[null,null,null,null,null,null,null,null,null,null,null,null,null,"Kansas","Sherman County",{"$f":"CONCATENATE(tLists4[[#This Row],[State]],\", \",tLists4[[#This Row],[County]])","v":"Kansas, Sherman County"},3]
[null,null,null,null,null,null,null,null,null,null,null,null,null,"Kansas","Smith County",{"$f":"CONCATENATE(tLists4[[#This Row],[State]],\", \",tLists4[[#This Row],[County]])","v":"Kansas, Smith County"},2]
[null,null,null,null,null,null,null,null,null,null,null,null,null,"Kansas","Stafford County",{"$f":"CONCATENATE(tLists4[[#This Row],[State]],\", \",tLists4[[#This Row],[County]])","v":"Kansas, Stafford County"},2]
[null,null,null,null,null,null,null,null,null,null,null,null,null,"Kansas","Stanton County",{"$f":"CONCATENATE(tLists4[[#This Row],[State]],\", \",tLists4[[#This Row],[County]])","v":"Kansas, Stanton County"},3]
[null,null,null,null,null,null,null,null,null,null,null,null,null,"Kansas","Stevens County",{"$f":"CONCATENATE(tLists4[[#This Row],[State]],\", \",tLists4[[#This Row],[County]])","v":"Kansas, Stevens County"},3]
[null,null,null,null,null,null,null,null,null,null,null,null,null,"Kansas","Sumner County",{"$f":"CONCATENATE(tLists4[[#This Row],[State]],\", \",tLists4[[#This Row],[County]])","v":"Kansas, Sumner County"},"Not Eligible for Credit"]
[null,null,null,null,null,null,null,null,null,null,null,null,null,"Kansas","Thomas County",{"$f":"CONCATENATE(tLists4[[#This Row],[State]],\", \",tLists4[[#This Row],[County]])","v":"Kansas, Thomas County"},3]
[null,null,null,null,null,null,null,null,null,null,null,null,null,"Kansas","Trego County",{"$f":"CONCATENATE(tLists4[[#This Row],[State]],\", \",tLists4[[#This Row],[County]])","v":"Kansas, Trego County"},2]
[null,null,null,null,null,null,null,null,null,null,null,null,null,"Kansas","Wabaunsee County",{"$f":"CONCATENATE(tLists4[[#This Row],[State]],\", \",tLists4[[#This Row],[County]])","v":"Kansas, Wabaunsee County"},"Not Eligible for Credit"]
[null,null,null,null,null,null,null,null,null,null,null,null,null,"Kansas","Wallace County",{"$f":"CONCATENATE(tLists4[[#This Row],[State]],\", \",tLists4[[#This Row],[County]])","v":"Kansas, Wallace County"},3]
[null,null,null,null,null,null,null,null,null,null,null,null,null,"Kansas","Washington County",{"$f":"CONCATENATE(tLists4[[#This Row],[State]],\", \",tLists4[[#This Row],[County]])","v":"Kansas, Washington County"},"Not Eligible for Credit"]
[null,null,null,null,null,null,null,null,null,null,null,null,null,"Kansas","Wichita County",{"$f":"CONCATENATE(tLists4[[#This Row],[State]],\", \",tLists4[[#This Row],[County]])","v":"Kansas, Wichita County"},3]
[null,null,null,null,null,null,null,null,null,null,null,null,null,"Kansas","Wilson County",{"$f":"CONCATENATE(tLists4[[#This Row],[State]],\", \",tLists4[[#This Row],[County]])","v":"Kansas, Wilson County"},"Not Eligible for Credit"]
[null,null,null,null,null,null,null,null,null,null,null,null,null,"Kansas","Woodson County",{"$f":"CONCATENATE(tLists4[[#This Row],[State]],\", \",tLists4[[#This Row],[County]])","v":"Kansas, Woodson County"},"Not Eligible for Credit"]
[null,null,null,null,null,null,null,null,null,null,null,null,null,"Kansas","Wyandotte County",{"$f":"CONCATENATE(tLists4[[#This Row],[State]],\", \",tLists4[[#This Row],[County]])","v":"Kansas, Wyandotte County"},"Not Eligible for Credit"]
[null,null,null,null,null,null,null,null,null,null,null,null,null,"Kentucky","Adair County",{"$f":"CONCATENATE(tLists4[[#This Row],[State]],\", \",tLists4[[#This Row],[County]])","v":"Kentucky, Adair County"},"Not Eligible for Credit"]
[null,null,null,null,null,null,null,null,null,null,null,null,null,"Kentucky","Allen County",{"$f":"CONCATENATE(tLists4[[#This Row],[State]],\", \",tLists4[[#This Row],[County]])","v":"Kentucky, Allen County"},2]
[null,null,null,null,null,null,null,null,null,null,null,null,null,"Kentucky","Anderson County",{"$f":"CONCATENATE(tLists4[[#This Row],[State]],\", \",tLists4[[#This Row],[County]])","v":"Kentucky, Anderson County"},2]
[null,null,null,null,null,null,null,null,null,null,null,null,null,"Kentucky","Ballard County",{"$f":"CONCATENATE(tLists4[[#This Row],[State]],\", \",tLists4[[#This Row],[County]])","v":"Kentucky, Ballard County"},"Not Eligible for Credit"]
[null,null,null,null,null,null,null,null,null,null,null,null,null,"Kentucky","Barren County",{"$f":"CONCATENATE(tLists4[[#This Row],[State]],\", \",tLists4[[#This Row],[County]])","v":"Kentucky, Barren County"},"Not Eligible for Credit"]
[null,null,null,null,null,null,null,null,null,null,null,null,null,"Kentucky","Bath County",{"$f":"CONCATENATE(tLists4[[#This Row],[State]],\", \",tLists4[[#This Row],[County]])","v":"Kentucky, Bath County"},"Not Eligible for Credit"]
[null,null,null,null,null,null,null,null,null,null,null,null,null,"Kentucky","Bell County",{"$f":"CONCATENATE(tLists4[[#This Row],[State]],\", \",tLists4[[#This Row],[County]])","v":"Kentucky, Bell County"},3]
[null,null,null,null,null,null,null,null,null,null,null,null,null,"Kentucky","Boone County",{"$f":"CONCATENATE(tLists4[[#This Row],[State]],\", \",tLists4[[#This Row],[County]])","v":"Kentucky, Boone County"},2]
[null,null,null,null,null,null,null,null,null,null,null,null,null,"Kentucky","Bourbon County",{"$f":"CONCATENATE(tLists4[[#This Row],[State]],\", \",tLists4[[#This Row],[County]])","v":"Kentucky, Bourbon County"},2]
[null,null,null,null,null,null,null,null,null,null,null,null,null,"Kentucky","Boyd County",{"$f":"CONCATENATE(tLists4[[#This Row],[State]],\", \",tLists4[[#This Row],[County]])","v":"Kentucky, Boyd County"},3]
[null,null,null,null,null,null,null,null,null,null,null,null,null,"Kentucky","Boyle County",{"$f":"CONCATENATE(tLists4[[#This Row],[State]],\", \",tLists4[[#This Row],[County]])","v":"Kentucky, Boyle County"},"Not Eligible for Credit"]
[null,null,null,null,null,null,null,null,null,null,null,null,null,"Kentucky","Bracken County",{"$f":"CONCATENATE(tLists4[[#This Row],[State]],\", \",tLists4[[#This Row],[County]])","v":"Kentucky, Bracken County"},2]
[null,null,null,null,null,null,null,null,null,null,null,null,null,"Kentucky","Breathitt County",{"$f":"CONCATENATE(tLists4[[#This Row],[State]],\", \",tLists4[[#This Row],[County]])","v":"Kentucky, Breathitt County"},3]
[null,null,null,null,null,null,null,null,null,null,null,null,null,"Kentucky","Breckinridge County",{"$f":"CONCATENATE(tLists4[[#This Row],[State]],\", \",tLists4[[#This Row],[County]])","v":"Kentucky, Breckinridge County"},2]
[null,null,null,null,null,null,null,null,null,null,null,null,null,"Kentucky","Bullitt County",{"$f":"CONCATENATE(tLists4[[#This Row],[State]],\", \",tLists4[[#This Row],[County]])","v":"Kentucky, Bullitt County"},"Not Eligible for Credit"]
[null,null,null,null,null,null,null,null,null,null,null,null,null,"Kentucky","Butler County",{"$f":"CONCATENATE(tLists4[[#This Row],[State]],\", \",tLists4[[#This Row],[County]])","v":"Kentucky, Butler County"},2]
[null,null,null,null,null,null,null,null,null,null,null,null,null,"Kentucky","Caldwell County",{"$f":"CONCATENATE(tLists4[[#This Row],[State]],\", \",tLists4[[#This Row],[County]])","v":"Kentucky, Caldwell County"},2]
[null,null,null,null,null,null,null,null,null,null,null,null,null,"Kentucky","Calloway County",{"$f":"CONCATENATE(tLists4[[#This Row],[State]],\", \",tLists4[[#This Row],[County]])","v":"Kentucky, Calloway County"},"Not Eligible for Credit"]
[null,null,null,null,null,null,null,null,null,null,null,null,null,"Kentucky","Campbell County",{"$f":"CONCATENATE(tLists4[[#This Row],[State]],\", \",tLists4[[#This Row],[County]])","v":"Kentucky, Campbell County"},2]
[null,null,null,null,null,null,null,null,null,null,null,null,null,"Kentucky","Carlisle County",{"$f":"CONCATENATE(tLists4[[#This Row],[State]],\", \",tLists4[[#This Row],[County]])","v":"Kentucky, Carlisle County"},"Not Eligible for Credit"]
[null,null,null,null,null,null,null,null,null,null,null,null,null,"Kentucky","Carroll County",{"$f":"CONCATENATE(tLists4[[#This Row],[State]],\", \",tLists4[[#This Row],[County]])","v":"Kentucky, Carroll County"},2]
[null,null,null,null,null,null,null,null,null,null,null,null,null,"Kentucky","Carter County",{"$f":"CONCATENATE(tLists4[[#This Row],[State]],\", \",tLists4[[#This Row],[County]])","v":"Kentucky, Carter County"},2]
[null,null,null,null,null,null,null,null,null,null,null,null,null,"Kentucky","Casey County",{"$f":"CONCATENATE(tLists4[[#This Row],[State]],\", \",tLists4[[#This Row],[County]])","v":"Kentucky, Casey County"},"Not Eligible for Credit"]
[null,null,null,null,null,null,null,null,null,null,null,null,null,"Kentucky","Christian County",{"$f":"CONCATENATE(tLists4[[#This Row],[State]],\", \",tLists4[[#This Row],[County]])","v":"Kentucky, Christian County"},"Not Eligible for Credit"]
[null,null,null,null,null,null,null,null,null,null,null,null,null,"Kentucky","Clark County",{"$f":"CONCATENATE(tLists4[[#This Row],[State]],\", \",tLists4[[#This Row],[County]])","v":"Kentucky, Clark County"},2]
[null,null,null,null,null,null,null,null,null,null,null,null,null,"Kentucky","Clay County",{"$f":"CONCATENATE(tLists4[[#This Row],[State]],\", \",tLists4[[#This Row],[County]])","v":"Kentucky, Clay County"},3]
[null,null,null,null,null,null,null,null,null,null,null,null,null,"Kentucky","Clinton County",{"$f":"CONCATENATE(tLists4[[#This Row],[State]],\", \",tLists4[[#This Row],[County]])","v":"Kentucky, Clinton County"},"Not Eligible for Credit"]
[null,null,null,null,null,null,null,null,null,null,null,null,null,"Kentucky","Crittenden County",{"$f":"CONCATENATE(tLists4[[#This Row],[State]],\", \",tLists4[[#This Row],[County]])","v":"Kentucky, Crittenden County"},"Not Eligible for Credit"]
[null,null,null,null,null,null,null,null,null,null,null,null,null,"Kentucky","Cumberland County",{"$f":"CONCATENATE(tLists4[[#This Row],[State]],\", \",tLists4[[#This Row],[County]])","v":"Kentucky, Cumberland County"},2]
[null,null,null,null,null,null,null,null,null,null,null,null,null,"Kentucky","Daviess County",{"$f":"CONCATENATE(tLists4[[#This Row],[State]],\", \",tLists4[[#This Row],[County]])","v":"Kentucky, Daviess County"},"Not Eligible for Credit"]
[null,null,null,null,null,null,null,null,null,null,null,null,null,"Kentucky","Edmonson County",{"$f":"CONCATENATE(tLists4[[#This Row],[State]],\", \",tLists4[[#This Row],[County]])","v":"Kentucky, Edmonson County"},"Not Eligible for Credit"]
[null,null,null,null,null,null,null,null,null,null,null,null,null,"Kentucky","Elliott County",{"$f":"CONCATENATE(tLists4[[#This Row],[State]],\", \",tLists4[[#This Row],[County]])","v":"Kentucky, Elliott County"},2]
[null,null,null,null,null,null,null,null,null,null,null,null,null,"Kentucky","Estill County",{"$f":"CONCATENATE(tLists4[[#This Row],[State]],\", \",tLists4[[#This Row],[County]])","v":"Kentucky, Estill County"},2]
[null,null,null,null,null,null,null,null,null,null,null,null,null,"Kentucky","Fayette County",{"$f":"CONCATENATE(tLists4[[#This Row],[State]],\", \",tLists4[[#This Row],[County]])","v":"Kentucky, Fayette County"},"Not Eligible for Credit"]
[null,null,null,null,null,null,null,null,null,null,null,null,null,"Kentucky","Fleming County",{"$f":"CONCATENATE(tLists4[[#This Row],[State]],\", \",tLists4[[#This Row],[County]])","v":"Kentucky, Fleming County"},2]
[null,null,null,null,null,null,null,null,null,null,null,null,null,"Kentucky","Floyd County",{"$f":"CONCATENATE(tLists4[[#This Row],[State]],\", \",tLists4[[#This Row],[County]])","v":"Kentucky, Floyd County"},3]
[null,null,null,null,null,null,null,null,null,null,null,null,null,"Kentucky","Franklin County",{"$f":"CONCATENATE(tLists4[[#This Row],[State]],\", \",tLists4[[#This Row],[County]])","v":"Kentucky, Franklin County"},2]
[null,null,null,null,null,null,null,null,null,null,null,null,null,"Kentucky","Fulton County",{"$f":"CONCATENATE(tLists4[[#This Row],[State]],\", \",tLists4[[#This Row],[County]])","v":"Kentucky, Fulton County"},"Not Eligible for Credit"]
[null,null,null,null,null,null,null,null,null,null,null,null,null,"Kentucky","Gallatin County",{"$f":"CONCATENATE(tLists4[[#This Row],[State]],\", \",tLists4[[#This Row],[County]])","v":"Kentucky, Gallatin County"},2]
[null,null,null,null,null,null,null,null,null,null,null,null,null,"Kentucky","Garrard County",{"$f":"CONCATENATE(tLists4[[#This Row],[State]],\", \",tLists4[[#This Row],[County]])","v":"Kentucky, Garrard County"},2]
[null,null,null,null,null,null,null,null,null,null,null,null,null,"Kentucky","Grant County",{"$f":"CONCATENATE(tLists4[[#This Row],[State]],\", \",tLists4[[#This Row],[County]])","v":"Kentucky, Grant County"},2]
[null,null,null,null,null,null,null,null,null,null,null,null,null,"Kentucky","Graves County",{"$f":"CONCATENATE(tLists4[[#This Row],[State]],\", \",tLists4[[#This Row],[County]])","v":"Kentucky, Graves County"},"Not Eligible for Credit"]
[null,null,null,null,null,null,null,null,null,null,null,null,null,"Kentucky","Grayson County",{"$f":"CONCATENATE(tLists4[[#This Row],[State]],\", \",tLists4[[#This Row],[County]])","v":"Kentucky, Grayson County"},2]
[null,null,null,null,null,null,null,null,null,null,null,null,null,"Kentucky","Green County",{"$f":"CONCATENATE(tLists4[[#This Row],[State]],\", \",tLists4[[#This Row],[County]])","v":"Kentucky, Green County"},"Not Eligible for Credit"]
[null,null,null,null,null,null,null,null,null,null,null,null,null,"Kentucky","Greenup County",{"$f":"CONCATENATE(tLists4[[#This Row],[State]],\", \",tLists4[[#This Row],[County]])","v":"Kentucky, Greenup County"},2]
[null,null,null,null,null,null,null,null,null,null,null,null,null,"Kentucky","Hancock County",{"$f":"CONCATENATE(tLists4[[#This Row],[State]],\", \",tLists4[[#This Row],[County]])","v":"Kentucky, Hancock County"},2]
[null,null,null,null,null,null,null,null,null,null,null,null,null,"Kentucky","Hardin County",{"$f":"CONCATENATE(tLists4[[#This Row],[State]],\", \",tLists4[[#This Row],[County]])","v":"Kentucky, Hardin County"},2]
[null,null,null,null,null,null,null,null,null,null,null,null,null,"Kentucky","Harlan County",{"$f":"CONCATENATE(tLists4[[#This Row],[State]],\", \",tLists4[[#This Row],[County]])","v":"Kentucky, Harlan County"},3]
[null,null,null,null,null,null,null,null,null,null,null,null,null,"Kentucky","Harrison County",{"$f":"CONCATENATE(tLists4[[#This Row],[State]],\", \",tLists4[[#This Row],[County]])","v":"Kentucky, Harrison County"},2]
[null,null,null,null,null,null,null,null,null,null,null,null,null,"Kentucky","Hart County",{"$f":"CONCATENATE(tLists4[[#This Row],[State]],\", \",tLists4[[#This Row],[County]])","v":"Kentucky, Hart County"},"Not Eligible for Credit"]
[null,null,null,null,null,null,null,null,null,null,null,null,null,"Kentucky","Henderson County",{"$f":"CONCATENATE(tLists4[[#This Row],[State]],\", \",tLists4[[#This Row],[County]])","v":"Kentucky, Henderson County"},2]
[null,null,null,null,null,null,null,null,null,null,null,null,null,"Kentucky","Henry County",{"$f":"CONCATENATE(tLists4[[#This Row],[State]],\", \",tLists4[[#This Row],[County]])","v":"Kentucky, Henry County"},2]
[null,null,null,null,null,null,null,null,null,null,null,null,null,"Kentucky","Hickman County",{"$f":"CONCATENATE(tLists4[[#This Row],[State]],\", \",tLists4[[#This Row],[County]])","v":"Kentucky, Hickman County"},"Not Eligible for Credit"]
[null,null,null,null,null,null,null,null,null,null,null,null,null,"Kentucky","Hopkins County",{"$f":"CONCATENATE(tLists4[[#This Row],[State]],\", \",tLists4[[#This Row],[County]])","v":"Kentucky, Hopkins County"},2]
[null,null,null,null,null,null,null,null,null,null,null,null,null,"Kentucky","Jackson County",{"$f":"CONCATENATE(tLists4[[#This Row],[State]],\", \",tLists4[[#This Row],[County]])","v":"Kentucky, Jackson County"},3]
[null,null,null,null,null,null,null,null,null,null,null,null,null,"Kentucky","Jefferson County",{"$f":"CONCATENATE(tLists4[[#This Row],[State]],\", \",tLists4[[#This Row],[County]])","v":"Kentucky, Jefferson County"},2]
[null,null,null,null,null,null,null,null,null,null,null,null,null,"Kentucky","Jessamine County",{"$f":"CONCATENATE(tLists4[[#This Row],[State]],\", \",tLists4[[#This Row],[County]])","v":"Kentucky, Jessamine County"},"Not Eligible for Credit"]
[null,null,null,null,null,null,null,null,null,null,null,null,null,"Kentucky","Johnson County",{"$f":"CONCATENATE(tLists4[[#This Row],[State]],\", \",tLists4[[#This Row],[County]])","v":"Kentucky, Johnson County"},3]
[null,null,null,null,null,null,null,null,null,null,null,null,null,"Kentucky","Kenton County",{"$f":"CONCATENATE(tLists4[[#This Row],[State]],\", \",tLists4[[#This Row],[County]])","v":"Kentucky, Kenton County"},2]
[null,null,null,null,null,null,null,null,null,null,null,null,null,"Kentucky","Knott County",{"$f":"CONCATENATE(tLists4[[#This Row],[State]],\", \",tLists4[[#This Row],[County]])","v":"Kentucky, Knott County"},3]
[null,null,null,null,null,null,null,null,null,null,null,null,null,"Kentucky","Knox County",{"$f":"CONCATENATE(tLists4[[#This Row],[State]],\", \",tLists4[[#This Row],[County]])","v":"Kentucky, Knox County"},3]
[null,null,null,null,null,null,null,null,null,null,null,null,null,"Kentucky","Larue County",{"$f":"CONCATENATE(tLists4[[#This Row],[State]],\", \",tLists4[[#This Row],[County]])","v":"Kentucky, Larue County"},"Not Eligible for Credit"]
[null,null,null,null,null,null,null,null,null,null,null,null,null,"Kentucky","Laurel County",{"$f":"CONCATENATE(tLists4[[#This Row],[State]],\", \",tLists4[[#This Row],[County]])","v":"Kentucky, Laurel County"},2]
[null,null,null,null,null,null,null,null,null,null,null,null,null,"Kentucky","Lawrence County",{"$f":"CONCATENATE(tLists4[[#This Row],[State]],\", \",tLists4[[#This Row],[County]])","v":"Kentucky, Lawrence County"},2]
[null,null,null,null,null,null,null,null,null,null,null,null,null,"Kentucky","Lee County",{"$f":"CONCATENATE(tLists4[[#This Row],[State]],\", \",tLists4[[#This Row],[County]])","v":"Kentucky, Lee County"},3]
[null,null,null,null,null,null,null,null,null,null,null,null,null,"Kentucky","Leslie County",{"$f":"CONCATENATE(tLists4[[#This Row],[State]],\", \",tLists4[[#This Row],[County]])","v":"Kentucky, Leslie County"},3]
[null,null,null,null,null,null,null,null,null,null,null,null,null,"Kentucky","Letcher County",{"$f":"CONCATENATE(tLists4[[#This Row],[State]],\", \",tLists4[[#This Row],[County]])","v":"Kentucky, Letcher County"},3]
[null,null,null,null,null,null,null,null,null,null,null,null,null,"Kentucky","Lewis County",{"$f":"CONCATENATE(tLists4[[#This Row],[State]],\", \",tLists4[[#This Row],[County]])","v":"Kentucky, Lewis County"},2]
[null,null,null,null,null,null,null,null,null,null,null,null,null,"Kentucky","Lincoln County",{"$f":"CONCATENATE(tLists4[[#This Row],[State]],\", \",tLists4[[#This Row],[County]])","v":"Kentucky, Lincoln County"},2]
[null,null,null,null,null,null,null,null,null,null,null,null,null,"Kentucky","Livingston County",{"$f":"CONCATENATE(tLists4[[#This Row],[State]],\", \",tLists4[[#This Row],[County]])","v":"Kentucky, Livingston County"},"Not Eligible for Credit"]
[null,null,null,null,null,null,null,null,null,null,null,null,null,"Kentucky","Logan County",{"$f":"CONCATENATE(tLists4[[#This Row],[State]],\", \",tLists4[[#This Row],[County]])","v":"Kentucky, Logan County"},2]
[null,null,null,null,null,null,null,null,null,null,null,null,null,"Kentucky","Lyon County",{"$f":"CONCATENATE(tLists4[[#This Row],[State]],\", \",tLists4[[#This Row],[County]])","v":"Kentucky, Lyon County"},"Not Eligible for Credit"]
[null,null,null,null,null,null,null,null,null,null,null,null,null,"Kentucky","Madison County",{"$f":"CONCATENATE(tLists4[[#This Row],[State]],\", \",tLists4[[#This Row],[County]])","v":"Kentucky, Madison County"},2]
[null,null,null,null,null,null,null,null,null,null,null,null,null,"Kentucky","Magoffin County",{"$f":"CONCATENATE(tLists4[[#This Row],[State]],\", \",tLists4[[#This Row],[County]])","v":"Kentucky, Magoffin County"},3]
[null,null,null,null,null,null,null,null,null,null,null,null,null,"Kentucky","Marion County",{"$f":"CONCATENATE(tLists4[[#This Row],[State]],\", \",tLists4[[#This Row],[County]])","v":"Kentucky, Marion County"},"Not Eligible for Credit"]
[null,null,null,null,null,null,null,null,null,null,null,null,null,"Kentucky","Marshall County",{"$f":"CONCATENATE(tLists4[[#This Row],[State]],\", \",tLists4[[#This Row],[County]])","v":"Kentucky, Marshall County"},"Not Eligible for Credit"]
[null,null,null,null,null,null,null,null,null,null,null,null,null,"Kentucky","Martin County",{"$f":"CONCATENATE(tLists4[[#This Row],[State]],\", \",tLists4[[#This Row],[County]])","v":"Kentucky, Martin County"},3]
[null,null,null,null,null,null,null,null,null,null,null,null,null,"Kentucky","Mason County",{"$f":"CONCATENATE(tLists4[[#This Row],[State]],\", \",tLists4[[#This Row],[County]])","v":"Kentucky, Mason County"},2]
[null,null,null,null,null,null,null,null,null,null,null,null,null,"Kentucky","McCracken County",{"$f":"CONCATENATE(tLists4[[#This Row],[State]],\", \",tLists4[[#This Row],[County]])","v":"Kentucky, McCracken County"},2]
[null,null,null,null,null,null,null,null,null,null,null,null,null,"Kentucky","McCreary County",{"$f":"CONCATENATE(tLists4[[#This Row],[State]],\", \",tLists4[[#This Row],[County]])","v":"Kentucky, McCreary County"},2]
[null,null,null,null,null,null,null,null,null,null,null,null,null,"Kentucky","McLean County",{"$f":"CONCATENATE(tLists4[[#This Row],[State]],\", \",tLists4[[#This Row],[County]])","v":"Kentucky, McLean County"},2]
[null,null,null,null,null,null,null,null,null,null,null,null,null,"Kentucky","Meade County",{"$f":"CONCATENATE(tLists4[[#This Row],[State]],\", \",tLists4[[#This Row],[County]])","v":"Kentucky, Meade County"},"Not Eligible for Credit"]
[null,null,null,null,null,null,null,null,null,null,null,null,null,"Kentucky","Menifee County",{"$f":"CONCATENATE(tLists4[[#This Row],[State]],\", \",tLists4[[#This Row],[County]])","v":"Kentucky, Menifee County"},"Not Eligible for Credit"]
[null,null,null,null,null,null,null,null,null,null,null,null,null,"Kentucky","Mercer County",{"$f":"CONCATENATE(tLists4[[#This Row],[State]],\", \",tLists4[[#This Row],[County]])","v":"Kentucky, Mercer County"},"Not Eligible for Credit"]
[null,null,null,null,null,null,null,null,null,null,null,null,null,"Kentucky","Metcalfe County",{"$f":"CONCATENATE(tLists4[[#This Row],[State]],\", \",tLists4[[#This Row],[County]])","v":"Kentucky, Metcalfe County"},"Not Eligible for Credit"]
[null,null,null,null,null,null,null,null,null,null,null,null,null,"Kentucky","Monroe County",{"$f":"CONCATENATE(tLists4[[#This Row],[State]],\", \",tLists4[[#This Row],[County]])","v":"Kentucky, Monroe County"},"Not Eligible for Credit"]
[null,null,null,null,null,null,null,null,null,null,null,null,null,"Kentucky","Montgomery County",{"$f":"CONCATENATE(tLists4[[#This Row],[State]],\", \",tLists4[[#This Row],[County]])","v":"Kentucky, Montgomery County"},"Not Eligible for Credit"]
[null,null,null,null,null,null,null,null,null,null,null,null,null,"Kentucky","Morgan County",{"$f":"CONCATENATE(tLists4[[#This Row],[State]],\", \",tLists4[[#This Row],[County]])","v":"Kentucky, Morgan County"},2]
[null,null,null,null,null,null,null,null,null,null,null,null,null,"Kentucky","Muhlenberg County",{"$f":"CONCATENATE(tLists4[[#This Row],[State]],\", \",tLists4[[#This Row],[County]])","v":"Kentucky, Muhlenberg County"},"Not Eligible for Credit"]
[null,null,null,null,null,null,null,null,null,null,null,null,null,"Kentucky","Nelson County",{"$f":"CONCATENATE(tLists4[[#This Row],[State]],\", \",tLists4[[#This Row],[County]])","v":"Kentucky, Nelson County"},"Not Eligible for Credit"]
[null,null,null,null,null,null,null,null,null,null,null,null,null,"Kentucky","Nicholas County",{"$f":"CONCATENATE(tLists4[[#This Row],[State]],\", \",tLists4[[#This Row],[County]])","v":"Kentucky, Nicholas County"},2]
[null,null,null,null,null,null,null,null,null,null,null,null,null,"Kentucky","Ohio County",{"$f":"CONCATENATE(tLists4[[#This Row],[State]],\", \",tLists4[[#This Row],[County]])","v":"Kentucky, Ohio County"},2]
[null,null,null,null,null,null,null,null,null,null,null,null,null,"Kentucky","Oldham County",{"$f":"CONCATENATE(tLists4[[#This Row],[State]],\", \",tLists4[[#This Row],[County]])","v":"Kentucky, Oldham County"},2]
[null,null,null,null,null,null,null,null,null,null,null,null,null,"Kentucky","Owen County",{"$f":"CONCATENATE(tLists4[[#This Row],[State]],\", \",tLists4[[#This Row],[County]])","v":"Kentucky, Owen County"},2]
[null,null,null,null,null,null,null,null,null,null,null,null,null,"Kentucky","Owsley County",{"$f":"CONCATENATE(tLists4[[#This Row],[State]],\", \",tLists4[[#This Row],[County]])","v":"Kentucky, Owsley County"},3]
[null,null,null,null,null,null,null,null,null,null,null,null,null,"Kentucky","Pendleton County",{"$f":"CONCATENATE(tLists4[[#This Row],[State]],\", \",tLists4[[#This Row],[County]])","v":"Kentucky, Pendleton County"},2]
[null,null,null,null,null,null,null,null,null,null,null,null,null,"Kentucky","Perry County",{"$f":"CONCATENATE(tLists4[[#This Row],[State]],\", \",tLists4[[#This Row],[County]])","v":"Kentucky, Perry County"},3]
[null,null,null,null,null,null,null,null,null,null,null,null,null,"Kentucky","Pike County",{"$f":"CONCATENATE(tLists4[[#This Row],[State]],\", \",tLists4[[#This Row],[County]])","v":"Kentucky, Pike County"},3]
[null,null,null,null,null,null,null,null,null,null,null,null,null,"Kentucky","Powell County",{"$f":"CONCATENATE(tLists4[[#This Row],[State]],\", \",tLists4[[#This Row],[County]])","v":"Kentucky, Powell County"},"Not Eligible for Credit"]
[null,null,null,null,null,null,null,null,null,null,null,null,null,"Kentucky","Pulaski County",{"$f":"CONCATENATE(tLists4[[#This Row],[State]],\", \",tLists4[[#This Row],[County]])","v":"Kentucky, Pulaski County"},2]
[null,null,null,null,null,null,null,null,null,null,null,null,null,"Kentucky","Robertson County",{"$f":"CONCATENATE(tLists4[[#This Row],[State]],\", \",tLists4[[#This Row],[County]])","v":"Kentucky, Robertson County"},2]
[null,null,null,null,null,null,null,null,null,null,null,null,null,"Kentucky","Rockcastle County",{"$f":"CONCATENATE(tLists4[[#This Row],[State]],\", \",tLists4[[#This Row],[County]])","v":"Kentucky, Rockcastle County"},2]
[null,null,null,null,null,null,null,null,null,null,null,null,null,"Kentucky","Rowan County",{"$f":"CONCATENATE(tLists4[[#This Row],[State]],\", \",tLists4[[#This Row],[County]])","v":"Kentucky, Rowan County"},2]
[null,null,null,null,null,null,null,null,null,null,null,null,null,"Kentucky","Russell County",{"$f":"CONCATENATE(tLists4[[#This Row],[State]],\", \",tLists4[[#This Row],[County]])","v":"Kentucky, Russell County"},2]
[null,null,null,null,null,null,null,null,null,null,null,null,null,"Kentucky","Scott County",{"$f":"CONCATENATE(tLists4[[#This Row],[State]],\", \",tLists4[[#This Row],[County]])","v":"Kentucky, Scott County"},2]
[null,null,null,null,null,null,null,null,null,null,null,null,null,"Kentucky","Shelby County",{"$f":"CONCATENATE(tLists4[[#This Row],[State]],\", \",tLists4[[#This Row],[County]])","v":"Kentucky, Shelby County"},2]
[null,null,null,null,null,null,null,null,null,null,null,null,null,"Kentucky","Simpson County",{"$f":"CONCATENATE(tLists4[[#This Row],[State]],\", \",tLists4[[#This Row],[County]])","v":"Kentucky, Simpson County"},"Not Eligible for Credit"]
[null,null,null,null,null,null,null,null,null,null,null,null,null,"Kentucky","Spencer County",{"$f":"CONCATENATE(tLists4[[#This Row],[State]],\", \",tLists4[[#This Row],[County]])","v":"Kentucky, Spencer County"},2]
[null,null,null,null,null,null,null,null,null,null,null,null,null,"Kentucky","Taylor County",{"$f":"CONCATENATE(tLists4[[#This Row],[State]],\", \",tLists4[[#This Row],[County]])","v":"Kentucky, Taylor County"},"Not Eligible for Credit"]
[null,null,null,null,null,null,null,null,null,null,null,null,null,"Kentucky","Todd County",{"$f":"CONCATENATE(tLists4[[#This Row],[State]],\", \",tLists4[[#This Row],[County]])","v":"Kentucky, Todd County"},"Not Eligible for Credit"]
[null,null,null,null,null,null,null,null,null,null,null,null,null,"Kentucky","Trigg County",{"$f":"CONCATENATE(tLists4[[#This Row],[State]],\", \",tLists4[[#This Row],[County]])","v":"Kentucky, Trigg County"},"Not Eligible for Credit"]
[null,null,null,null,null,null,null,null,null,null,null,null,null,"Kentucky","Trimble County",{"$f":"CONCATENATE(tLists4[[#This Row],[State]],\", \",tLists4[[#This Row],[County]])","v":"Kentucky, Trimble County"},2]
[null,null,null,null,null,null,null,null,null,null,null,null,null,"Kentucky","Union County",{"$f":"CONCATENATE(tLists4[[#This Row],[State]],\", \",tLists4[[#This Row],[County]])","v":"Kentucky, Union County"},2]
[null,null,null,null,null,null,null,null,null,null,null,null,null,"Kentucky","Warren County",{"$f":"CONCATENATE(tLists4[[#This Row],[State]],\", \",tLists4[[#This Row],[County]])","v":"Kentucky, Warren County"},"Not Eligible for Credit"]
[null,null,null,null,null,null,null,null,null,null,null,null,null,"Kentucky","Washington County",{"$f":"CONCATENATE(tLists4[[#This Row],[State]],\", \",tLists4[[#This Row],[County]])","v":"Kentucky, Washington County"},2]
[null,null,null,null,null,null,null,null,null,null,null,null,null,"Kentucky","Wayne County",{"$f":"CONCATENATE(tLists4[[#This Row],[State]],\", \",tLists4[[#This Row],[County]])","v":"Kentucky, Wayne County"},3]
[null,null,null,null,null,null,null,null,null,null,null,null,null,"Kentucky","Webster County",{"$f":"CONCATENATE(tLists4[[#This Row],[State]],\", \",tLists4[[#This Row],[County]])","v":"Kentucky, Webster County"},"Not Eligible for Credit"]
[null,null,null,null,null,null,null,null,null,null,null,null,null,"Kentucky","Whitley County",{"$f":"CONCATENATE(tLists4[[#This Row],[State]],\", \",tLists4[[#This Row],[County]])","v":"Kentucky, Whitley County"},2]
[null,null,null,null,null,null,null,null,null,null,null,null,null,"Kentucky","Wolfe County",{"$f":"CONCATENATE(tLists4[[#This Row],[State]],\", \",tLists4[[#This Row],[County]])","v":"Kentucky, Wolfe County"},2]
[null,null,null,null,null,null,null,null,null,null,null,null,null,"Kentucky","Woodford County",{"$f":"CONCATENATE(tLists4[[#This Row],[State]],\", \",tLists4[[#This Row],[County]])","v":"Kentucky, Woodford County"},2]
[null,null,null,null,null,null,null,null,null,null,null,null,null,"Louisiana","Acadia Parish",{"$f":"CONCATENATE(tLists4[[#This Row],[State]],\", \",tLists4[[#This Row],[County]])","v":"Louisiana, Acadia Parish"},"Not Eligible for Credit"]
[null,null,null,null,null,null,null,null,null,null,null,null,null,"Louisiana","Allen Parish",{"$f":"CONCATENATE(tLists4[[#This Row],[State]],\", \",tLists4[[#This Row],[County]])","v":"Louisiana, Allen Parish"},"Not Eligible for Credit"]
[null,null,null,null,null,null,null,null,null,null,null,null,null,"Louisiana","Ascension Parish",{"$f":"CONCATENATE(tLists4[[#This Row],[State]],\", \",tLists4[[#This Row],[County]])","v":"Louisiana, Ascension Parish"},"Not Eligible for Credit"]
[null,null,null,null,null,null,null,null,null,null,null,null,null,"Louisiana","Assumption Parish",{"$f":"CONCATENATE(tLists4[[#This Row],[State]],\", \",tLists4[[#This Row],[County]])","v":"Louisiana, Assumption Parish"},"Not Eligible for Credit"]
[null,null,null,null,null,null,null,null,null,null,null,null,null,"Louisiana","Avoyelles Parish",{"$f":"CONCATENATE(tLists4[[#This Row],[State]],\", \",tLists4[[#This Row],[County]])","v":"Louisiana, Avoyelles Parish"},"Not Eligible for Credit"]
[null,null,null,null,null,null,null,null,null,null,null,null,null,"Louisiana","Beauregard Parish",{"$f":"CONCATENATE(tLists4[[#This Row],[State]],\", \",tLists4[[#This Row],[County]])","v":"Louisiana, Beauregard Parish"},"Not Eligible for Credit"]
[null,null,null,null,null,null,null,null,null,null,null,null,null,"Louisiana","Bienville Parish",{"$f":"CONCATENATE(tLists4[[#This Row],[State]],\", \",tLists4[[#This Row],[County]])","v":"Louisiana, Bienville Parish"},"Not Eligible for Credit"]
[null,null,null,null,null,null,null,null,null,null,null,null,null,"Louisiana","Bossier Parish",{"$f":"CONCATENATE(tLists4[[#This Row],[State]],\", \",tLists4[[#This Row],[County]])","v":"Louisiana, Bossier Parish"},"Not Eligible for Credit"]
[null,null,null,null,null,null,null,null,null,null,null,null,null,"Louisiana","Caddo Parish",{"$f":"CONCATENATE(tLists4[[#This Row],[State]],\", \",tLists4[[#This Row],[County]])","v":"Louisiana, Caddo Parish"},"Not Eligible for Credit"]
[null,null,null,null,null,null,null,null,null,null,null,null,null,"Louisiana","Calcasieu Parish",{"$f":"CONCATENATE(tLists4[[#This Row],[State]],\", \",tLists4[[#This Row],[County]])","v":"Louisiana, Calcasieu Parish"},"Not Eligible for Credit"]
[null,null,null,null,null,null,null,null,null,null,null,null,null,"Louisiana","Caldwell Parish",{"$f":"CONCATENATE(tLists4[[#This Row],[State]],\", \",tLists4[[#This Row],[County]])","v":"Louisiana, Caldwell Parish"},"Not Eligible for Credit"]
[null,null,null,null,null,null,null,null,null,null,null,null,null,"Louisiana","Cameron Parish",{"$f":"CONCATENATE(tLists4[[#This Row],[State]],\", \",tLists4[[#This Row],[County]])","v":"Louisiana, Cameron Parish"},"Not Eligible for Credit"]
[null,null,null,null,null,null,null,null,null,null,null,null,null,"Louisiana","Catahoula Parish",{"$f":"CONCATENATE(tLists4[[#This Row],[State]],\", \",tLists4[[#This Row],[County]])","v":"Louisiana, Catahoula Parish"},"Not Eligible for Credit"]
[null,null,null,null,null,null,null,null,null,null,null,null,null,"Louisiana","Claiborne Parish",{"$f":"CONCATENATE(tLists4[[#This Row],[State]],\", \",tLists4[[#This Row],[County]])","v":"Louisiana, Claiborne Parish"},2]
[null,null,null,null,null,null,null,null,null,null,null,null,null,"Louisiana","Concordia Parish",{"$f":"CONCATENATE(tLists4[[#This Row],[State]],\", \",tLists4[[#This Row],[County]])","v":"Louisiana, Concordia Parish"},"Not Eligible for Credit"]
[null,null,null,null,null,null,null,null,null,null,null,null,null,"Louisiana","De Soto Parish",{"$f":"CONCATENATE(tLists4[[#This Row],[State]],\", \",tLists4[[#This Row],[County]])","v":"Louisiana, De Soto Parish"},"Not Eligible for Credit"]
[null,null,null,null,null,null,null,null,null,null,null,null,null,"Louisiana","East Baton Rouge Parish",{"$f":"CONCATENATE(tLists4[[#This Row],[State]],\", \",tLists4[[#This Row],[County]])","v":"Louisiana, East Baton Rouge Parish"},"Not Eligible for Credit"]
[null,null,null,null,null,null,null,null,null,null,null,null,null,"Louisiana","East Carroll Parish",{"$f":"CONCATENATE(tLists4[[#This Row],[State]],\", \",tLists4[[#This Row],[County]])","v":"Louisiana, East Carroll Parish"},"Not Eligible for Credit"]
[null,null,null,null,null,null,null,null,null,null,null,null,null,"Louisiana","East Feliciana Parish",{"$f":"CONCATENATE(tLists4[[#This Row],[State]],\", \",tLists4[[#This Row],[County]])","v":"Louisiana, East Feliciana Parish"},"Not Eligible for Credit"]
[null,null,null,null,null,null,null,null,null,null,null,null,null,"Louisiana","Evangeline Parish",{"$f":"CONCATENATE(tLists4[[#This Row],[State]],\", \",tLists4[[#This Row],[County]])","v":"Louisiana, Evangeline Parish"},"Not Eligible for Credit"]
[null,null,null,null,null,null,null,null,null,null,null,null,null,"Louisiana","Franklin Parish",{"$f":"CONCATENATE(tLists4[[#This Row],[State]],\", \",tLists4[[#This Row],[County]])","v":"Louisiana, Franklin Parish"},"Not Eligible for Credit"]
[null,null,null,null,null,null,null,null,null,null,null,null,null,"Louisiana","Grant Parish",{"$f":"CONCATENATE(tLists4[[#This Row],[State]],\", \",tLists4[[#This Row],[County]])","v":"Louisiana, Grant Parish"},"Not Eligible for Credit"]
[null,null,null,null,null,null,null,null,null,null,null,null,null,"Louisiana","Iberia Parish",{"$f":"CONCATENATE(tLists4[[#This Row],[State]],\", \",tLists4[[#This Row],[County]])","v":"Louisiana, Iberia Parish"},"Not Eligible for Credit"]
[null,null,null,null,null,null,null,null,null,null,null,null,null,"Louisiana","Iberville Parish",{"$f":"CONCATENATE(tLists4[[#This Row],[State]],\", \",tLists4[[#This Row],[County]])","v":"Louisiana, Iberville Parish"},"Not Eligible for Credit"]
[null,null,null,null,null,null,null,null,null,null,null,null,null,"Louisiana","Jackson Parish",{"$f":"CONCATENATE(tLists4[[#This Row],[State]],\", \",tLists4[[#This Row],[County]])","v":"Louisiana, Jackson Parish"},2]
[null,null,null,null,null,null,null,null,null,null,null,null,null,"Louisiana","Jefferson Davis Parish",{"$f":"CONCATENATE(tLists4[[#This Row],[State]],\", \",tLists4[[#This Row],[County]])","v":"Louisiana, Jefferson Davis Parish"},"Not Eligible for Credit"]
[null,null,null,null,null,null,null,null,null,null,null,null,null,"Louisiana","Jefferson Parish",{"$f":"CONCATENATE(tLists4[[#This Row],[State]],\", \",tLists4[[#This Row],[County]])","v":"Louisiana, Jefferson Parish"},"Not Eligible for Credit"]
[null,null,null,null,null,null,null,null,null,null,null,null,null,"Louisiana","Lafayette Parish",{"$f":"CONCATENATE(tLists4[[#This Row],[State]],\", \",tLists4[[#This Row],[County]])","v":"Louisiana, Lafayette Parish"},"Not Eligible for Credit"]
[null,null,null,null,null,null,null,null,null,null,null,null,null,"Louisiana","Lafourche Parish",{"$f":"CONCATENATE(tLists4[[#This Row],[State]],\", \",tLists4[[#This Row],[County]])","v":"Louisiana, Lafourche Parish"},"Not Eligible for Credit"]
[null,null,null,null,null,null,null,null,null,null,null,null,null,"Louisiana","LaSalle Parish",{"$f":"CONCATENATE(tLists4[[#This Row],[State]],\", \",tLists4[[#This Row],[County]])","v":"Louisiana, LaSalle Parish"},"Not Eligible for Credit"]
[null,null,null,null,null,null,null,null,null,null,null,null,null,"Louisiana","Lincoln Parish",{"$f":"CONCATENATE(tLists4[[#This Row],[State]],\", \",tLists4[[#This Row],[County]])","v":"Louisiana, Lincoln Parish"},2]
[null,null,null,null,null,null,null,null,null,null,null,null,null,"Louisiana","Livingston Parish",{"$f":"CONCATENATE(tLists4[[#This Row],[State]],\", \",tLists4[[#This Row],[County]])","v":"Louisiana, Livingston Parish"},"Not Eligible for Credit"]
[null,null,null,null,null,null,null,null,null,null,null,null,null,"Louisiana","Madison Parish",{"$f":"CONCATENATE(tLists4[[#This Row],[State]],\", \",tLists4[[#This Row],[County]])","v":"Louisiana, Madison Parish"},"Not Eligible for Credit"]
[null,null,null,null,null,null,null,null,null,null,null,null,null,"Louisiana","Morehouse Parish",{"$f":"CONCATENATE(tLists4[[#This Row],[State]],\", \",tLists4[[#This Row],[County]])","v":"Louisiana, Morehouse Parish"},"Not Eligible for Credit"]
[null,null,null,null,null,null,null,null,null,null,null,null,null,"Louisiana","Natchitoches Parish",{"$f":"CONCATENATE(tLists4[[#This Row],[State]],\", \",tLists4[[#This Row],[County]])","v":"Louisiana, Natchitoches Parish"},"Not Eligible for Credit"]
[null,null,null,null,null,null,null,null,null,null,null,null,null,"Louisiana","Orleans Parish",{"$f":"CONCATENATE(tLists4[[#This Row],[State]],\", \",tLists4[[#This Row],[County]])","v":"Louisiana, Orleans Parish"},"Not Eligible for Credit"]
[null,null,null,null,null,null,null,null,null,null,null,null,null,"Louisiana","Ouachita Parish",{"$f":"CONCATENATE(tLists4[[#This Row],[State]],\", \",tLists4[[#This Row],[County]])","v":"Louisiana, Ouachita Parish"},"Not Eligible for Credit"]
[null,null,null,null,null,null,null,null,null,null,null,null,null,"Louisiana","Plaquemines Parish",{"$f":"CONCATENATE(tLists4[[#This Row],[State]],\", \",tLists4[[#This Row],[County]])","v":"Louisiana, Plaquemines Parish"},"Not Eligible for Credit"]
[null,null,null,null,null,null,null,null,null,null,null,null,null,"Louisiana","Pointe Coupee Parish",{"$f":"CONCATENATE(tLists4[[#This Row],[State]],\", \",tLists4[[#This Row],[County]])","v":"Louisiana, Pointe Coupee Parish"},"Not Eligible for Credit"]
[null,null,null,null,null,null,null,null,null,null,null,null,null,"Louisiana","Rapides Parish",{"$f":"CONCATENATE(tLists4[[#This Row],[State]],\", \",tLists4[[#This Row],[County]])","v":"Louisiana, Rapides Parish"},"Not Eligible for Credit"]
[null,null,null,null,null,null,null,null,null,null,null,null,null,"Louisiana","Red River Parish",{"$f":"CONCATENATE(tLists4[[#This Row],[State]],\", \",tLists4[[#This Row],[County]])","v":"Louisiana, Red River Parish"},"Not Eligible for Credit"]
[null,null,null,null,null,null,null,null,null,null,null,null,null,"Louisiana","Richland Parish",{"$f":"CONCATENATE(tLists4[[#This Row],[State]],\", \",tLists4[[#This Row],[County]])","v":"Louisiana, Richland Parish"},"Not Eligible for Credit"]
[null,null,null,null,null,null,null,null,null,null,null,null,null,"Louisiana","Sabine Parish",{"$f":"CONCATENATE(tLists4[[#This Row],[State]],\", \",tLists4[[#This Row],[County]])","v":"Louisiana, Sabine Parish"},"Not Eligible for Credit"]
[null,null,null,null,null,null,null,null,null,null,null,null,null,"Louisiana","St. Bernard Parish",{"$f":"CONCATENATE(tLists4[[#This Row],[State]],\", \",tLists4[[#This Row],[County]])","v":"Louisiana, St. Bernard Parish"},"Not Eligible for Credit"]
[null,null,null,null,null,null,null,null,null,null,null,null,null,"Louisiana","St. Charles Parish",{"$f":"CONCATENATE(tLists4[[#This Row],[State]],\", \",tLists4[[#This Row],[County]])","v":"Louisiana, St. Charles Parish"},"Not Eligible for Credit"]
[null,null,null,null,null,null,null,null,null,null,null,null,null,"Louisiana","St. Helena Parish",{"$f":"CONCATENATE(tLists4[[#This Row],[State]],\", \",tLists4[[#This Row],[County]])","v":"Louisiana, St. Helena Parish"},"Not Eligible for Credit"]
[null,null,null,null,null,null,null,null,null,null,null,null,null,"Louisiana","St. James Parish",{"$f":"CONCATENATE(tLists4[[#This Row],[State]],\", \",tLists4[[#This Row],[County]])","v":"Louisiana, St. James Parish"},"Not Eligible for Credit"]
[null,null,null,null,null,null,null,null,null,null,null,null,null,"Louisiana","St. John the Baptist Parish",{"$f":"CONCATENATE(tLists4[[#This Row],[State]],\", \",tLists4[[#This Row],[County]])","v":"Louisiana, St. John the Baptist Parish"},"Not Eligible for Credit"]
[null,null,null,null,null,null,null,null,null,null,null,null,null,"Louisiana","St. Landry Parish",{"$f":"CONCATENATE(tLists4[[#This Row],[State]],\", \",tLists4[[#This Row],[County]])","v":"Louisiana, St. Landry Parish"},"Not Eligible for Credit"]
[null,null,null,null,null,null,null,null,null,null,null,null,null,"Louisiana","St. Martin Parish",{"$f":"CONCATENATE(tLists4[[#This Row],[State]],\", \",tLists4[[#This Row],[County]])","v":"Louisiana, St. Martin Parish"},"Not Eligible for Credit"]
[null,null,null,null,null,null,null,null,null,null,null,null,null,"Louisiana","St. Mary Parish",{"$f":"CONCATENATE(tLists4[[#This Row],[State]],\", \",tLists4[[#This Row],[County]])","v":"Louisiana, St. Mary Parish"},"Not Eligible for Credit"]
[null,null,null,null,null,null,null,null,null,null,null,null,null,"Louisiana","St. Tammany Parish",{"$f":"CONCATENATE(tLists4[[#This Row],[State]],\", \",tLists4[[#This Row],[County]])","v":"Louisiana, St. Tammany Parish"},"Not Eligible for Credit"]
[null,null,null,null,null,null,null,null,null,null,null,null,null,"Louisiana","Tangipahoa Parish",{"$f":"CONCATENATE(tLists4[[#This Row],[State]],\", \",tLists4[[#This Row],[County]])","v":"Louisiana, Tangipahoa Parish"},"Not Eligible for Credit"]
[null,null,null,null,null,null,null,null,null,null,null,null,null,"Louisiana","Tensas Parish",{"$f":"CONCATENATE(tLists4[[#This Row],[State]],\", \",tLists4[[#This Row],[County]])","v":"Louisiana, Tensas Parish"},"Not Eligible for Credit"]
[null,null,null,null,null,null,null,null,null,null,null,null,null,"Louisiana","Terrebonne Parish",{"$f":"CONCATENATE(tLists4[[#This Row],[State]],\", \",tLists4[[#This Row],[County]])","v":"Louisiana, Terrebonne Parish"},"Not Eligible for Credit"]
[null,null,null,null,null,null,null,null,null,null,null,null,null,"Louisiana","Union Parish",{"$f":"CONCATENATE(tLists4[[#This Row],[State]],\", \",tLists4[[#This Row],[County]])","v":"Louisiana, Union Parish"},2]
[null,null,null,null,null,null,null,null,null,null,null,null,null,"Louisiana","Vermilion Parish",{"$f":"CONCATENATE(tLists4[[#This Row],[State]],\", \",tLists4[[#This Row],[County]])","v":"Louisiana, Vermilion Parish"},"Not Eligible for Credit"]
[null,null,null,null,null,null,null,null,null,null,null,null,null,"Louisiana","Vernon Parish",{"$f":"CONCATENATE(tLists4[[#This Row],[State]],\", \",tLists4[[#This Row],[County]])","v":"Louisiana, Vernon Parish"},"Not Eligible for Credit"]
[null,null,null,null,null,null,null,null,null,null,null,null,null,"Louisiana","Washington Parish",{"$f":"CONCATENATE(tLists4[[#This Row],[State]],\", \",tLists4[[#This Row],[County]])","v":"Louisiana, Washington Parish"},"Not Eligible for Credit"]
[null,null,null,null,null,null,null,null,null,null,null,null,null,"Louisiana","Webster Parish",{"$f":"CONCATENATE(tLists4[[#This Row],[State]],\", \",tLists4[[#This Row],[County]])","v":"Louisiana, Webster Parish"},"Not Eligible for Credit"]
[null,null,null,null,null,null,null,null,null,null,null,null,null,"Louisiana","West Baton Rouge Parish",{"$f":"CONCATENATE(tLists4[[#This Row],[State]],\", \",tLists4[[#This Row],[County]])","v":"Louisiana, West Baton Rouge Parish"},"Not Eligible for Credit"]
[null,null,null,null,null,null,null,null,null,null,null,null,null,"Louisiana","West Carroll Parish",{"$f":"CONCATENATE(tLists4[[#This Row],[State]],\", \",tLists4[[#This Row],[County]])","v":"Louisiana, West Carroll Parish"},"Not Eligible for Credit"]
[null,null,null,null,null,null,null,null,null,null,null,null,null,"Louisiana","West Feliciana Parish",{"$f":"CONCATENATE(tLists4[[#This Row],[State]],\", \",tLists4[[#This Row],[County]])","v":"Louisiana, West Feliciana Parish"},"Not Eligible for Credit"]
[null,null,null,null,null,null,null,null,null,null,null,null,null,"Louisiana","Winn Parish",{"$f":"CONCATENATE(tLists4[[#This Row],[State]],\", \",tLists4[[#This Row],[County]])","v":"Louisiana, Winn Parish"},2]
[null,null,null,null,null,null,null,null,null,null,null,null,null,"Maine","Androscoggin County",{"$f":"CONCATENATE(tLists4[[#This Row],[State]],\", \",tLists4[[#This Row],[County]])","v":"Maine, Androscoggin County"},2]
[null,null,null,null,null,null,null,null,null,null,null,null,null,"Maine","Aroostook County",{"$f":"CONCATENATE(tLists4[[#This Row],[State]],\", \",tLists4[[#This Row],[County]])","v":"Maine, Aroostook County"},2]
[null,null,null,null,null,null,null,null,null,null,null,null,null,"Maine","Cumberland County",{"$f":"CONCATENATE(tLists4[[#This Row],[State]],\", \",tLists4[[#This Row],[County]])","v":"Maine, Cumberland County"},2]
[null,null,null,null,null,null,null,null,null,null,null,null,null,"Maine","Franklin County",{"$f":"CONCATENATE(tLists4[[#This Row],[State]],\", \",tLists4[[#This Row],[County]])","v":"Maine, Franklin County"},3]
[null,null,null,null,null,null,null,null,null,null,null,null,null,"Maine","Hancock County",{"$f":"CONCATENATE(tLists4[[#This Row],[State]],\", \",tLists4[[#This Row],[County]])","v":"Maine, Hancock County"},2]
[null,null,null,null,null,null,null,null,null,null,null,null,null,"Maine","Kennebec County",{"$f":"CONCATENATE(tLists4[[#This Row],[State]],\", \",tLists4[[#This Row],[County]])","v":"Maine, Kennebec County"},2]
[null,null,null,null,null,null,null,null,null,null,null,null,null,"Maine","Knox County",{"$f":"CONCATENATE(tLists4[[#This Row],[State]],\", \",tLists4[[#This Row],[County]])","v":"Maine, Knox County"},"Not Eligible for Credit"]
[null,null,null,null,null,null,null,null,null,null,null,null,null,"Maine","Lincoln County",{"$f":"CONCATENATE(tLists4[[#This Row],[State]],\", \",tLists4[[#This Row],[County]])","v":"Maine, Lincoln County"},2]
[null,null,null,null,null,null,null,null,null,null,null,null,null,"Maine","Oxford County",{"$f":"CONCATENATE(tLists4[[#This Row],[State]],\", \",tLists4[[#This Row],[County]])","v":"Maine, Oxford County"},3]
[null,null,null,null,null,null,null,null,null,null,null,null,null,"Maine","Penobscot County",{"$f":"CONCATENATE(tLists4[[#This Row],[State]],\", \",tLists4[[#This Row],[County]])","v":"Maine, Penobscot County"},2]
[null,null,null,null,null,null,null,null,null,null,null,null,null,"Maine","Piscataquis County",{"$f":"CONCATENATE(tLists4[[#This Row],[State]],\", \",tLists4[[#This Row],[County]])","v":"Maine, Piscataquis County"},2]
[null,null,null,null,null,null,null,null,null,null,null,null,null,"Maine","Sagadahoc County",{"$f":"CONCATENATE(tLists4[[#This Row],[State]],\", \",tLists4[[#This Row],[County]])","v":"Maine, Sagadahoc County"},2]
[null,null,null,null,null,null,null,null,null,null,null,null,null,"Maine","Somerset County",{"$f":"CONCATENATE(tLists4[[#This Row],[State]],\", \",tLists4[[#This Row],[County]])","v":"Maine, Somerset County"},2]
[null,null,null,null,null,null,null,null,null,null,null,null,null,"Maine","Waldo County",{"$f":"CONCATENATE(tLists4[[#This Row],[State]],\", \",tLists4[[#This Row],[County]])","v":"Maine, Waldo County"},2]
[null,null,null,null,null,null,null,null,null,null,null,null,null,"Maine","Washington County",{"$f":"CONCATENATE(tLists4[[#This Row],[State]],\", \",tLists4[[#This Row],[County]])","v":"Maine, Washington County"},2]
[null,null,null,null,null,null,null,null,null,null,null,null,null,"Maine","York County",{"$f":"CONCATENATE(tLists4[[#This Row],[State]],\", \",tLists4[[#This Row],[County]])","v":"Maine, York County"},2]
[null,null,null,null,null,null,null,null,null,null,null,null,null,"Maryland","Allegany County",{"$f":"CONCATENATE(tLists4[[#This Row],[State]],\", \",tLists4[[#This Row],[County]])","v":"Maryland, Allegany County"},2]
[null,null,null,null,null,null,null,null,null,null,null,null,null,"Maryland","Anne Arundel County",{"$f":"CONCATENATE(tLists4[[#This Row],[State]],\", \",tLists4[[#This Row],[County]])","v":"Maryland, Anne Arundel County"},"Not Eligible for Credit"]
[null,null,null,null,null,null,null,null,null,null,null,null,null,"Maryland","Baltimore City",{"$f":"CONCATENATE(tLists4[[#This Row],[State]],\", \",tLists4[[#This Row],[County]])","v":"Maryland, Baltimore City"},2]
[null,null,null,null,null,null,null,null,null,null,null,null,null,"Maryland","Baltimore County",{"$f":"CONCATENATE(tLists4[[#This Row],[State]],\", \",tLists4[[#This Row],[County]])","v":"Maryland, Baltimore County"},2]
[null,null,null,null,null,null,null,null,null,null,null,null,null,"Maryland","Calvert County",{"$f":"CONCATENATE(tLists4[[#This Row],[State]],\", \",tLists4[[#This Row],[County]])","v":"Maryland, Calvert County"},2]
[null,null,null,null,null,null,null,null,null,null,null,null,null,"Maryland","Caroline County",{"$f":"CONCATENATE(tLists4[[#This Row],[State]],\", \",tLists4[[#This Row],[County]])","v":"Maryland, Caroline County"},"Not Eligible for Credit"]
[null,null,null,null,null,null,null,null,null,null,null,null,null,"Maryland","Carroll County",{"$f":"CONCATENATE(tLists4[[#This Row],[State]],\", \",tLists4[[#This Row],[County]])","v":"Maryland, Carroll County"},2]
[null,null,null,null,null,null,null,null,null,null,null,null,null,"Maryland","Cecil County",{"$f":"CONCATENATE(tLists4[[#This Row],[State]],\", \",tLists4[[#This Row],[County]])","v":"Maryland, Cecil County"},"Not Eligible for Credit"]
[null,null,null,null,null,null,null,null,null,null,null,null,null,"Maryland","Charles County",{"$f":"CONCATENATE(tLists4[[#This Row],[State]],\", \",tLists4[[#This Row],[County]])","v":"Maryland, Charles County"},"Not Eligible for Credit"]
[null,null,null,null,null,null,null,null,null,null,null,null,null,"Maryland","Dorchester County",{"$f":"CONCATENATE(tLists4[[#This Row],[State]],\", \",tLists4[[#This Row],[County]])","v":"Maryland, Dorchester County"},"Not Eligible for Credit"]
[null,null,null,null,null,null,null,null,null,null,null,null,null,"Maryland","Frederick County",{"$f":"CONCATENATE(tLists4[[#This Row],[State]],\", \",tLists4[[#This Row],[County]])","v":"Maryland, Frederick County"},2]
[null,null,null,null,null,null,null,null,null,null,null,null,null,"Maryland","Garrett County",{"$f":"CONCATENATE(tLists4[[#This Row],[State]],\", \",tLists4[[#This Row],[County]])","v":"Maryland, Garrett County"},2]
[null,null,null,null,null,null,null,null,null,null,null,null,null,"Maryland","Harford County",{"$f":"CONCATENATE(tLists4[[#This Row],[State]],\", \",tLists4[[#This Row],[County]])","v":"Maryland, Harford County"},2]
[null,null,null,null,null,null,null,null,null,null,null,null,null,"Maryland","Howard County",{"$f":"CONCATENATE(tLists4[[#This Row],[State]],\", \",tLists4[[#This Row],[County]])","v":"Maryland, Howard County"},2]
[null,null,null,null,null,null,null,null,null,null,null,null,null,"Maryland","Kent County",{"$f":"CONCATENATE(tLists4[[#This Row],[State]],\", \",tLists4[[#This Row],[County]])","v":"Maryland, Kent County"},"Not Eligible for Credit"]
[null,null,null,null,null,null,null,null,null,null,null,null,null,"Maryland","Montgomery County",{"$f":"CONCATENATE(tLists4[[#This Row],[State]],\", \",tLists4[[#This Row],[County]])","v":"Maryland, Montgomery County"},2]
[null,null,null,null,null,null,null,null,null,null,null,null,null,"Maryland","Prince George's County",{"$f":"CONCATENATE(tLists4[[#This Row],[State]],\", \",tLists4[[#This Row],[County]])","v":"Maryland, Prince George's County"},2]
[null,null,null,null,null,null,null,null,null,null,null,null,null,"Maryland","Queen Anne's County",{"$f":"CONCATENATE(tLists4[[#This Row],[State]],\", \",tLists4[[#This Row],[County]])","v":"Maryland, Queen Anne's County"},"Not Eligible for Credit"]
[null,null,null,null,null,null,null,null,null,null,null,null,null,"Maryland","Somerset County",{"$f":"CONCATENATE(tLists4[[#This Row],[State]],\", \",tLists4[[#This Row],[County]])","v":"Maryland, Somerset County"},"Not Eligible for Credit"]
[null,null,null,null,null,null,null,null,null,null,null,null,null,"Maryland","St. Mary's County",{"$f":"CONCATENATE(tLists4[[#This Row],[State]],\", \",tLists4[[#This Row],[County]])","v":"Maryland, St. Mary's County"},"Not Eligible for Credit"]
[null,null,null,null,null,null,null,null,null,null,null,null,null,"Maryland","Talbot County",{"$f":"CONCATENATE(tLists4[[#This Row],[State]],\", \",tLists4[[#This Row],[County]])","v":"Maryland, Talbot County"},"Not Eligible for Credit"]
[null,null,null,null,null,null,null,null,null,null,null,null,null,"Maryland","Washington County",{"$f":"CONCATENATE(tLists4[[#This Row],[State]],\", \",tLists4[[#This Row],[County]])","v":"Maryland, Washington County"},2]
[null,null,null,null,null,null,null,null,null,null,null,null,null,"Maryland","Wicomico County",{"$f":"CONCATENATE(tLists4[[#This Row],[State]],\", \",tLists4[[#This Row],[County]])","v":"Maryland, Wicomico County"},"Not Eligible for Credit"]
[null,null,null,null,null,null,null,null,null,null,null,null,null,"Maryland","Worcester County",{"$f":"CONCATENATE(tLists4[[#This Row],[State]],\", \",tLists4[[#This Row],[County]])","v":"Maryland, Worcester County"},"Not Eligible for Credit"]
[null,null,null,null,null,null,null,null,null,null,null,null,null,"Massachusetts","Barnstable County",{"$f":"CONCATENATE(tLists4[[#This Row],[State]],\", \",tLists4[[#This Row],[County]])","v":"Massachusetts, Barnstable County"},2]
[null,null,null,null,null,null,null,null,null,null,null,null,null,"Massachusetts","Berkshire County",{"$f":"CONCATENATE(tLists4[[#This Row],[State]],\", \",tLists4[[#This Row],[County]])","v":"Massachusetts, Berkshire County"},2]
[null,null,null,null,null,null,null,null,null,null,null,null,null,"Massachusetts","Bristol County",{"$f":"CONCATENATE(tLists4[[#This Row],[State]],\", \",tLists4[[#This Row],[County]])","v":"Massachusetts, Bristol County"},"Not Eligible for Credit"]
[null,null,null,null,null,null,null,null,null,null,null,null,null,"Massachusetts","Dukes County",{"$f":"CONCATENATE(tLists4[[#This Row],[State]],\", \",tLists4[[#This Row],[County]])","v":"Massachusetts, Dukes County"},3]
[null,null,null,null,null,null,null,null,null,null,null,null,null,"Massachusetts","Essex County",{"$f":"CONCATENATE(tLists4[[#This Row],[State]],\", \",tLists4[[#This Row],[County]])","v":"Massachusetts, Essex County"},2]
[null,null,null,null,null,null,null,null,null,null,null,null,null,"Massachusetts","Franklin County",{"$f":"CONCATENATE(tLists4[[#This Row],[State]],\", \",tLists4[[#This Row],[County]])","v":"Massachusetts, Franklin County"},"Not Eligible for Credit"]
[null,null,null,null,null,null,null,null,null,null,null,null,null,"Massachusetts","Hampden County",{"$f":"CONCATENATE(tLists4[[#This Row],[State]],\", \",tLists4[[#This Row],[County]])","v":"Massachusetts, Hampden County"},"Not Eligible for Credit"]
[null,null,null,null,null,null,null,null,null,null,null,null,null,"Massachusetts","Hampshire County",{"$f":"CONCATENATE(tLists4[[#This Row],[State]],\", \",tLists4[[#This Row],[County]])","v":"Massachusetts, Hampshire County"},"Not Eligible for Credit"]
[null,null,null,null,null,null,null,null,null,null,null,null,null,"Massachusetts","Middlesex County",{"$f":"CONCATENATE(tLists4[[#This Row],[State]],\", \",tLists4[[#This Row],[County]])","v":"Massachusetts, Middlesex County"},3]
[null,null,null,null,null,null,null,null,null,null,null,null,null,"Massachusetts","Nantucket County",{"$f":"CONCATENATE(tLists4[[#This Row],[State]],\", \",tLists4[[#This Row],[County]])","v":"Massachusetts, Nantucket County"},3]
[null,null,null,null,null,null,null,null,null,null,null,null,null,"Massachusetts","Norfolk County",{"$f":"CONCATENATE(tLists4[[#This Row],[State]],\", \",tLists4[[#This Row],[County]])","v":"Massachusetts, Norfolk County"},2]
[null,null,null,null,null,null,null,null,null,null,null,null,null,"Massachusetts","Plymouth County",{"$f":"CONCATENATE(tLists4[[#This Row],[State]],\", \",tLists4[[#This Row],[County]])","v":"Massachusetts, Plymouth County"},2]
[null,null,null,null,null,null,null,null,null,null,null,null,null,"Massachusetts","Suffolk County",{"$f":"CONCATENATE(tLists4[[#This Row],[State]],\", \",tLists4[[#This Row],[County]])","v":"Massachusetts, Suffolk County"},2]
[null,null,null,null,null,null,null,null,null,null,null,null,null,"Massachusetts","Worcester County",{"$f":"CONCATENATE(tLists4[[#This Row],[State]],\", \",tLists4[[#This Row],[County]])","v":"Massachusetts, Worcester County"},2]
[null,null,null,null,null,null,null,null,null,null,null,null,null,"Michigan","Alcona County",{"$f":"CONCATENATE(tLists4[[#This Row],[State]],\", \",tLists4[[#This Row],[County]])","v":"Michigan, Alcona County"},2]
[null,null,null,null,null,null,null,null,null,null,null,null,null,"Michigan","Alger County",{"$f":"CONCATENATE(tLists4[[#This Row],[State]],\", \",tLists4[[#This Row],[County]])","v":"Michigan, Alger County"},3]
[null,null,null,null,null,null,null,null,null,null,null,null,null,"Michigan","Allegan County",{"$f":"CONCATENATE(tLists4[[#This Row],[State]],\", \",tLists4[[#This Row],[County]])","v":"Michigan, Allegan County"},2]
[null,null,null,null,null,null,null,null,null,null,null,null,null,"Michigan","Alpena County",{"$f":"CONCATENATE(tLists4[[#This Row],[State]],\", \",tLists4[[#This Row],[County]])","v":"Michigan, Alpena County"},2]
[null,null,null,null,null,null,null,null,null,null,null,null,null,"Michigan","Antrim County",{"$f":"CONCATENATE(tLists4[[#This Row],[State]],\", \",tLists4[[#This Row],[County]])","v":"Michigan, Antrim County"},3]
[null,null,null,null,null,null,null,null,null,null,null,null,null,"Michigan","Arenac County",{"$f":"CONCATENATE(tLists4[[#This Row],[State]],\", \",tLists4[[#This Row],[County]])","v":"Michigan, Arenac County"},2]
[null,null,null,null,null,null,null,null,null,null,null,null,null,"Michigan","Baraga County",{"$f":"CONCATENATE(tLists4[[#This Row],[State]],\", \",tLists4[[#This Row],[County]])","v":"Michigan, Baraga County"},3]
[null,null,null,null,null,null,null,null,null,null,null,null,null,"Michigan","Barry County",{"$f":"CONCATENATE(tLists4[[#This Row],[State]],\", \",tLists4[[#This Row],[County]])","v":"Michigan, Barry County"},2]
[null,null,null,null,null,null,null,null,null,null,null,null,null,"Michigan","Bay County",{"$f":"CONCATENATE(tLists4[[#This Row],[State]],\", \",tLists4[[#This Row],[County]])","v":"Michigan, Bay County"},3]
[null,null,null,null,null,null,null,null,null,null,null,null,null,"Michigan","Benzie County",{"$f":"CONCATENATE(tLists4[[#This Row],[State]],\", \",tLists4[[#This Row],[County]])","v":"Michigan, Benzie County"},3]
[null,null,null,null,null,null,null,null,null,null,null,null,null,"Michigan","Berrien County",{"$f":"CONCATENATE(tLists4[[#This Row],[State]],\", \",tLists4[[#This Row],[County]])","v":"Michigan, Berrien County"},2]
[null,null,null,null,null,null,null,null,null,null,null,null,null,"Michigan","Branch County",{"$f":"CONCATENATE(tLists4[[#This Row],[State]],\", \",tLists4[[#This Row],[County]])","v":"Michigan, Branch County"},2]
[null,null,null,null,null,null,null,null,null,null,null,null,null,"Michigan","Calhoun County",{"$f":"CONCATENATE(tLists4[[#This Row],[State]],\", \",tLists4[[#This Row],[County]])","v":"Michigan, Calhoun County"},2]
[null,null,null,null,null,null,null,null,null,null,null,null,null,"Michigan","Cass County",{"$f":"CONCATENATE(tLists4[[#This Row],[State]],\", \",tLists4[[#This Row],[County]])","v":"Michigan, Cass County"},3]
[null,null,null,null,null,null,null,null,null,null,null,null,null,"Michigan","Charlevoix County",{"$f":"CONCATENATE(tLists4[[#This Row],[State]],\", \",tLists4[[#This Row],[County]])","v":"Michigan, Charlevoix County"},3]
[null,null,null,null,null,null,null,null,null,null,null,null,null,"Michigan","Cheboygan County",{"$f":"CONCATENATE(tLists4[[#This Row],[State]],\", \",tLists4[[#This Row],[County]])","v":"Michigan, Cheboygan County"},3]
[null,null,null,null,null,null,null,null,null,null,null,null,null,"Michigan","Chippewa County",{"$f":"CONCATENATE(tLists4[[#This Row],[State]],\", \",tLists4[[#This Row],[County]])","v":"Michigan, Chippewa County"},3]
[null,null,null,null,null,null,null,null,null,null,null,null,null,"Michigan","Clare County",{"$f":"CONCATENATE(tLists4[[#This Row],[State]],\", \",tLists4[[#This Row],[County]])","v":"Michigan, Clare County"},3]
[null,null,null,null,null,null,null,null,null,null,null,null,null,"Michigan","Clinton County",{"$f":"CONCATENATE(tLists4[[#This Row],[State]],\", \",tLists4[[#This Row],[County]])","v":"Michigan, Clinton County"},3]
[null,null,null,null,null,null,null,null,null,null,null,null,null,"Michigan","Crawford County",{"$f":"CONCATENATE(tLists4[[#This Row],[State]],\", \",tLists4[[#This Row],[County]])","v":"Michigan, Crawford County"},3]
[null,null,null,null,null,null,null,null,null,null,null,null,null,"Michigan","Delta County",{"$f":"CONCATENATE(tLists4[[#This Row],[State]],\", \",tLists4[[#This Row],[County]])","v":"Michigan, Delta County"},3]
[null,null,null,null,null,null,null,null,null,null,null,null,null,"Michigan","Dickinson County",{"$f":"CONCATENATE(tLists4[[#This Row],[State]],\", \",tLists4[[#This Row],[County]])","v":"Michigan, Dickinson County"},3]
[null,null,null,null,null,null,null,null,null,null,null,null,null,"Michigan","Eaton County",{"$f":"CONCATENATE(tLists4[[#This Row],[State]],\", \",tLists4[[#This Row],[County]])","v":"Michigan, Eaton County"},3]
[null,null,null,null,null,null,null,null,null,null,null,null,null,"Michigan","Emmet County",{"$f":"CONCATENATE(tLists4[[#This Row],[State]],\", \",tLists4[[#This Row],[County]])","v":"Michigan, Emmet County"},3]
[null,null,null,null,null,null,null,null,null,null,null,null,null,"Michigan","Genesee County",{"$f":"CONCATENATE(tLists4[[#This Row],[State]],\", \",tLists4[[#This Row],[County]])","v":"Michigan, Genesee County"},3]
[null,null,null,null,null,null,null,null,null,null,null,null,null,"Michigan","Gladwin County",{"$f":"CONCATENATE(tLists4[[#This Row],[State]],\", \",tLists4[[#This Row],[County]])","v":"Michigan, Gladwin County"},2]
[null,null,null,null,null,null,null,null,null,null,null,null,null,"Michigan","Gogebic County",{"$f":"CONCATENATE(tLists4[[#This Row],[State]],\", \",tLists4[[#This Row],[County]])","v":"Michigan, Gogebic County"},2]
[null,null,null,null,null,null,null,null,null,null,null,null,null,"Michigan","Grand Traverse County",{"$f":"CONCATENATE(tLists4[[#This Row],[State]],\", \",tLists4[[#This Row],[County]])","v":"Michigan, Grand Traverse County"},3]
[null,null,null,null,null,null,null,null,null,null,null,null,null,"Michigan","Gratiot County",{"$f":"CONCATENATE(tLists4[[#This Row],[State]],\", \",tLists4[[#This Row],[County]])","v":"Michigan, Gratiot County"},2]
[null,null,null,null,null,null,null,null,null,null,null,null,null,"Michigan","Hillsdale County",{"$f":"CONCATENATE(tLists4[[#This Row],[State]],\", \",tLists4[[#This Row],[County]])","v":"Michigan, Hillsdale County"},2]
[null,null,null,null,null,null,null,null,null,null,null,null,null,"Michigan","Houghton County",{"$f":"CONCATENATE(tLists4[[#This Row],[State]],\", \",tLists4[[#This Row],[County]])","v":"Michigan, Houghton County"},2]
[null,null,null,null,null,null,null,null,null,null,null,null,null,"Michigan","Huron County",{"$f":"CONCATENATE(tLists4[[#This Row],[State]],\", \",tLists4[[#This Row],[County]])","v":"Michigan, Huron County"},3]
[null,null,null,null,null,null,null,null,null,null,null,null,null,"Michigan","Ingham County",{"$f":"CONCATENATE(tLists4[[#This Row],[State]],\", \",tLists4[[#This Row],[County]])","v":"Michigan, Ingham County"},3]
[null,null,null,null,null,null,null,null,null,null,null,null,null,"Michigan","Ionia County",{"$f":"CONCATENATE(tLists4[[#This Row],[State]],\", \",tLists4[[#This Row],[County]])","v":"Michigan, Ionia County"},3]
[null,null,null,null,null,null,null,null,null,null,null,null,null,"Michigan","Iosco County",{"$f":"CONCATENATE(tLists4[[#This Row],[State]],\", \",tLists4[[#This Row],[County]])","v":"Michigan, Iosco County"},2]
[null,null,null,null,null,null,null,null,null,null,null,null,null,"Michigan","Iron County",{"$f":"CONCATENATE(tLists4[[#This Row],[State]],\", \",tLists4[[#This Row],[County]])","v":"Michigan, Iron County"},3]
[null,null,null,null,null,null,null,null,null,null,null,null,null,"Michigan","Isabella County",{"$f":"CONCATENATE(tLists4[[#This Row],[State]],\", \",tLists4[[#This Row],[County]])","v":"Michigan, Isabella County"},2]
[null,null,null,null,null,null,null,null,null,null,null,null,null,"Michigan","Jackson County",{"$f":"CONCATENATE(tLists4[[#This Row],[State]],\", \",tLists4[[#This Row],[County]])","v":"Michigan, Jackson County"},3]
[null,null,null,null,null,null,null,null,null,null,null,null,null,"Michigan","Kalamazoo County",{"$f":"CONCATENATE(tLists4[[#This Row],[State]],\", \",tLists4[[#This Row],[County]])","v":"Michigan, Kalamazoo County"},3]
[null,null,null,null,null,null,null,null,null,null,null,null,null,"Michigan","Kalkaska County",{"$f":"CONCATENATE(tLists4[[#This Row],[State]],\", \",tLists4[[#This Row],[County]])","v":"Michigan, Kalkaska County"},3]
[null,null,null,null,null,null,null,null,null,null,null,null,null,"Michigan","Kent County",{"$f":"CONCATENATE(tLists4[[#This Row],[State]],\", \",tLists4[[#This Row],[County]])","v":"Michigan, Kent County"},2]
[null,null,null,null,null,null,null,null,null,null,null,null,null,"Michigan","Keweenaw County",{"$f":"CONCATENATE(tLists4[[#This Row],[State]],\", \",tLists4[[#This Row],[County]])","v":"Michigan, Keweenaw County"},3]
[null,null,null,null,null,null,null,null,null,null,null,null,null,"Michigan","Lake County",{"$f":"CONCATENATE(tLists4[[#This Row],[State]],\", \",tLists4[[#This Row],[County]])","v":"Michigan, Lake County"},3]
[null,null,null,null,null,null,null,null,null,null,null,null,null,"Michigan","Lapeer County",{"$f":"CONCATENATE(tLists4[[#This Row],[State]],\", \",tLists4[[#This Row],[County]])","v":"Michigan, Lapeer County"},3]
[null,null,null,null,null,null,null,null,null,null,null,null,null,"Michigan","Leelanau County",{"$f":"CONCATENATE(tLists4[[#This Row],[State]],\", \",tLists4[[#This Row],[County]])","v":"Michigan, Leelanau County"},3]
[null,null,null,null,null,null,null,null,null,null,null,null,null,"Michigan","Lenawee County",{"$f":"CONCATENATE(tLists4[[#This Row],[State]],\", \",tLists4[[#This Row],[County]])","v":"Michigan, Lenawee County"},2]
[null,null,null,null,null,null,null,null,null,null,null,null,null,"Michigan","Livingston County",{"$f":"CONCATENATE(tLists4[[#This Row],[State]],\", \",tLists4[[#This Row],[County]])","v":"Michigan, Livingston County"},3]
[null,null,null,null,null,null,null,null,null,null,null,null,null,"Michigan","Luce County",{"$f":"CONCATENATE(tLists4[[#This Row],[State]],\", \",tLists4[[#This Row],[County]])","v":"Michigan, Luce County"},3]
[null,null,null,null,null,null,null,null,null,null,null,null,null,"Michigan","Mackinac County",{"$f":"CONCATENATE(tLists4[[#This Row],[State]],\", \",tLists4[[#This Row],[County]])","v":"Michigan, Mackinac County"},3]
[null,null,null,null,null,null,null,null,null,null,null,null,null,"Michigan","Macomb County",{"$f":"CONCATENATE(tLists4[[#This Row],[State]],\", \",tLists4[[#This Row],[County]])","v":"Michigan, Macomb County"},3]
[null,null,null,null,null,null,null,null,null,null,null,null,null,"Michigan","Manistee County",{"$f":"CONCATENATE(tLists4[[#This Row],[State]],\", \",tLists4[[#This Row],[County]])","v":"Michigan, Manistee County"},3]
[null,null,null,null,null,null,null,null,null,null,null,null,null,"Michigan","Marquette County",{"$f":"CONCATENATE(tLists4[[#This Row],[State]],\", \",tLists4[[#This Row],[County]])","v":"Michigan, Marquette County"},3]
[null,null,null,null,null,null,null,null,null,null,null,null,null,"Michigan","Mason County",{"$f":"CONCATENATE(tLists4[[#This Row],[State]],\", \",tLists4[[#This Row],[County]])","v":"Michigan, Mason County"},2]
[null,null,null,null,null,null,null,null,null,null,null,null,null,"Michigan","Mecosta County",{"$f":"CONCATENATE(tLists4[[#This Row],[State]],\", \",tLists4[[#This Row],[County]])","v":"Michigan, Mecosta County"},3]
[null,null,null,null,null,null,null,null,null,null,null,null,null,"Michigan","Menominee County",{"$f":"CONCATENATE(tLists4[[#This Row],[State]],\", \",tLists4[[#This Row],[County]])","v":"Michigan, Menominee County"},3]
[null,null,null,null,null,null,null,null,null,null,null,null,null,"Michigan","Midland County",{"$f":"CONCATENATE(tLists4[[#This Row],[State]],\", \",tLists4[[#This Row],[County]])","v":"Michigan, Midland County"},3]
[null,null,null,null,null,null,null,null,null,null,null,null,null,"Michigan","Missaukee County",{"$f":"CONCATENATE(tLists4[[#This Row],[State]],\", \",tLists4[[#This Row],[County]])","v":"Michigan, Missaukee County"},3]
[null,null,null,null,null,null,null,null,null,null,null,null,null,"Michigan","Monroe County",{"$f":"CONCATENATE(tLists4[[#This Row],[State]],\", \",tLists4[[#This Row],[County]])","v":"Michigan, Monroe County"},2]
[null,null,null,null,null,null,null,null,null,null,null,null,null,"Michigan","Montcalm County",{"$f":"CONCATENATE(tLists4[[#This Row],[State]],\", \",tLists4[[#This Row],[County]])","v":"Michigan, Montcalm County"},2]
[null,null,null,null,null,null,null,null,null,null,null,null,null,"Michigan","Montmorency County",{"$f":"CONCATENATE(tLists4[[#This Row],[State]],\", \",tLists4[[#This Row],[County]])","v":"Michigan, Montmorency County"},3]
[null,null,null,null,null,null,null,null,null,null,null,null,null,"Michigan","Muskegon County",{"$f":"CONCATENATE(tLists4[[#This Row],[State]],\", \",tLists4[[#This Row],[County]])","v":"Michigan, Muskegon County"},3]
[null,null,null,null,null,null,null,null,null,null,null,null,null,"Michigan","Newaygo County",{"$f":"CONCATENATE(tLists4[[#This Row],[State]],\", \",tLists4[[#This Row],[County]])","v":"Michigan, Newaygo County"},3]
[null,null,null,null,null,null,null,null,null,null,null,null,null,"Michigan","Oakland County",{"$f":"CONCATENATE(tLists4[[#This Row],[State]],\", \",tLists4[[#This Row],[County]])","v":"Michigan, Oakland County"},3]
[null,null,null,null,null,null,null,null,null,null,null,null,null,"Michigan","Oceana County",{"$f":"CONCATENATE(tLists4[[#This Row],[State]],\", \",tLists4[[#This Row],[County]])","v":"Michigan, Oceana County"},2]
[null,null,null,null,null,null,null,null,null,null,null,null,null,"Michigan","Ogemaw County",{"$f":"CONCATENATE(tLists4[[#This Row],[State]],\", \",tLists4[[#This Row],[County]])","v":"Michigan, Ogemaw County"},2]
[null,null,null,null,null,null,null,null,null,null,null,null,null,"Michigan","Ontonagon County",{"$f":"CONCATENATE(tLists4[[#This Row],[State]],\", \",tLists4[[#This Row],[County]])","v":"Michigan, Ontonagon County"},2]
[null,null,null,null,null,null,null,null,null,null,null,null,null,"Michigan","Osceola County",{"$f":"CONCATENATE(tLists4[[#This Row],[State]],\", \",tLists4[[#This Row],[County]])","v":"Michigan, Osceola County"},2]
[null,null,null,null,null,null,null,null,null,null,null,null,null,"Michigan","Oscoda County",{"$f":"CONCATENATE(tLists4[[#This Row],[State]],\", \",tLists4[[#This Row],[County]])","v":"Michigan, Oscoda County"},2]
[null,null,null,null,null,null,null,null,null,null,null,null,null,"Michigan","Otsego County",{"$f":"CONCATENATE(tLists4[[#This Row],[State]],\", \",tLists4[[#This Row],[County]])","v":"Michigan, Otsego County"},3]
[null,null,null,null,null,null,null,null,null,null,null,null,null,"Michigan","Ottawa County",{"$f":"CONCATENATE(tLists4[[#This Row],[State]],\", \",tLists4[[#This Row],[County]])","v":"Michigan, Ottawa County"},2]
[null,null,null,null,null,null,null,null,null,null,null,null,null,"Michigan","Presque Isle County",{"$f":"CONCATENATE(tLists4[[#This Row],[State]],\", \",tLists4[[#This Row],[County]])","v":"Michigan, Presque Isle County"},3]
[null,null,null,null,null,null,null,null,null,null,null,null,null,"Michigan","Roscommon County",{"$f":"CONCATENATE(tLists4[[#This Row],[State]],\", \",tLists4[[#This Row],[County]])","v":"Michigan, Roscommon County"},3]
[null,null,null,null,null,null,null,null,null,null,null,null,null,"Michigan","Saginaw County",{"$f":"CONCATENATE(tLists4[[#This Row],[State]],\", \",tLists4[[#This Row],[County]])","v":"Michigan, Saginaw County"},3]
[null,null,null,null,null,null,null,null,null,null,null,null,null,"Michigan","Sanilac County",{"$f":"CONCATENATE(tLists4[[#This Row],[State]],\", \",tLists4[[#This Row],[County]])","v":"Michigan, Sanilac County"},3]
[null,null,null,null,null,null,null,null,null,null,null,null,null,"Michigan","Schoolcraft County",{"$f":"CONCATENATE(tLists4[[#This Row],[State]],\", \",tLists4[[#This Row],[County]])","v":"Michigan, Schoolcraft County"},3]
[null,null,null,null,null,null,null,null,null,null,null,null,null,"Michigan","Shiawassee County",{"$f":"CONCATENATE(tLists4[[#This Row],[State]],\", \",tLists4[[#This Row],[County]])","v":"Michigan, Shiawassee County"},2]
[null,null,null,null,null,null,null,null,null,null,null,null,null,"Michigan","St. Clair County",{"$f":"CONCATENATE(tLists4[[#This Row],[State]],\", \",tLists4[[#This Row],[County]])","v":"Michigan, St. Clair County"},3]
[null,null,null,null,null,null,null,null,null,null,null,null,null,"Michigan","St. Joseph County",{"$f":"CONCATENATE(tLists4[[#This Row],[State]],\", \",tLists4[[#This Row],[County]])","v":"Michigan, St. Joseph County"},3]
[null,null,null,null,null,null,null,null,null,null,null,null,null,"Michigan","Tuscola County",{"$f":"CONCATENATE(tLists4[[#This Row],[State]],\", \",tLists4[[#This Row],[County]])","v":"Michigan, Tuscola County"},3]
[null,null,null,null,null,null,null,null,null,null,null,null,null,"Michigan","Van Buren County",{"$f":"CONCATENATE(tLists4[[#This Row],[State]],\", \",tLists4[[#This Row],[County]])","v":"Michigan, Van Buren County"},2]
[null,null,null,null,null,null,null,null,null,null,null,null,null,"Michigan","Washtenaw County",{"$f":"CONCATENATE(tLists4[[#This Row],[State]],\", \",tLists4[[#This Row],[County]])","v":"Michigan, Washtenaw County"},2]
[null,null,null,null,null,null,null,null,null,null,null,null,null,"Michigan","Wayne County",{"$f":"CONCATENATE(tLists4[[#This Row],[State]],\", \",tLists4[[#This Row],[County]])","v":"Michigan, Wayne County"},2]
[null,null,null,null,null,null,null,null,null,null,null,null,null,"Michigan","Wexford County",{"$f":"CONCATENATE(tLists4[[#This Row],[State]],\", \",tLists4[[#This Row],[County]])","v":"Michigan, Wexford County"},3]
[null,null,null,null,null,null,null,null,null,null,null,null,null,"Minnesota","Aitkin County",{"$f":"CONCATENATE(tLists4[[#This Row],[State]],\", \",tLists4[[#This Row],[County]])","v":"Minnesota, Aitkin County"},2]
[null,null,null,null,null,null,null,null,null,null,null,null,null,"Minnesota","Anoka County",{"$f":"CONCATENATE(tLists4[[#This Row],[State]],\", \",tLists4[[#This Row],[County]])","v":"Minnesota, Anoka County"},3]
[null,null,null,null,null,null,null,null,null,null,null,null,null,"Minnesota","Becker County",{"$f":"CONCATENATE(tLists4[[#This Row],[State]],\", \",tLists4[[#This Row],[County]])","v":"Minnesota, Becker County"},2]
[null,null,null,null,null,null,null,null,null,null,null,null,null,"Minnesota","Beltrami County",{"$f":"CONCATENATE(tLists4[[#This Row],[State]],\", \",tLists4[[#This Row],[County]])","v":"Minnesota, Beltrami County"},2]
[null,null,null,null,null,null,null,null,null,null,null,null,null,"Minnesota","Benton County",{"$f":"CONCATENATE(tLists4[[#This Row],[State]],\", \",tLists4[[#This Row],[County]])","v":"Minnesota, Benton County"},2]
[null,null,null,null,null,null,null,null,null,null,null,null,null,"Minnesota","Big Stone County",{"$f":"CONCATENATE(tLists4[[#This Row],[State]],\", \",tLists4[[#This Row],[County]])","v":"Minnesota, Big Stone County"},2]
[null,null,null,null,null,null,null,null,null,null,null,null,null,"Minnesota","Blue Earth County",{"$f":"CONCATENATE(tLists4[[#This Row],[State]],\", \",tLists4[[#This Row],[County]])","v":"Minnesota, Blue Earth County"},"Not Eligible for Credit"]
[null,null,null,null,null,null,null,null,null,null,null,null,null,"Minnesota","Brown County",{"$f":"CONCATENATE(tLists4[[#This Row],[State]],\", \",tLists4[[#This Row],[County]])","v":"Minnesota, Brown County"},"Not Eligible for Credit"]
[null,null,null,null,null,null,null,null,null,null,null,null,null,"Minnesota","Carlton County",{"$f":"CONCATENATE(tLists4[[#This Row],[State]],\", \",tLists4[[#This Row],[County]])","v":"Minnesota, Carlton County"},2]
[null,null,null,null,null,null,null,null,null,null,null,null,null,"Minnesota","Carver County",{"$f":"CONCATENATE(tLists4[[#This Row],[State]],\", \",tLists4[[#This Row],[County]])","v":"Minnesota, Carver County"},"Not Eligible for Credit"]
[null,null,null,null,null,null,null,null,null,null,null,null,null,"Minnesota","Cass County",{"$f":"CONCATENATE(tLists4[[#This Row],[State]],\", \",tLists4[[#This Row],[County]])","v":"Minnesota, Cass County"},2]
[null,null,null,null,null,null,null,null,null,null,null,null,null,"Minnesota","Chippewa County",{"$f":"CONCATENATE(tLists4[[#This Row],[State]],\", \",tLists4[[#This Row],[County]])","v":"Minnesota, Chippewa County"},2]
[null,null,null,null,null,null,null,null,null,null,null,null,null,"Minnesota","Chisago County",{"$f":"CONCATENATE(tLists4[[#This Row],[State]],\", \",tLists4[[#This Row],[County]])","v":"Minnesota, Chisago County"},2]
[null,null,null,null,null,null,null,null,null,null,null,null,null,"Minnesota","Clay County",{"$f":"CONCATENATE(tLists4[[#This Row],[State]],\", \",tLists4[[#This Row],[County]])","v":"Minnesota, Clay County"},2]
[null,null,null,null,null,null,null,null,null,null,null,null,null,"Minnesota","Clearwater County",{"$f":"CONCATENATE(tLists4[[#This Row],[State]],\", \",tLists4[[#This Row],[County]])","v":"Minnesota, Clearwater County"},2]
[null,null,null,null,null,null,null,null,null,null,null,null,null,"Minnesota","Cook County",{"$f":"CONCATENATE(tLists4[[#This Row],[State]],\", \",tLists4[[#This Row],[County]])","v":"Minnesota, Cook County"},2]
[null,null,null,null,null,null,null,null,null,null,null,null,null,"Minnesota","Cottonwood County",{"$f":"CONCATENATE(tLists4[[#This Row],[State]],\", \",tLists4[[#This Row],[County]])","v":"Minnesota, Cottonwood County"},2]
[null,null,null,null,null,null,null,null,null,null,null,null,null,"Minnesota","Crow Wing County",{"$f":"CONCATENATE(tLists4[[#This Row],[State]],\", \",tLists4[[#This Row],[County]])","v":"Minnesota, Crow Wing County"},2]
[null,null,null,null,null,null,null,null,null,null,null,null,null,"Minnesota","Dakota County",{"$f":"CONCATENATE(tLists4[[#This Row],[State]],\", \",tLists4[[#This Row],[County]])","v":"Minnesota, Dakota County"},2]
[null,null,null,null,null,null,null,null,null,null,null,null,null,"Minnesota","Dodge County",{"$f":"CONCATENATE(tLists4[[#This Row],[State]],\", \",tLists4[[#This Row],[County]])","v":"Minnesota, Dodge County"},2]
[null,null,null,null,null,null,null,null,null,null,null,null,null,"Minnesota","Douglas County",{"$f":"CONCATENATE(tLists4[[#This Row],[State]],\", \",tLists4[[#This Row],[County]])","v":"Minnesota, Douglas County"},2]
[null,null,null,null,null,null,null,null,null,null,null,null,null,"Minnesota","Faribault County",{"$f":"CONCATENATE(tLists4[[#This Row],[State]],\", \",tLists4[[#This Row],[County]])","v":"Minnesota, Faribault County"},"Not Eligible for Credit"]
[null,null,null,null,null,null,null,null,null,null,null,null,null,"Minnesota","Fillmore County",{"$f":"CONCATENATE(tLists4[[#This Row],[State]],\", \",tLists4[[#This Row],[County]])","v":"Minnesota, Fillmore County"},2]
[null,null,null,null,null,null,null,null,null,null,null,null,null,"Minnesota","Freeborn County",{"$f":"CONCATENATE(tLists4[[#This Row],[State]],\", \",tLists4[[#This Row],[County]])","v":"Minnesota, Freeborn County"},"Not Eligible for Credit"]
[null,null,null,null,null,null,null,null,null,null,null,null,null,"Minnesota","Goodhue County",{"$f":"CONCATENATE(tLists4[[#This Row],[State]],\", \",tLists4[[#This Row],[County]])","v":"Minnesota, Goodhue County"},2]
[null,null,null,null,null,null,null,null,null,null,null,null,null,"Minnesota","Grant County",{"$f":"CONCATENATE(tLists4[[#This Row],[State]],\", \",tLists4[[#This Row],[County]])","v":"Minnesota, Grant County"},2]
[null,null,null,null,null,null,null,null,null,null,null,null,null,"Minnesota","Hennepin County",{"$f":"CONCATENATE(tLists4[[#This Row],[State]],\", \",tLists4[[#This Row],[County]])","v":"Minnesota, Hennepin County"},2]
[null,null,null,null,null,null,null,null,null,null,null,null,null,"Minnesota","Houston County",{"$f":"CONCATENATE(tLists4[[#This Row],[State]],\", \",tLists4[[#This Row],[County]])","v":"Minnesota, Houston County"},2]
[null,null,null,null,null,null,null,null,null,null,null,null,null,"Minnesota","Hubbard County",{"$f":"CONCATENATE(tLists4[[#This Row],[State]],\", \",tLists4[[#This Row],[County]])","v":"Minnesota, Hubbard County"},2]
[null,null,null,null,null,null,null,null,null,null,null,null,null,"Minnesota","Isanti County",{"$f":"CONCATENATE(tLists4[[#This Row],[State]],\", \",tLists4[[#This Row],[County]])","v":"Minnesota, Isanti County"},2]
[null,null,null,null,null,null,null,null,null,null,null,null,null,"Minnesota","Itasca County",{"$f":"CONCATENATE(tLists4[[#This Row],[State]],\", \",tLists4[[#This Row],[County]])","v":"Minnesota, Itasca County"},2]
[null,null,null,null,null,null,null,null,null,null,null,null,null,"Minnesota","Jackson County",{"$f":"CONCATENATE(tLists4[[#This Row],[State]],\", \",tLists4[[#This Row],[County]])","v":"Minnesota, Jackson County"},2]
[null,null,null,null,null,null,null,null,null,null,null,null,null,"Minnesota","Kanabec County",{"$f":"CONCATENATE(tLists4[[#This Row],[State]],\", \",tLists4[[#This Row],[County]])","v":"Minnesota, Kanabec County"},2]
[null,null,null,null,null,null,null,null,null,null,null,null,null,"Minnesota","Kandiyohi County",{"$f":"CONCATENATE(tLists4[[#This Row],[State]],\", \",tLists4[[#This Row],[County]])","v":"Minnesota, Kandiyohi County"},"Not Eligible for Credit"]
[null,null,null,null,null,null,null,null,null,null,null,null,null,"Minnesota","Kittson County",{"$f":"CONCATENATE(tLists4[[#This Row],[State]],\", \",tLists4[[#This Row],[County]])","v":"Minnesota, Kittson County"},2]
[null,null,null,null,null,null,null,null,null,null,null,null,null,"Minnesota","Koochiching County",{"$f":"CONCATENATE(tLists4[[#This Row],[State]],\", \",tLists4[[#This Row],[County]])","v":"Minnesota, Koochiching County"},2]
[null,null,null,null,null,null,null,null,null,null,null,null,null,"Minnesota","Lac qui Parle County",{"$f":"CONCATENATE(tLists4[[#This Row],[State]],\", \",tLists4[[#This Row],[County]])","v":"Minnesota, Lac qui Parle County"},2]
[null,null,null,null,null,null,null,null,null,null,null,null,null,"Minnesota","Lake County",{"$f":"CONCATENATE(tLists4[[#This Row],[State]],\", \",tLists4[[#This Row],[County]])","v":"Minnesota, Lake County"},3]
[null,null,null,null,null,null,null,null,null,null,null,null,null,"Minnesota","Lake of the Woods County",{"$f":"CONCATENATE(tLists4[[#This Row],[State]],\", \",tLists4[[#This Row],[County]])","v":"Minnesota, Lake of the Woods County"},2]
[null,null,null,null,null,null,null,null,null,null,null,null,null,"Minnesota","Le Sueur County",{"$f":"CONCATENATE(tLists4[[#This Row],[State]],\", \",tLists4[[#This Row],[County]])","v":"Minnesota, Le Sueur County"},"Not Eligible for Credit"]
[null,null,null,null,null,null,null,null,null,null,null,null,null,"Minnesota","Lincoln County",{"$f":"CONCATENATE(tLists4[[#This Row],[State]],\", \",tLists4[[#This Row],[County]])","v":"Minnesota, Lincoln County"},2]
[null,null,null,null,null,null,null,null,null,null,null,null,null,"Minnesota","Lyon County",{"$f":"CONCATENATE(tLists4[[#This Row],[State]],\", \",tLists4[[#This Row],[County]])","v":"Minnesota, Lyon County"},2]
[null,null,null,null,null,null,null,null,null,null,null,null,null,"Minnesota","Mahnomen County",{"$f":"CONCATENATE(tLists4[[#This Row],[State]],\", \",tLists4[[#This Row],[County]])","v":"Minnesota, Mahnomen County"},"Not Eligible for Credit"]
[null,null,null,null,null,null,null,null,null,null,null,null,null,"Minnesota","Marshall County",{"$f":"CONCATENATE(tLists4[[#This Row],[State]],\", \",tLists4[[#This Row],[County]])","v":"Minnesota, Marshall County"},2]
[null,null,null,null,null,null,null,null,null,null,null,null,null,"Minnesota","Martin County",{"$f":"CONCATENATE(tLists4[[#This Row],[State]],\", \",tLists4[[#This Row],[County]])","v":"Minnesota, Martin County"},"Not Eligible for Credit"]
[null,null,null,null,null,null,null,null,null,null,null,null,null,"Minnesota","McLeod County",{"$f":"CONCATENATE(tLists4[[#This Row],[State]],\", \",tLists4[[#This Row],[County]])","v":"Minnesota, McLeod County"},"Not Eligible for Credit"]
[null,null,null,null,null,null,null,null,null,null,null,null,null,"Minnesota","Meeker County",{"$f":"CONCATENATE(tLists4[[#This Row],[State]],\", \",tLists4[[#This Row],[County]])","v":"Minnesota, Meeker County"},"Not Eligible for Credit"]
[null,null,null,null,null,null,null,null,null,null,null,null,null,"Minnesota","Mille Lacs County",{"$f":"CONCATENATE(tLists4[[#This Row],[State]],\", \",tLists4[[#This Row],[County]])","v":"Minnesota, Mille Lacs County"},2]
[null,null,null,null,null,null,null,null,null,null,null,null,null,"Minnesota","Morrison County",{"$f":"CONCATENATE(tLists4[[#This Row],[State]],\", \",tLists4[[#This Row],[County]])","v":"Minnesota, Morrison County"},2]
[null,null,null,null,null,null,null,null,null,null,null,null,null,"Minnesota","Mower County",{"$f":"CONCATENATE(tLists4[[#This Row],[State]],\", \",tLists4[[#This Row],[County]])","v":"Minnesota, Mower County"},2]
[null,null,null,null,null,null,null,null,null,null,null,null,null,"Minnesota","Murray County",{"$f":"CONCATENATE(tLists4[[#This Row],[State]],\", \",tLists4[[#This Row],[County]])","v":"Minnesota, Murray County"},2]
[null,null,null,null,null,null,null,null,null,null,null,null,null,"Minnesota","Nicollet County",{"$f":"CONCATENATE(tLists4[[#This Row],[State]],\", \",tLists4[[#This Row],[County]])","v":"Minnesota, Nicollet County"},"Not Eligible for Credit"]
[null,null,null,null,null,null,null,null,null,null,null,null,null,"Minnesota","Nobles County",{"$f":"CONCATENATE(tLists4[[#This Row],[State]],\", \",tLists4[[#This Row],[County]])","v":"Minnesota, Nobles County"},2]
[null,null,null,null,null,null,null,null,null,null,null,null,null,"Minnesota","Norman County",{"$f":"CONCATENATE(tLists4[[#This Row],[State]],\", \",tLists4[[#This Row],[County]])","v":"Minnesota, Norman County"},2]
[null,null,null,null,null,null,null,null,null,null,null,null,null,"Minnesota","Olmsted County",{"$f":"CONCATENATE(tLists4[[#This Row],[State]],\", \",tLists4[[#This Row],[County]])","v":"Minnesota, Olmsted County"},2]
[null,null,null,null,null,null,null,null,null,null,null,null,null,"Minnesota","Otter Tail County",{"$f":"CONCATENATE(tLists4[[#This Row],[State]],\", \",tLists4[[#This Row],[County]])","v":"Minnesota, Otter Tail County"},"Not Eligible for Credit"]
[null,null,null,null,null,null,null,null,null,null,null,null,null,"Minnesota","Pennington County",{"$f":"CONCATENATE(tLists4[[#This Row],[State]],\", \",tLists4[[#This Row],[County]])","v":"Minnesota, Pennington County"},2]
[null,null,null,null,null,null,null,null,null,null,null,null,null,"Minnesota","Pine County",{"$f":"CONCATENATE(tLists4[[#This Row],[State]],\", \",tLists4[[#This Row],[County]])","v":"Minnesota, Pine County"},3]
[null,null,null,null,null,null,null,null,null,null,null,null,null,"Minnesota","Pipestone County",{"$f":"CONCATENATE(tLists4[[#This Row],[State]],\", \",tLists4[[#This Row],[County]])","v":"Minnesota, Pipestone County"},2]
[null,null,null,null,null,null,null,null,null,null,null,null,null,"Minnesota","Polk County",{"$f":"CONCATENATE(tLists4[[#This Row],[State]],\", \",tLists4[[#This Row],[County]])","v":"Minnesota, Polk County"},2]
[null,null,null,null,null,null,null,null,null,null,null,null,null,"Minnesota","Pope County",{"$f":"CONCATENATE(tLists4[[#This Row],[State]],\", \",tLists4[[#This Row],[County]])","v":"Minnesota, Pope County"},3]
[null,null,null,null,null,null,null,null,null,null,null,null,null,"Minnesota","Ramsey County",{"$f":"CONCATENATE(tLists4[[#This Row],[State]],\", \",tLists4[[#This Row],[County]])","v":"Minnesota, Ramsey County"},2]
[null,null,null,null,null,null,null,null,null,null,null,null,null,"Minnesota","Red Lake County",{"$f":"CONCATENATE(tLists4[[#This Row],[State]],\", \",tLists4[[#This Row],[County]])","v":"Minnesota, Red Lake County"},2]
[null,null,null,null,null,null,null,null,null,null,null,null,null,"Minnesota","Redwood County",{"$f":"CONCATENATE(tLists4[[#This Row],[State]],\", \",tLists4[[#This Row],[County]])","v":"Minnesota, Redwood County"},2]
[null,null,null,null,null,null,null,null,null,null,null,null,null,"Minnesota","Renville County",{"$f":"CONCATENATE(tLists4[[#This Row],[State]],\", \",tLists4[[#This Row],[County]])","v":"Minnesota, Renville County"},2]
[null,null,null,null,null,null,null,null,null,null,null,null,null,"Minnesota","Rice County",{"$f":"CONCATENATE(tLists4[[#This Row],[State]],\", \",tLists4[[#This Row],[County]])","v":"Minnesota, Rice County"},"Not Eligible for Credit"]
[null,null,null,null,null,null,null,null,null,null,null,null,null,"Minnesota","Rock County",{"$f":"CONCATENATE(tLists4[[#This Row],[State]],\", \",tLists4[[#This Row],[County]])","v":"Minnesota, Rock County"},2]
[null,null,null,null,null,null,null,null,null,null,null,null,null,"Minnesota","Roseau County",{"$f":"CONCATENATE(tLists4[[#This Row],[State]],\", \",tLists4[[#This Row],[County]])","v":"Minnesota, Roseau County"},2]
[null,null,null,null,null,null,null,null,null,null,null,null,null,"Minnesota","Scott County",{"$f":"CONCATENATE(tLists4[[#This Row],[State]],\", \",tLists4[[#This Row],[County]])","v":"Minnesota, Scott County"},"Not Eligible for Credit"]
[null,null,null,null,null,null,null,null,null,null,null,null,null,"Minnesota","Sherburne County",{"$f":"CONCATENATE(tLists4[[#This Row],[State]],\", \",tLists4[[#This Row],[County]])","v":"Minnesota, Sherburne County"},2]
[null,null,null,null,null,null,null,null,null,null,null,null,null,"Minnesota","Sibley County",{"$f":"CONCATENATE(tLists4[[#This Row],[State]],\", \",tLists4[[#This Row],[County]])","v":"Minnesota, Sibley County"},"Not Eligible for Credit"]
[null,null,null,null,null,null,null,null,null,null,null,null,null,"Minnesota","St. Louis County",{"$f":"CONCATENATE(tLists4[[#This Row],[State]],\", \",tLists4[[#This Row],[County]])","v":"Minnesota, St. Louis County"},2]
[null,null,null,null,null,null,null,null,null,null,null,null,null,"Minnesota","Stearns County",{"$f":"CONCATENATE(tLists4[[#This Row],[State]],\", \",tLists4[[#This Row],[County]])","v":"Minnesota, Stearns County"},2]
[null,null,null,null,null,null,null,null,null,null,null,null,null,"Minnesota","Steele County",{"$f":"CONCATENATE(tLists4[[#This Row],[State]],\", \",tLists4[[#This Row],[County]])","v":"Minnesota, Steele County"},"Not Eligible for Credit"]
[null,null,null,null,null,null,null,null,null,null,null,null,null,"Minnesota","Stevens County",{"$f":"CONCATENATE(tLists4[[#This Row],[State]],\", \",tLists4[[#This Row],[County]])","v":"Minnesota, Stevens County"},2]
[null,null,null,null,null,null,null,null,null,null,null,null,null,"Minnesota","Swift County",{"$f":"CONCATENATE(tLists4[[#This Row],[State]],\", \",tLists4[[#This Row],[County]])","v":"Minnesota, Swift County"},2]
[null,null,null,null,null,null,null,null,null,null,null,null,null,"Minnesota","Todd County",{"$f":"CONCATENATE(tLists4[[#This Row],[State]],\", \",tLists4[[#This Row],[County]])","v":"Minnesota, Todd County"},2]
[null,null,null,null,null,null,null,null,null,null,null,null,null,"Minnesota","Traverse County",{"$f":"CONCATENATE(tLists4[[#This Row],[State]],\", \",tLists4[[#This Row],[County]])","v":"Minnesota, Traverse County"},2]
[null,null,null,null,null,null,null,null,null,null,null,null,null,"Minnesota","Wabasha County",{"$f":"CONCATENATE(tLists4[[#This Row],[State]],\", \",tLists4[[#This Row],[County]])","v":"Minnesota, Wabasha County"},2]
[null,null,null,null,null,null,null,null,null,null,null,null,null,"Minnesota","Wadena County",{"$f":"CONCATENATE(tLists4[[#This Row],[State]],\", \",tLists4[[#This Row],[County]])","v":"Minnesota, Wadena County"},2]
[null,null,null,null,null,null,null,null,null,null,null,null,null,"Minnesota","Waseca County",{"$f":"CONCATENATE(tLists4[[#This Row],[State]],\", \",tLists4[[#This Row],[County]])","v":"Minnesota, Waseca County"},"Not Eligible for Credit"]
[null,null,null,null,null,null,null,null,null,null,null,null,null,"Minnesota","Washington County",{"$f":"CONCATENATE(tLists4[[#This Row],[State]],\", \",tLists4[[#This Row],[County]])","v":"Minnesota, Washington County"},2]
[null,null,null,null,null,null,null,null,null,null,null,null,null,"Minnesota","Watonwan County",{"$f":"CONCATENATE(tLists4[[#This Row],[State]],\", \",tLists4[[#This Row],[County]])","v":"Minnesota, Watonwan County"},2]
[null,null,null,null,null,null,null,null,null,null,null,null,null,"Minnesota","Wilkin County",{"$f":"CONCATENATE(tLists4[[#This Row],[State]],\", \",tLists4[[#This Row],[County]])","v":"Minnesota, Wilkin County"},2]
[null,null,null,null,null,null,null,null,null,null,null,null,null,"Minnesota","Winona County",{"$f":"CONCATENATE(tLists4[[#This Row],[State]],\", \",tLists4[[#This Row],[County]])","v":"Minnesota, Winona County"},2]
[null,null,null,null,null,null,null,null,null,null,null,null,null,"Minnesota","Wright County",{"$f":"CONCATENATE(tLists4[[#This Row],[State]],\", \",tLists4[[#This Row],[County]])","v":"Minnesota, Wright County"},"Not Eligible for Credit"]
[null,null,null,null,null,null,null,null,null,null,null,null,null,"Minnesota","Yellow Medicine County",{"$f":"CONCATENATE(tLists4[[#This Row],[State]],\", \",tLists4[[#This Row],[County]])","v":"Minnesota, Yellow Medicine County"},2]
[null,null,null,null,null,null,null,null,null,null,null,null,null,"Mississippi","Adams County",{"$f":"CONCATENATE(tLists4[[#This Row],[State]],\", \",tLists4[[#This Row],[County]])","v":"Mississippi, Adams County"},"Not Eligible for Credit"]
[null,null,null,null,null,null,null,null,null,null,null,null,null,"Mississippi","Alcorn County",{"$f":"CONCATENATE(tLists4[[#This Row],[State]],\", \",tLists4[[#This Row],[County]])","v":"Mississippi, Alcorn County"},"Not Eligible for Credit"]
[null,null,null,null,null,null,null,null,null,null,null,null,null,"Mississippi","Amite County",{"$f":"CONCATENATE(tLists4[[#This Row],[State]],\", \",tLists4[[#This Row],[County]])","v":"Mississippi, Amite County"},"Not Eligible for Credit"]
[null,null,null,null,null,null,null,null,null,null,null,null,null,"Mississippi","Attala County",{"$f":"CONCATENATE(tLists4[[#This Row],[State]],\", \",tLists4[[#This Row],[County]])","v":"Mississippi, Attala County"},"Not Eligible for Credit"]
[null,null,null,null,null,null,null,null,null,null,null,null,null,"Mississippi","Benton County",{"$f":"CONCATENATE(tLists4[[#This Row],[State]],\", \",tLists4[[#This Row],[County]])","v":"Mississippi, Benton County"},"Not Eligible for Credit"]
[null,null,null,null,null,null,null,null,null,null,null,null,null,"Mississippi","Bolivar County",{"$f":"CONCATENATE(tLists4[[#This Row],[State]],\", \",tLists4[[#This Row],[County]])","v":"Mississippi, Bolivar County"},"Not Eligible for Credit"]
[null,null,null,null,null,null,null,null,null,null,null,null,null,"Mississippi","Calhoun County",{"$f":"CONCATENATE(tLists4[[#This Row],[State]],\", \",tLists4[[#This Row],[County]])","v":"Mississippi, Calhoun County"},"Not Eligible for Credit"]
[null,null,null,null,null,null,null,null,null,null,null,null,null,"Mississippi","Carroll County",{"$f":"CONCATENATE(tLists4[[#This Row],[State]],\", \",tLists4[[#This Row],[County]])","v":"Mississippi, Carroll County"},"Not Eligible for Credit"]
[null,null,null,null,null,null,null,null,null,null,null,null,null,"Mississippi","Chickasaw County",{"$f":"CONCATENATE(tLists4[[#This Row],[State]],\", \",tLists4[[#This Row],[County]])","v":"Mississippi, Chickasaw County"},"Not Eligible for Credit"]
[null,null,null,null,null,null,null,null,null,null,null,null,null,"Mississippi","Choctaw County",{"$f":"CONCATENATE(tLists4[[#This Row],[State]],\", \",tLists4[[#This Row],[County]])","v":"Mississippi, Choctaw County"},"Not Eligible for Credit"]
[null,null,null,null,null,null,null,null,null,null,null,null,null,"Mississippi","Claiborne County",{"$f":"CONCATENATE(tLists4[[#This Row],[State]],\", \",tLists4[[#This Row],[County]])","v":"Mississippi, Claiborne County"},"Not Eligible for Credit"]
[null,null,null,null,null,null,null,null,null,null,null,null,null,"Mississippi","Clarke County",{"$f":"CONCATENATE(tLists4[[#This Row],[State]],\", \",tLists4[[#This Row],[County]])","v":"Mississippi, Clarke County"},2]
[null,null,null,null,null,null,null,null,null,null,null,null,null,"Mississippi","Clay County",{"$f":"CONCATENATE(tLists4[[#This Row],[State]],\", \",tLists4[[#This Row],[County]])","v":"Mississippi, Clay County"},"Not Eligible for Credit"]
[null,null,null,null,null,null,null,null,null,null,null,null,null,"Mississippi","Coahoma County",{"$f":"CONCATENATE(tLists4[[#This Row],[State]],\", \",tLists4[[#This Row],[County]])","v":"Mississippi, Coahoma County"},"Not Eligible for Credit"]
[null,null,null,null,null,null,null,null,null,null,null,null,null,"Mississippi","Copiah County",{"$f":"CONCATENATE(tLists4[[#This Row],[State]],\", \",tLists4[[#This Row],[County]])","v":"Mississippi, Copiah County"},"Not Eligible for Credit"]
[null,null,null,null,null,null,null,null,null,null,null,null,null,"Mississippi","Covington County",{"$f":"CONCATENATE(tLists4[[#This Row],[State]],\", \",tLists4[[#This Row],[County]])","v":"Mississippi, Covington County"},"Not Eligible for Credit"]
[null,null,null,null,null,null,null,null,null,null,null,null,null,"Mississippi","DeSoto County",{"$f":"CONCATENATE(tLists4[[#This Row],[State]],\", \",tLists4[[#This Row],[County]])","v":"Mississippi, DeSoto County"},"Not Eligible for Credit"]
[null,null,null,null,null,null,null,null,null,null,null,null,null,"Mississippi","Forrest County",{"$f":"CONCATENATE(tLists4[[#This Row],[State]],\", \",tLists4[[#This Row],[County]])","v":"Mississippi, Forrest County"},"Not Eligible for Credit"]
[null,null,null,null,null,null,null,null,null,null,null,null,null,"Mississippi","Franklin County",{"$f":"CONCATENATE(tLists4[[#This Row],[State]],\", \",tLists4[[#This Row],[County]])","v":"Mississippi, Franklin County"},"Not Eligible for Credit"]
[null,null,null,null,null,null,null,null,null,null,null,null,null,"Mississippi","George County",{"$f":"CONCATENATE(tLists4[[#This Row],[State]],\", \",tLists4[[#This Row],[County]])","v":"Mississippi, George County"},"Not Eligible for Credit"]
[null,null,null,null,null,null,null,null,null,null,null,null,null,"Mississippi","Greene County",{"$f":"CONCATENATE(tLists4[[#This Row],[State]],\", \",tLists4[[#This Row],[County]])","v":"Mississippi, Greene County"},"Not Eligible for Credit"]
[null,null,null,null,null,null,null,null,null,null,null,null,null,"Mississippi","Grenada County",{"$f":"CONCATENATE(tLists4[[#This Row],[State]],\", \",tLists4[[#This Row],[County]])","v":"Mississippi, Grenada County"},"Not Eligible for Credit"]
[null,null,null,null,null,null,null,null,null,null,null,null,null,"Mississippi","Hancock County",{"$f":"CONCATENATE(tLists4[[#This Row],[State]],\", \",tLists4[[#This Row],[County]])","v":"Mississippi, Hancock County"},2]
[null,null,null,null,null,null,null,null,null,null,null,null,null,"Mississippi","Harrison County",{"$f":"CONCATENATE(tLists4[[#This Row],[State]],\", \",tLists4[[#This Row],[County]])","v":"Mississippi, Harrison County"},2]
[null,null,null,null,null,null,null,null,null,null,null,null,null,"Mississippi","Hinds County",{"$f":"CONCATENATE(tLists4[[#This Row],[State]],\", \",tLists4[[#This Row],[County]])","v":"Mississippi, Hinds County"},2]
[null,null,null,null,null,null,null,null,null,null,null,null,null,"Mississippi","Holmes County",{"$f":"CONCATENATE(tLists4[[#This Row],[State]],\", \",tLists4[[#This Row],[County]])","v":"Mississippi, Holmes County"},"Not Eligible for Credit"]
[null,null,null,null,null,null,null,null,null,null,null,null,null,"Mississippi","Humphreys County",{"$f":"CONCATENATE(tLists4[[#This Row],[State]],\", \",tLists4[[#This Row],[County]])","v":"Mississippi, Humphreys County"},"Not Eligible for Credit"]
[null,null,null,null,null,null,null,null,null,null,null,null,null,"Mississippi","Issaquena County",{"$f":"CONCATENATE(tLists4[[#This Row],[State]],\", \",tLists4[[#This Row],[County]])","v":"Mississippi, Issaquena County"},"Not Eligible for Credit"]
[null,null,null,null,null,null,null,null,null,null,null,null,null,"Mississippi","Itawamba County",{"$f":"CONCATENATE(tLists4[[#This Row],[State]],\", \",tLists4[[#This Row],[County]])","v":"Mississippi, Itawamba County"},"Not Eligible for Credit"]
[null,null,null,null,null,null,null,null,null,null,null,null,null,"Mississippi","Jackson County",{"$f":"CONCATENATE(tLists4[[#This Row],[State]],\", \",tLists4[[#This Row],[County]])","v":"Mississippi, Jackson County"},"Not Eligible for Credit"]
[null,null,null,null,null,null,null,null,null,null,null,null,null,"Mississippi","Jasper County",{"$f":"CONCATENATE(tLists4[[#This Row],[State]],\", \",tLists4[[#This Row],[County]])","v":"Mississippi, Jasper County"},2]
[null,null,null,null,null,null,null,null,null,null,null,null,null,"Mississippi","Jefferson County",{"$f":"CONCATENATE(tLists4[[#This Row],[State]],\", \",tLists4[[#This Row],[County]])","v":"Mississippi, Jefferson County"},"Not Eligible for Credit"]
[null,null,null,null,null,null,null,null,null,null,null,null,null,"Mississippi","Jefferson Davis County",{"$f":"CONCATENATE(tLists4[[#This Row],[State]],\", \",tLists4[[#This Row],[County]])","v":"Mississippi, Jefferson Davis County"},2]
[null,null,null,null,null,null,null,null,null,null,null,null,null,"Mississippi","Jones County",{"$f":"CONCATENATE(tLists4[[#This Row],[State]],\", \",tLists4[[#This Row],[County]])","v":"Mississippi, Jones County"},2]
[null,null,null,null,null,null,null,null,null,null,null,null,null,"Mississippi","Kemper County",{"$f":"CONCATENATE(tLists4[[#This Row],[State]],\", \",tLists4[[#This Row],[County]])","v":"Mississippi, Kemper County"},"Not Eligible for Credit"]
[null,null,null,null,null,null,null,null,null,null,null,null,null,"Mississippi","Lafayette County",{"$f":"CONCATENATE(tLists4[[#This Row],[State]],\", \",tLists4[[#This Row],[County]])","v":"Mississippi, Lafayette County"},"Not Eligible for Credit"]
[null,null,null,null,null,null,null,null,null,null,null,null,null,"Mississippi","Lamar County",{"$f":"CONCATENATE(tLists4[[#This Row],[State]],\", \",tLists4[[#This Row],[County]])","v":"Mississippi, Lamar County"},"Not Eligible for Credit"]
[null,null,null,null,null,null,null,null,null,null,null,null,null,"Mississippi","Lauderdale County",{"$f":"CONCATENATE(tLists4[[#This Row],[State]],\", \",tLists4[[#This Row],[County]])","v":"Mississippi, Lauderdale County"},2]
[null,null,null,null,null,null,null,null,null,null,null,null,null,"Mississippi","Lawrence County",{"$f":"CONCATENATE(tLists4[[#This Row],[State]],\", \",tLists4[[#This Row],[County]])","v":"Mississippi, Lawrence County"},2]
[null,null,null,null,null,null,null,null,null,null,null,null,null,"Mississippi","Leake County",{"$f":"CONCATENATE(tLists4[[#This Row],[State]],\", \",tLists4[[#This Row],[County]])","v":"Mississippi, Leake County"},2]
[null,null,null,null,null,null,null,null,null,null,null,null,null,"Mississippi","Lee County",{"$f":"CONCATENATE(tLists4[[#This Row],[State]],\", \",tLists4[[#This Row],[County]])","v":"Mississippi, Lee County"},"Not Eligible for Credit"]
[null,null,null,null,null,null,null,null,null,null,null,null,null,"Mississippi","Leflore County",{"$f":"CONCATENATE(tLists4[[#This Row],[State]],\", \",tLists4[[#This Row],[County]])","v":"Mississippi, Leflore County"},"Not Eligible for Credit"]
[null,null,null,null,null,null,null,null,null,null,null,null,null,"Mississippi","Lincoln County",{"$f":"CONCATENATE(tLists4[[#This Row],[State]],\", \",tLists4[[#This Row],[County]])","v":"Mississippi, Lincoln County"},2]
[null,null,null,null,null,null,null,null,null,null,null,null,null,"Mississippi","Lowndes County",{"$f":"CONCATENATE(tLists4[[#This Row],[State]],\", \",tLists4[[#This Row],[County]])","v":"Mississippi, Lowndes County"},"Not Eligible for Credit"]
[null,null,null,null,null,null,null,null,null,null,null,null,null,"Mississippi","Madison County",{"$f":"CONCATENATE(tLists4[[#This Row],[State]],\", \",tLists4[[#This Row],[County]])","v":"Mississippi, Madison County"},"Not Eligible for Credit"]
[null,null,null,null,null,null,null,null,null,null,null,null,null,"Mississippi","Marion County",{"$f":"CONCATENATE(tLists4[[#This Row],[State]],\", \",tLists4[[#This Row],[County]])","v":"Mississippi, Marion County"},2]
[null,null,null,null,null,null,null,null,null,null,null,null,null,"Mississippi","Marshall County",{"$f":"CONCATENATE(tLists4[[#This Row],[State]],\", \",tLists4[[#This Row],[County]])","v":"Mississippi, Marshall County"},"Not Eligible for Credit"]
[null,null,null,null,null,null,null,null,null,null,null,null,null,"Mississippi","Monroe County",{"$f":"CONCATENATE(tLists4[[#This Row],[State]],\", \",tLists4[[#This Row],[County]])","v":"Mississippi, Monroe County"},2]
[null,null,null,null,null,null,null,null,null,null,null,null,null,"Mississippi","Montgomery County",{"$f":"CONCATENATE(tLists4[[#This Row],[State]],\", \",tLists4[[#This Row],[County]])","v":"Mississippi, Montgomery County"},"Not Eligible for Credit"]
[null,null,null,null,null,null,null,null,null,null,null,null,null,"Mississippi","Neshoba County",{"$f":"CONCATENATE(tLists4[[#This Row],[State]],\", \",tLists4[[#This Row],[County]])","v":"Mississippi, Neshoba County"},2]
[null,null,null,null,null,null,null,null,null,null,null,null,null,"Mississippi","Newton County",{"$f":"CONCATENATE(tLists4[[#This Row],[State]],\", \",tLists4[[#This Row],[County]])","v":"Mississippi, Newton County"},2]
[null,null,null,null,null,null,null,null,null,null,null,null,null,"Mississippi","Noxubee County",{"$f":"CONCATENATE(tLists4[[#This Row],[State]],\", \",tLists4[[#This Row],[County]])","v":"Mississippi, Noxubee County"},"Not Eligible for Credit"]
[null,null,null,null,null,null,null,null,null,null,null,null,null,"Mississippi","Oktibbeha County",{"$f":"CONCATENATE(tLists4[[#This Row],[State]],\", \",tLists4[[#This Row],[County]])","v":"Mississippi, Oktibbeha County"},"Not Eligible for Credit"]
[null,null,null,null,null,null,null,null,null,null,null,null,null,"Mississippi","Panola County",{"$f":"CONCATENATE(tLists4[[#This Row],[State]],\", \",tLists4[[#This Row],[County]])","v":"Mississippi, Panola County"},"Not Eligible for Credit"]
[null,null,null,null,null,null,null,null,null,null,null,null,null,"Mississippi","Pearl River County",{"$f":"CONCATENATE(tLists4[[#This Row],[State]],\", \",tLists4[[#This Row],[County]])","v":"Mississippi, Pearl River County"},"Not Eligible for Credit"]
[null,null,null,null,null,null,null,null,null,null,null,null,null,"Mississippi","Perry County",{"$f":"CONCATENATE(tLists4[[#This Row],[State]],\", \",tLists4[[#This Row],[County]])","v":"Mississippi, Perry County"},"Not Eligible for Credit"]
[null,null,null,null,null,null,null,null,null,null,null,null,null,"Mississippi","Pike County",{"$f":"CONCATENATE(tLists4[[#This Row],[State]],\", \",tLists4[[#This Row],[County]])","v":"Mississippi, Pike County"},2]
[null,null,null,null,null,null,null,null,null,null,null,null,null,"Mississippi","Pontotoc County",{"$f":"CONCATENATE(tLists4[[#This Row],[State]],\", \",tLists4[[#This Row],[County]])","v":"Mississippi, Pontotoc County"},"Not Eligible for Credit"]
[null,null,null,null,null,null,null,null,null,null,null,null,null,"Mississippi","Prentiss County",{"$f":"CONCATENATE(tLists4[[#This Row],[State]],\", \",tLists4[[#This Row],[County]])","v":"Mississippi, Prentiss County"},2]
[null,null,null,null,null,null,null,null,null,null,null,null,null,"Mississippi","Quitman County",{"$f":"CONCATENATE(tLists4[[#This Row],[State]],\", \",tLists4[[#This Row],[County]])","v":"Mississippi, Quitman County"},"Not Eligible for Credit"]
[null,null,null,null,null,null,null,null,null,null,null,null,null,"Mississippi","Rankin County",{"$f":"CONCATENATE(tLists4[[#This Row],[State]],\", \",tLists4[[#This Row],[County]])","v":"Mississippi, Rankin County"},2]
[null,null,null,null,null,null,null,null,null,null,null,null,null,"Mississippi","Scott County",{"$f":"CONCATENATE(tLists4[[#This Row],[State]],\", \",tLists4[[#This Row],[County]])","v":"Mississippi, Scott County"},"Not Eligible for Credit"]
[null,null,null,null,null,null,null,null,null,null,null,null,null,"Mississippi","Sharkey County",{"$f":"CONCATENATE(tLists4[[#This Row],[State]],\", \",tLists4[[#This Row],[County]])","v":"Mississippi, Sharkey County"},"Not Eligible for Credit"]
[null,null,null,null,null,null,null,null,null,null,null,null,null,"Mississippi","Simpson County",{"$f":"CONCATENATE(tLists4[[#This Row],[State]],\", \",tLists4[[#This Row],[County]])","v":"Mississippi, Simpson County"},2]
[null,null,null,null,null,null,null,null,null,null,null,null,null,"Mississippi","Smith County",{"$f":"CONCATENATE(tLists4[[#This Row],[State]],\", \",tLists4[[#This Row],[County]])","v":"Mississippi, Smith County"},2]
[null,null,null,null,null,null,null,null,null,null,null,null,null,"Mississippi","Stone County",{"$f":"CONCATENATE(tLists4[[#This Row],[State]],\", \",tLists4[[#This Row],[County]])","v":"Mississippi, Stone County"},2]
[null,null,null,null,null,null,null,null,null,null,null,null,null,"Mississippi","Sunflower County",{"$f":"CONCATENATE(tLists4[[#This Row],[State]],\", \",tLists4[[#This Row],[County]])","v":"Mississippi, Sunflower County"},"Not Eligible for Credit"]
[null,null,null,null,null,null,null,null,null,null,null,null,null,"Mississippi","Tallahatchie County",{"$f":"CONCATENATE(tLists4[[#This Row],[State]],\", \",tLists4[[#This Row],[County]])","v":"Mississippi, Tallahatchie County"},"Not Eligible for Credit"]
[null,null,null,null,null,null,null,null,null,null,null,null,null,"Mississippi","Tate County",{"$f":"CONCATENATE(tLists4[[#This Row],[State]],\", \",tLists4[[#This Row],[County]])","v":"Mississippi, Tate County"},"Not Eligible for Credit"]
[null,null,null,null,null,null,null,null,null,null,null,null,null,"Mississippi","Tippah County",{"$f":"CONCATENATE(tLists4[[#This Row],[State]],\", \",tLists4[[#This Row],[County]])","v":"Mississippi, Tippah County"},2]
[null,null,null,null,null,null,null,null,null,null,null,null,null,"Mississippi","Tishomingo County",{"$f":"CONCATENATE(tLists4[[#This Row],[State]],\", \",tLists4[[#This Row],[County]])","v":"Mississippi, Tishomingo County"},2]
[null,null,null,null,null,null,null,null,null,null,null,null,null,"Mississippi","Tunica County",{"$f":"CONCATENATE(tLists4[[#This Row],[State]],\", \",tLists4[[#This Row],[County]])","v":"Mississippi, Tunica County"},"Not Eligible for Credit"]
[null,null,null,null,null,null,null,null,null,null,null,null,null,"Mississippi","Union County",{"$f":"CONCATENATE(tLists4[[#This Row],[State]],\", \",tLists4[[#This Row],[County]])","v":"Mississippi, Union County"},"Not Eligible for Credit"]
[null,null,null,null,null,null,null,null,null,null,null,null,null,"Mississippi","Walthall County",{"$f":"CONCATENATE(tLists4[[#This Row],[State]],\", \",tLists4[[#This Row],[County]])","v":"Mississippi, Walthall County"},2]
[null,null,null,null,null,null,null,null,null,null,null,null,null,"Mississippi","Warren County",{"$f":"CONCATENATE(tLists4[[#This Row],[State]],\", \",tLists4[[#This Row],[County]])","v":"Mississippi, Warren County"},"Not Eligible for Credit"]
[null,null,null,null,null,null,null,null,null,null,null,null,null,"Mississippi","Washington County",{"$f":"CONCATENATE(tLists4[[#This Row],[State]],\", \",tLists4[[#This Row],[County]])","v":"Mississippi, Washington County"},"Not Eligible for Credit"]
[null,null,null,null,null,null,null,null,null,null,null,null,null,"Mississippi","Wayne County",{"$f":"CONCATENATE(tLists4[[#This Row],[State]],\", \",tLists4[[#This Row],[County]])","v":"Mississippi, Wayne County"},2]
[null,null,null,null,null,null,null,null,null,null,null,null,null,"Mississippi","Webster County",{"$f":"CONCATENATE(tLists4[[#This Row],[State]],\", \",tLists4[[#This Row],[County]])","v":"Mississippi, Webster County"},"Not Eligible for Credit"]
[null,null,null,null,null,null,null,null,null,null,null,null,null,"Mississippi","Wilkinson County",{"$f":"CONCATENATE(tLists4[[#This Row],[State]],\", \",tLists4[[#This Row],[County]])","v":"Mississippi, Wilkinson County"},2]
[null,null,null,null,null,null,null,null,null,null,null,null,null,"Mississippi","Winston County",{"$f":"CONCATENATE(tLists4[[#This Row],[State]],\", \",tLists4[[#This Row],[County]])","v":"Mississippi, Winston County"},2]
[null,null,null,null,null,null,null,null,null,null,null,null,null,"Mississippi","Yalobusha County",{"$f":"CONCATENATE(tLists4[[#This Row],[State]],\", \",tLists4[[#This Row],[County]])","v":"Mississippi, Yalobusha County"},"Not Eligible for Credit"]
[null,null,null,null,null,null,null,null,null,null,null,null,null,"Mississippi","Yazoo County",{"$f":"CONCATENATE(tLists4[[#This Row],[State]],\", \",tLists4[[#This Row],[County]])","v":"Mississippi, Yazoo County"},"Not Eligible for Credit"]
[null,null,null,null,null,null,null,null,null,null,null,null,null,"Missouri","Adair County",{"$f":"CONCATENATE(tLists4[[#This Row],[State]],\", \",tLists4[[#This Row],[County]])","v":"Missouri, Adair County"},"Not Eligible for Credit"]
[null,null,null,null,null,null,null,null,null,null,null,null,null,"Missouri","Andrew County",{"$f":"CONCATENATE(tLists4[[#This Row],[State]],\", \",tLists4[[#This Row],[County]])","v":"Missouri, Andrew County"},"Not Eligible for Credit"]
[null,null,null,null,null,null,null,null,null,null,null,null,null,"Missouri","Atchison County",{"$f":"CONCATENATE(tLists4[[#This Row],[State]],\", \",tLists4[[#This Row],[County]])","v":"Missouri, Atchison County"},"Not Eligible for Credit"]
[null,null,null,null,null,null,null,null,null,null,null,null,null,"Missouri","Audrain County",{"$f":"CONCATENATE(tLists4[[#This Row],[State]],\", \",tLists4[[#This Row],[County]])","v":"Missouri, Audrain County"},"Not Eligible for Credit"]
[null,null,null,null,null,null,null,null,null,null,null,null,null,"Missouri","Barry County",{"$f":"CONCATENATE(tLists4[[#This Row],[State]],\", \",tLists4[[#This Row],[County]])","v":"Missouri, Barry County"},"Not Eligible for Credit"]
[null,null,null,null,null,null,null,null,null,null,null,null,null,"Missouri","Barton County",{"$f":"CONCATENATE(tLists4[[#This Row],[State]],\", \",tLists4[[#This Row],[County]])","v":"Missouri, Barton County"},"Not Eligible for Credit"]
[null,null,null,null,null,null,null,null,null,null,null,null,null,"Missouri","Bates County",{"$f":"CONCATENATE(tLists4[[#This Row],[State]],\", \",tLists4[[#This Row],[County]])","v":"Missouri, Bates County"},"Not Eligible for Credit"]
[null,null,null,null,null,null,null,null,null,null,null,null,null,"Missouri","Benton County",{"$f":"CONCATENATE(tLists4[[#This Row],[State]],\", \",tLists4[[#This Row],[County]])","v":"Missouri, Benton County"},"Not Eligible for Credit"]
[null,null,null,null,null,null,null,null,null,null,null,null,null,"Missouri","Bollinger County",{"$f":"CONCATENATE(tLists4[[#This Row],[State]],\", \",tLists4[[#This Row],[County]])","v":"Missouri, Bollinger County"},2]
[null,null,null,null,null,null,null,null,null,null,null,null,null,"Missouri","Boone County",{"$f":"CONCATENATE(tLists4[[#This Row],[State]],\", \",tLists4[[#This Row],[County]])","v":"Missouri, Boone County"},"Not Eligible for Credit"]
[null,null,null,null,null,null,null,null,null,null,null,null,null,"Missouri","Buchanan County",{"$f":"CONCATENATE(tLists4[[#This Row],[State]],\", \",tLists4[[#This Row],[County]])","v":"Missouri, Buchanan County"},"Not Eligible for Credit"]
[null,null,null,null,null,null,null,null,null,null,null,null,null,"Missouri","Butler County",{"$f":"CONCATENATE(tLists4[[#This Row],[State]],\", \",tLists4[[#This Row],[County]])","v":"Missouri, Butler County"},2]
[null,null,null,null,null,null,null,null,null,null,null,null,null,"Missouri","Caldwell County",{"$f":"CONCATENATE(tLists4[[#This Row],[State]],\", \",tLists4[[#This Row],[County]])","v":"Missouri, Caldwell County"},"Not Eligible for Credit"]
[null,null,null,null,null,null,null,null,null,null,null,null,null,"Missouri","Callaway County",{"$f":"CONCATENATE(tLists4[[#This Row],[State]],\", \",tLists4[[#This Row],[County]])","v":"Missouri, Callaway County"},"Not Eligible for Credit"]
[null,null,null,null,null,null,null,null,null,null,null,null,null,"Missouri","Camden County",{"$f":"CONCATENATE(tLists4[[#This Row],[State]],\", \",tLists4[[#This Row],[County]])","v":"Missouri, Camden County"},"Not Eligible for Credit"]
[null,null,null,null,null,null,null,null,null,null,null,null,null,"Missouri","Cape Girardeau County",{"$f":"CONCATENATE(tLists4[[#This Row],[State]],\", \",tLists4[[#This Row],[County]])","v":"Missouri, Cape Girardeau County"},2]
[null,null,null,null,null,null,null,null,null,null,null,null,null,"Missouri","Carroll County",{"$f":"CONCATENATE(tLists4[[#This Row],[State]],\", \",tLists4[[#This Row],[County]])","v":"Missouri, Carroll County"},"Not Eligible for Credit"]
[null,null,null,null,null,null,null,null,null,null,null,null,null,"Missouri","Carter County",{"$f":"CONCATENATE(tLists4[[#This Row],[State]],\", \",tLists4[[#This Row],[County]])","v":"Missouri, Carter County"},2]
[null,null,null,null,null,null,null,null,null,null,null,null,null,"Missouri","Cass County",{"$f":"CONCATENATE(tLists4[[#This Row],[State]],\", \",tLists4[[#This Row],[County]])","v":"Missouri, Cass County"},"Not Eligible for Credit"]
[null,null,null,null,null,null,null,null,null,null,null,null,null,"Missouri","Cedar County",{"$f":"CONCATENATE(tLists4[[#This Row],[State]],\", \",tLists4[[#This Row],[County]])","v":"Missouri, Cedar County"},"Not Eligible for Credit"]
[null,null,null,null,null,null,null,null,null,null,null,null,null,"Missouri","Chariton County",{"$f":"CONCATENATE(tLists4[[#This Row],[State]],\", \",tLists4[[#This Row],[County]])","v":"Missouri, Chariton County"},"Not Eligible for Credit"]
[null,null,null,null,null,null,null,null,null,null,null,null,null,"Missouri","Christian County",{"$f":"CONCATENATE(tLists4[[#This Row],[State]],\", \",tLists4[[#This Row],[County]])","v":"Missouri, Christian County"},2]
[null,null,null,null,null,null,null,null,null,null,null,null,null,"Missouri","Clark County",{"$f":"CONCATENATE(tLists4[[#This Row],[State]],\", \",tLists4[[#This Row],[County]])","v":"Missouri, Clark County"},"Not Eligible for Credit"]
[null,null,null,null,null,null,null,null,null,null,null,null,null,"Missouri","Clay County",{"$f":"CONCATENATE(tLists4[[#This Row],[State]],\", \",tLists4[[#This Row],[County]])","v":"Missouri, Clay County"},"Not Eligible for Credit"]
[null,null,null,null,null,null,null,null,null,null,null,null,null,"Missouri","Clinton County",{"$f":"CONCATENATE(tLists4[[#This Row],[State]],\", \",tLists4[[#This Row],[County]])","v":"Missouri, Clinton County"},"Not Eligible for Credit"]
[null,null,null,null,null,null,null,null,null,null,null,null,null,"Missouri","Cole County",{"$f":"CONCATENATE(tLists4[[#This Row],[State]],\", \",tLists4[[#This Row],[County]])","v":"Missouri, Cole County"},2]
[null,null,null,null,null,null,null,null,null,null,null,null,null,"Missouri","Cooper County",{"$f":"CONCATENATE(tLists4[[#This Row],[State]],\", \",tLists4[[#This Row],[County]])","v":"Missouri, Cooper County"},"Not Eligible for Credit"]
[null,null,null,null,null,null,null,null,null,null,null,null,null,"Missouri","Crawford County",{"$f":"CONCATENATE(tLists4[[#This Row],[State]],\", \",tLists4[[#This Row],[County]])","v":"Missouri, Crawford County"},2]
[null,null,null,null,null,null,null,null,null,null,null,null,null,"Missouri","Dade County",{"$f":"CONCATENATE(tLists4[[#This Row],[State]],\", \",tLists4[[#This Row],[County]])","v":"Missouri, Dade County"},"Not Eligible for Credit"]
[null,null,null,null,null,null,null,null,null,null,null,null,null,"Missouri","Dallas County",{"$f":"CONCATENATE(tLists4[[#This Row],[State]],\", \",tLists4[[#This Row],[County]])","v":"Missouri, Dallas County"},"Not Eligible for Credit"]
[null,null,null,null,null,null,null,null,null,null,null,null,null,"Missouri","Daviess County",{"$f":"CONCATENATE(tLists4[[#This Row],[State]],\", \",tLists4[[#This Row],[County]])","v":"Missouri, Daviess County"},"Not Eligible for Credit"]
[null,null,null,null,null,null,null,null,null,null,null,null,null,"Missouri","DeKalb County",{"$f":"CONCATENATE(tLists4[[#This Row],[State]],\", \",tLists4[[#This Row],[County]])","v":"Missouri, DeKalb County"},"Not Eligible for Credit"]
[null,null,null,null,null,null,null,null,null,null,null,null,null,"Missouri","Dent County",{"$f":"CONCATENATE(tLists4[[#This Row],[State]],\", \",tLists4[[#This Row],[County]])","v":"Missouri, Dent County"},2]
[null,null,null,null,null,null,null,null,null,null,null,null,null,"Missouri","Douglas County",{"$f":"CONCATENATE(tLists4[[#This Row],[State]],\", \",tLists4[[#This Row],[County]])","v":"Missouri, Douglas County"},2]
[null,null,null,null,null,null,null,null,null,null,null,null,null,"Missouri","Dunklin County",{"$f":"CONCATENATE(tLists4[[#This Row],[State]],\", \",tLists4[[#This Row],[County]])","v":"Missouri, Dunklin County"},"Not Eligible for Credit"]
[null,null,null,null,null,null,null,null,null,null,null,null,null,"Missouri","Franklin County",{"$f":"CONCATENATE(tLists4[[#This Row],[State]],\", \",tLists4[[#This Row],[County]])","v":"Missouri, Franklin County"},2]
[null,null,null,null,null,null,null,null,null,null,null,null,null,"Missouri","Gasconade County",{"$f":"CONCATENATE(tLists4[[#This Row],[State]],\", \",tLists4[[#This Row],[County]])","v":"Missouri, Gasconade County"},"Not Eligible for Credit"]
[null,null,null,null,null,null,null,null,null,null,null,null,null,"Missouri","Gentry County",{"$f":"CONCATENATE(tLists4[[#This Row],[State]],\", \",tLists4[[#This Row],[County]])","v":"Missouri, Gentry County"},"Not Eligible for Credit"]
[null,null,null,null,null,null,null,null,null,null,null,null,null,"Missouri","Greene County",{"$f":"CONCATENATE(tLists4[[#This Row],[State]],\", \",tLists4[[#This Row],[County]])","v":"Missouri, Greene County"},"Not Eligible for Credit"]
[null,null,null,null,null,null,null,null,null,null,null,null,null,"Missouri","Grundy County",{"$f":"CONCATENATE(tLists4[[#This Row],[State]],\", \",tLists4[[#This Row],[County]])","v":"Missouri, Grundy County"},"Not Eligible for Credit"]
[null,null,null,null,null,null,null,null,null,null,null,null,null,"Missouri","Harrison County",{"$f":"CONCATENATE(tLists4[[#This Row],[State]],\", \",tLists4[[#This Row],[County]])","v":"Missouri, Harrison County"},"Not Eligible for Credit"]
[null,null,null,null,null,null,null,null,null,null,null,null,null,"Missouri","Henry County",{"$f":"CONCATENATE(tLists4[[#This Row],[State]],\", \",tLists4[[#This Row],[County]])","v":"Missouri, Henry County"},"Not Eligible for Credit"]
[null,null,null,null,null,null,null,null,null,null,null,null,null,"Missouri","Hickory County",{"$f":"CONCATENATE(tLists4[[#This Row],[State]],\", \",tLists4[[#This Row],[County]])","v":"Missouri, Hickory County"},"Not Eligible for Credit"]
[null,null,null,null,null,null,null,null,null,null,null,null,null,"Missouri","Holt County",{"$f":"CONCATENATE(tLists4[[#This Row],[State]],\", \",tLists4[[#This Row],[County]])","v":"Missouri, Holt County"},"Not Eligible for Credit"]
[null,null,null,null,null,null,null,null,null,null,null,null,null,"Missouri","Howard County",{"$f":"CONCATENATE(tLists4[[#This Row],[State]],\", \",tLists4[[#This Row],[County]])","v":"Missouri, Howard County"},"Not Eligible for Credit"]
[null,null,null,null,null,null,null,null,null,null,null,null,null,"Missouri","Howell County",{"$f":"CONCATENATE(tLists4[[#This Row],[State]],\", \",tLists4[[#This Row],[County]])","v":"Missouri, Howell County"},2]
[null,null,null,null,null,null,null,null,null,null,null,null,null,"Missouri","Iron County",{"$f":"CONCATENATE(tLists4[[#This Row],[State]],\", \",tLists4[[#This Row],[County]])","v":"Missouri, Iron County"},2]
[null,null,null,null,null,null,null,null,null,null,null,null,null,"Missouri","Jackson County",{"$f":"CONCATENATE(tLists4[[#This Row],[State]],\", \",tLists4[[#This Row],[County]])","v":"Missouri, Jackson County"},"Not Eligible for Credit"]
[null,null,null,null,null,null,null,null,null,null,null,null,null,"Missouri","Jasper County",{"$f":"CONCATENATE(tLists4[[#This Row],[State]],\", \",tLists4[[#This Row],[County]])","v":"Missouri, Jasper County"},"Not Eligible for Credit"]
[null,null,null,null,null,null,null,null,null,null,null,null,null,"Missouri","Jefferson County",{"$f":"CONCATENATE(tLists4[[#This Row],[State]],\", \",tLists4[[#This Row],[County]])","v":"Missouri, Jefferson County"},2]
[null,null,null,null,null,null,null,null,null,null,null,null,null,"Missouri","Johnson County",{"$f":"CONCATENATE(tLists4[[#This Row],[State]],\", \",tLists4[[#This Row],[County]])","v":"Missouri, Johnson County"},"Not Eligible for Credit"]
[null,null,null,null,null,null,null,null,null,null,null,null,null,"Missouri","Knox County",{"$f":"CONCATENATE(tLists4[[#This Row],[State]],\", \",tLists4[[#This Row],[County]])","v":"Missouri, Knox County"},"Not Eligible for Credit"]
[null,null,null,null,null,null,null,null,null,null,null,null,null,"Missouri","Laclede County",{"$f":"CONCATENATE(tLists4[[#This Row],[State]],\", \",tLists4[[#This Row],[County]])","v":"Missouri, Laclede County"},"Not Eligible for Credit"]
[null,null,null,null,null,null,null,null,null,null,null,null,null,"Missouri","Lafayette County",{"$f":"CONCATENATE(tLists4[[#This Row],[State]],\", \",tLists4[[#This Row],[County]])","v":"Missouri, Lafayette County"},"Not Eligible for Credit"]
[null,null,null,null,null,null,null,null,null,null,null,null,null,"Missouri","Lawrence County",{"$f":"CONCATENATE(tLists4[[#This Row],[State]],\", \",tLists4[[#This Row],[County]])","v":"Missouri, Lawrence County"},"Not Eligible for Credit"]
[null,null,null,null,null,null,null,null,null,null,null,null,null,"Missouri","Lewis County",{"$f":"CONCATENATE(tLists4[[#This Row],[State]],\", \",tLists4[[#This Row],[County]])","v":"Missouri, Lewis County"},"Not Eligible for Credit"]
[null,null,null,null,null,null,null,null,null,null,null,null,null,"Missouri","Lincoln County",{"$f":"CONCATENATE(tLists4[[#This Row],[State]],\", \",tLists4[[#This Row],[County]])","v":"Missouri, Lincoln County"},2]
[null,null,null,null,null,null,null,null,null,null,null,null,null,"Missouri","Linn County",{"$f":"CONCATENATE(tLists4[[#This Row],[State]],\", \",tLists4[[#This Row],[County]])","v":"Missouri, Linn County"},"Not Eligible for Credit"]
[null,null,null,null,null,null,null,null,null,null,null,null,null,"Missouri","Livingston County",{"$f":"CONCATENATE(tLists4[[#This Row],[State]],\", \",tLists4[[#This Row],[County]])","v":"Missouri, Livingston County"},"Not Eligible for Credit"]
[null,null,null,null,null,null,null,null,null,null,null,null,null,"Missouri","Macon County",{"$f":"CONCATENATE(tLists4[[#This Row],[State]],\", \",tLists4[[#This Row],[County]])","v":"Missouri, Macon County"},"Not Eligible for Credit"]
[null,null,null,null,null,null,null,null,null,null,null,null,null,"Missouri","Madison County",{"$f":"CONCATENATE(tLists4[[#This Row],[State]],\", \",tLists4[[#This Row],[County]])","v":"Missouri, Madison County"},2]
[null,null,null,null,null,null,null,null,null,null,null,null,null,"Missouri","Maries County",{"$f":"CONCATENATE(tLists4[[#This Row],[State]],\", \",tLists4[[#This Row],[County]])","v":"Missouri, Maries County"},2]
[null,null,null,null,null,null,null,null,null,null,null,null,null,"Missouri","Marion County",{"$f":"CONCATENATE(tLists4[[#This Row],[State]],\", \",tLists4[[#This Row],[County]])","v":"Missouri, Marion County"},"Not Eligible for Credit"]
[null,null,null,null,null,null,null,null,null,null,null,null,null,"Missouri","McDonald County",{"$f":"CONCATENATE(tLists4[[#This Row],[State]],\", \",tLists4[[#This Row],[County]])","v":"Missouri, McDonald County"},2]
[null,null,null,null,null,null,null,null,null,null,null,null,null,"Missouri","Mercer County",{"$f":"CONCATENATE(tLists4[[#This Row],[State]],\", \",tLists4[[#This Row],[County]])","v":"Missouri, Mercer County"},"Not Eligible for Credit"]
[null,null,null,null,null,null,null,null,null,null,null,null,null,"Missouri","Miller County",{"$f":"CONCATENATE(tLists4[[#This Row],[State]],\", \",tLists4[[#This Row],[County]])","v":"Missouri, Miller County"},2]
[null,null,null,null,null,null,null,null,null,null,null,null,null,"Missouri","Mississippi County",{"$f":"CONCATENATE(tLists4[[#This Row],[State]],\", \",tLists4[[#This Row],[County]])","v":"Missouri, Mississippi County"},"Not Eligible for Credit"]
[null,null,null,null,null,null,null,null,null,null,null,null,null,"Missouri","Moniteau County",{"$f":"CONCATENATE(tLists4[[#This Row],[State]],\", \",tLists4[[#This Row],[County]])","v":"Missouri, Moniteau County"},"Not Eligible for Credit"]
[null,null,null,null,null,null,null,null,null,null,null,null,null,"Missouri","Monroe County",{"$f":"CONCATENATE(tLists4[[#This Row],[State]],\", \",tLists4[[#This Row],[County]])","v":"Missouri, Monroe County"},"Not Eligible for Credit"]
[null,null,null,null,null,null,null,null,null,null,null,null,null,"Missouri","Montgomery County",{"$f":"CONCATENATE(tLists4[[#This Row],[State]],\", \",tLists4[[#This Row],[County]])","v":"Missouri, Montgomery County"},"Not Eligible for Credit"]
[null,null,null,null,null,null,null,null,null,null,null,null,null,"Missouri","Morgan County",{"$f":"CONCATENATE(tLists4[[#This Row],[State]],\", \",tLists4[[#This Row],[County]])","v":"Missouri, Morgan County"},"Not Eligible for Credit"]
[null,null,null,null,null,null,null,null,null,null,null,null,null,"Missouri","New Madrid County",{"$f":"CONCATENATE(tLists4[[#This Row],[State]],\", \",tLists4[[#This Row],[County]])","v":"Missouri, New Madrid County"},"Not Eligible for Credit"]
[null,null,null,null,null,null,null,null,null,null,null,null,null,"Missouri","Newton County",{"$f":"CONCATENATE(tLists4[[#This Row],[State]],\", \",tLists4[[#This Row],[County]])","v":"Missouri, Newton County"},"Not Eligible for Credit"]
[null,null,null,null,null,null,null,null,null,null,null,null,null,"Missouri","Nodaway County",{"$f":"CONCATENATE(tLists4[[#This Row],[State]],\", \",tLists4[[#This Row],[County]])","v":"Missouri, Nodaway County"},"Not Eligible for Credit"]
[null,null,null,null,null,null,null,null,null,null,null,null,null,"Missouri","Oregon County",{"$f":"CONCATENATE(tLists4[[#This Row],[State]],\", \",tLists4[[#This Row],[County]])","v":"Missouri, Oregon County"},2]
[null,null,null,null,null,null,null,null,null,null,null,null,null,"Missouri","Osage County",{"$f":"CONCATENATE(tLists4[[#This Row],[State]],\", \",tLists4[[#This Row],[County]])","v":"Missouri, Osage County"},"Not Eligible for Credit"]
[null,null,null,null,null,null,null,null,null,null,null,null,null,"Missouri","Ozark County",{"$f":"CONCATENATE(tLists4[[#This Row],[State]],\", \",tLists4[[#This Row],[County]])","v":"Missouri, Ozark County"},2]
[null,null,null,null,null,null,null,null,null,null,null,null,null,"Missouri","Pemiscot County",{"$f":"CONCATENATE(tLists4[[#This Row],[State]],\", \",tLists4[[#This Row],[County]])","v":"Missouri, Pemiscot County"},"Not Eligible for Credit"]
[null,null,null,null,null,null,null,null,null,null,null,null,null,"Missouri","Perry County",{"$f":"CONCATENATE(tLists4[[#This Row],[State]],\", \",tLists4[[#This Row],[County]])","v":"Missouri, Perry County"},2]
[null,null,null,null,null,null,null,null,null,null,null,null,null,"Missouri","Pettis County",{"$f":"CONCATENATE(tLists4[[#This Row],[State]],\", \",tLists4[[#This Row],[County]])","v":"Missouri, Pettis County"},"Not Eligible for Credit"]
[null,null,null,null,null,null,null,null,null,null,null,null,null,"Missouri","Phelps County",{"$f":"CONCATENATE(tLists4[[#This Row],[State]],\", \",tLists4[[#This Row],[County]])","v":"Missouri, Phelps County"},2]
[null,null,null,null,null,null,null,null,null,null,null,null,null,"Missouri","Pike County",{"$f":"CONCATENATE(tLists4[[#This Row],[State]],\", \",tLists4[[#This Row],[County]])","v":"Missouri, Pike County"},"Not Eligible for Credit"]
[null,null,null,null,null,null,null,null,null,null,null,null,null,"Missouri","Platte County",{"$f":"CONCATENATE(tLists4[[#This Row],[State]],\", \",tLists4[[#This Row],[County]])","v":"Missouri, Platte County"},"Not Eligible for Credit"]
[null,null,null,null,null,null,null,null,null,null,null,null,null,"Missouri","Polk County",{"$f":"CONCATENATE(tLists4[[#This Row],[State]],\", \",tLists4[[#This Row],[County]])","v":"Missouri, Polk County"},"Not Eligible for Credit"]
[null,null,null,null,null,null,null,null,null,null,null,null,null,"Missouri","Pulaski County",{"$f":"CONCATENATE(tLists4[[#This Row],[State]],\", \",tLists4[[#This Row],[County]])","v":"Missouri, Pulaski County"},2]
[null,null,null,null,null,null,null,null,null,null,null,null,null,"Missouri","Putnam County",{"$f":"CONCATENATE(tLists4[[#This Row],[State]],\", \",tLists4[[#This Row],[County]])","v":"Missouri, Putnam County"},"Not Eligible for Credit"]
[null,null,null,null,null,null,null,null,null,null,null,null,null,"Missouri","Ralls County",{"$f":"CONCATENATE(tLists4[[#This Row],[State]],\", \",tLists4[[#This Row],[County]])","v":"Missouri, Ralls County"},"Not Eligible for Credit"]
[null,null,null,null,null,null,null,null,null,null,null,null,null,"Missouri","Randolph County",{"$f":"CONCATENATE(tLists4[[#This Row],[State]],\", \",tLists4[[#This Row],[County]])","v":"Missouri, Randolph County"},"Not Eligible for Credit"]
[null,null,null,null,null,null,null,null,null,null,null,null,null,"Missouri","Ray County",{"$f":"CONCATENATE(tLists4[[#This Row],[State]],\", \",tLists4[[#This Row],[County]])","v":"Missouri, Ray County"},"Not Eligible for Credit"]
[null,null,null,null,null,null,null,null,null,null,null,null,null,"Missouri","Reynolds County",{"$f":"CONCATENATE(tLists4[[#This Row],[State]],\", \",tLists4[[#This Row],[County]])","v":"Missouri, Reynolds County"},2]
[null,null,null,null,null,null,null,null,null,null,null,null,null,"Missouri","Ripley County",{"$f":"CONCATENATE(tLists4[[#This Row],[State]],\", \",tLists4[[#This Row],[County]])","v":"Missouri, Ripley County"},"Not Eligible for Credit"]
[null,null,null,null,null,null,null,null,null,null,null,null,null,"Missouri","Saline County",{"$f":"CONCATENATE(tLists4[[#This Row],[State]],\", \",tLists4[[#This Row],[County]])","v":"Missouri, Saline County"},"Not Eligible for Credit"]
[null,null,null,null,null,null,null,null,null,null,null,null,null,"Missouri","Schuyler County",{"$f":"CONCATENATE(tLists4[[#This Row],[State]],\", \",tLists4[[#This Row],[County]])","v":"Missouri, Schuyler County"},"Not Eligible for Credit"]
[null,null,null,null,null,null,null,null,null,null,null,null,null,"Missouri","Scotland County",{"$f":"CONCATENATE(tLists4[[#This Row],[State]],\", \",tLists4[[#This Row],[County]])","v":"Missouri, Scotland County"},"Not Eligible for Credit"]
[null,null,null,null,null,null,null,null,null,null,null,null,null,"Missouri","Scott County",{"$f":"CONCATENATE(tLists4[[#This Row],[State]],\", \",tLists4[[#This Row],[County]])","v":"Missouri, Scott County"},2]
[null,null,null,null,null,null,null,null,null,null,null,null,null,"Missouri","Shannon County",{"$f":"CONCATENATE(tLists4[[#This Row],[State]],\", \",tLists4[[#This Row],[County]])","v":"Missouri, Shannon County"},2]
[null,null,null,null,null,null,null,null,null,null,null,null,null,"Missouri","Shelby County",{"$f":"CONCATENATE(tLists4[[#This Row],[State]],\", \",tLists4[[#This Row],[County]])","v":"Missouri, Shelby County"},"Not Eligible for Credit"]
[null,null,null,null,null,null,null,null,null,null,null,null,null,"Missouri","St. Charles County",{"$f":"CONCATENATE(tLists4[[#This Row],[State]],\", \",tLists4[[#This Row],[County]])","v":"Missouri, St. Charles County"},2]
[null,null,null,null,null,null,null,null,null,null,null,null,null,"Missouri","St. Clair County",{"$f":"CONCATENATE(tLists4[[#This Row],[State]],\", \",tLists4[[#This Row],[County]])","v":"Missouri, St. Clair County"},"Not Eligible for Credit"]
[null,null,null,null,null,null,null,null,null,null,null,null,null,"Missouri","St. Francois County",{"$f":"CONCATENATE(tLists4[[#This Row],[State]],\", \",tLists4[[#This Row],[County]])","v":"Missouri, St. Francois County"},2]
[null,null,null,null,null,null,null,null,null,null,null,null,null,"Missouri","St. Louis City",{"$f":"CONCATENATE(tLists4[[#This Row],[State]],\", \",tLists4[[#This Row],[County]])","v":"Missouri, St. Louis City"},2]
[null,null,null,null,null,null,null,null,null,null,null,null,null,"Missouri","St. Louis County",{"$f":"CONCATENATE(tLists4[[#This Row],[State]],\", \",tLists4[[#This Row],[County]])","v":"Missouri, St. Louis County"},2]
[null,null,null,null,null,null,null,null,null,null,null,null,null,"Missouri","Ste. Genevieve County",{"$f":"CONCATENATE(tLists4[[#This Row],[State]],\", \",tLists4[[#This Row],[County]])","v":"Missouri, Ste. Genevieve County"},2]
[null,null,null,null,null,null,null,null,null,null,null,null,null,"Missouri","Stoddard County",{"$f":"CONCATENATE(tLists4[[#This Row],[State]],\", \",tLists4[[#This Row],[County]])","v":"Missouri, Stoddard County"},"Not Eligible for Credit"]
[null,null,null,null,null,null,null,null,null,null,null,null,null,"Missouri","Stone County",{"$f":"CONCATENATE(tLists4[[#This Row],[State]],\", \",tLists4[[#This Row],[County]])","v":"Missouri, Stone County"},2]
[null,null,null,null,null,null,null,null,null,null,null,null,null,"Missouri","Sullivan County",{"$f":"CONCATENATE(tLists4[[#This Row],[State]],\", \",tLists4[[#This Row],[County]])","v":"Missouri, Sullivan County"},"Not Eligible for Credit"]
[null,null,null,null,null,null,null,null,null,null,null,null,null,"Missouri","Taney County",{"$f":"CONCATENATE(tLists4[[#This Row],[State]],\", \",tLists4[[#This Row],[County]])","v":"Missouri, Taney County"},2]
[null,null,null,null,null,null,null,null,null,null,null,null,null,"Missouri","Texas County",{"$f":"CONCATENATE(tLists4[[#This Row],[State]],\", \",tLists4[[#This Row],[County]])","v":"Missouri, Texas County"},2]
[null,null,null,null,null,null,null,null,null,null,null,null,null,"Missouri","Vernon County",{"$f":"CONCATENATE(tLists4[[#This Row],[State]],\", \",tLists4[[#This Row],[County]])","v":"Missouri, Vernon County"},"Not Eligible for Credit"]
[null,null,null,null,null,null,null,null,null,null,null,null,null,"Missouri","Warren County",{"$f":"CONCATENATE(tLists4[[#This Row],[State]],\", \",tLists4[[#This Row],[County]])","v":"Missouri, Warren County"},2]
[null,null,null,null,null,null,null,null,null,null,null,null,null,"Missouri","Washington County",{"$f":"CONCATENATE(tLists4[[#This Row],[State]],\", \",tLists4[[#This Row],[County]])","v":"Missouri, Washington County"},2]
[null,null,null,null,null,null,null,null,null,null,null,null,null,"Missouri","Wayne County",{"$f":"CONCATENATE(tLists4[[#This Row],[State]],\", \",tLists4[[#This Row],[County]])","v":"Missouri, Wayne County"},2]
[null,null,null,null,null,null,null,null,null,null,null,null,null,"Missouri","Webster County",{"$f":"CONCATENATE(tLists4[[#This Row],[State]],\", \",tLists4[[#This Row],[County]])","v":"Missouri, Webster County"},"Not Eligible for Credit"]
[null,null,null,null,null,null,null,null,null,null,null,null,null,"Missouri","Worth County",{"$f":"CONCATENATE(tLists4[[#This Row],[State]],\", \",tLists4[[#This Row],[County]])","v":"Missouri, Worth County"},"Not Eligible for Credit"]
[null,null,null,null,null,null,null,null,null,null,null,null,null,"Missouri","Wright County",{"$f":"CONCATENATE(tLists4[[#This Row],[State]],\", \",tLists4[[#This Row],[County]])","v":"Missouri, Wright County"},"Not Eligible for Credit"]
[null,null,null,null,null,null,null,null,null,null,null,null,null,"Montana","Beaverhead County",{"$f":"CONCATENATE(tLists4[[#This Row],[State]],\", \",tLists4[[#This Row],[County]])","v":"Montana, Beaverhead County"},3]
[null,null,null,null,null,null,null,null,null,null,null,null,null,"Montana","Big Horn County",{"$f":"CONCATENATE(tLists4[[#This Row],[State]],\", \",tLists4[[#This Row],[County]])","v":"Montana, Big Horn County"},3]
[null,null,null,null,null,null,null,null,null,null,null,null,null,"Montana","Blaine County",{"$f":"CONCATENATE(tLists4[[#This Row],[State]],\", \",tLists4[[#This Row],[County]])","v":"Montana, Blaine County"},3]
[null,null,null,null,null,null,null,null,null,null,null,null,null,"Montana","Broadwater County",{"$f":"CONCATENATE(tLists4[[#This Row],[State]],\", \",tLists4[[#This Row],[County]])","v":"Montana, Broadwater County"},3]
[null,null,null,null,null,null,null,null,null,null,null,null,null,"Montana","Carbon County",{"$f":"CONCATENATE(tLists4[[#This Row],[State]],\", \",tLists4[[#This Row],[County]])","v":"Montana, Carbon County"},3]
[null,null,null,null,null,null,null,null,null,null,null,null,null,"Montana","Carter County",{"$f":"CONCATENATE(tLists4[[#This Row],[State]],\", \",tLists4[[#This Row],[County]])","v":"Montana, Carter County"},3]
[null,null,null,null,null,null,null,null,null,null,null,null,null,"Montana","Cascade County",{"$f":"CONCATENATE(tLists4[[#This Row],[State]],\", \",tLists4[[#This Row],[County]])","v":"Montana, Cascade County"},3]
[null,null,null,null,null,null,null,null,null,null,null,null,null,"Montana","Chouteau County",{"$f":"CONCATENATE(tLists4[[#This Row],[State]],\", \",tLists4[[#This Row],[County]])","v":"Montana, Chouteau County"},3]
[null,null,null,null,null,null,null,null,null,null,null,null,null,"Montana","Custer County",{"$f":"CONCATENATE(tLists4[[#This Row],[State]],\", \",tLists4[[#This Row],[County]])","v":"Montana, Custer County"},3]
[null,null,null,null,null,null,null,null,null,null,null,null,null,"Montana","Daniels County",{"$f":"CONCATENATE(tLists4[[#This Row],[State]],\", \",tLists4[[#This Row],[County]])","v":"Montana, Daniels County"},3]
[null,null,null,null,null,null,null,null,null,null,null,null,null,"Montana","Dawson County",{"$f":"CONCATENATE(tLists4[[#This Row],[State]],\", \",tLists4[[#This Row],[County]])","v":"Montana, Dawson County"},3]
[null,null,null,null,null,null,null,null,null,null,null,null,null,"Montana","Deer Lodge County",{"$f":"CONCATENATE(tLists4[[#This Row],[State]],\", \",tLists4[[#This Row],[County]])","v":"Montana, Deer Lodge County"},3]
[null,null,null,null,null,null,null,null,null,null,null,null,null,"Montana","Fallon County",{"$f":"CONCATENATE(tLists4[[#This Row],[State]],\", \",tLists4[[#This Row],[County]])","v":"Montana, Fallon County"},3]
[null,null,null,null,null,null,null,null,null,null,null,null,null,"Montana","Fergus County",{"$f":"CONCATENATE(tLists4[[#This Row],[State]],\", \",tLists4[[#This Row],[County]])","v":"Montana, Fergus County"},3]
[null,null,null,null,null,null,null,null,null,null,null,null,null,"Montana","Flathead County",{"$f":"CONCATENATE(tLists4[[#This Row],[State]],\", \",tLists4[[#This Row],[County]])","v":"Montana, Flathead County"},3]
[null,null,null,null,null,null,null,null,null,null,null,null,null,"Montana","Gallatin County",{"$f":"CONCATENATE(tLists4[[#This Row],[State]],\", \",tLists4[[#This Row],[County]])","v":"Montana, Gallatin County"},3]
[null,null,null,null,null,null,null,null,null,null,null,null,null,"Montana","Garfield County",{"$f":"CONCATENATE(tLists4[[#This Row],[State]],\", \",tLists4[[#This Row],[County]])","v":"Montana, Garfield County"},3]
[null,null,null,null,null,null,null,null,null,null,null,null,null,"Montana","Glacier County",{"$f":"CONCATENATE(tLists4[[#This Row],[State]],\", \",tLists4[[#This Row],[County]])","v":"Montana, Glacier County"},2]
[null,null,null,null,null,null,null,null,null,null,null,null,null,"Montana","Golden Valley County",{"$f":"CONCATENATE(tLists4[[#This Row],[State]],\", \",tLists4[[#This Row],[County]])","v":"Montana, Golden Valley County"},3]
[null,null,null,null,null,null,null,null,null,null,null,null,null,"Montana","Granite County",{"$f":"CONCATENATE(tLists4[[#This Row],[State]],\", \",tLists4[[#This Row],[County]])","v":"Montana, Granite County"},3]
[null,null,null,null,null,null,null,null,null,null,null,null,null,"Montana","Hill County",{"$f":"CONCATENATE(tLists4[[#This Row],[State]],\", \",tLists4[[#This Row],[County]])","v":"Montana, Hill County"},3]
[null,null,null,null,null,null,null,null,null,null,null,null,null,"Montana","Jefferson County",{"$f":"CONCATENATE(tLists4[[#This Row],[State]],\", \",tLists4[[#This Row],[County]])","v":"Montana, Jefferson County"},3]
[null,null,null,null,null,null,null,null,null,null,null,null,null,"Montana","Judith Basin County",{"$f":"CONCATENATE(tLists4[[#This Row],[State]],\", \",tLists4[[#This Row],[County]])","v":"Montana, Judith Basin County"},3]
[null,null,null,null,null,null,null,null,null,null,null,null,null,"Montana","Lake County",{"$f":"CONCATENATE(tLists4[[#This Row],[State]],\", \",tLists4[[#This Row],[County]])","v":"Montana, Lake County"},3]
[null,null,null,null,null,null,null,null,null,null,null,null,null,"Montana","Lewis and Clark County",{"$f":"CONCATENATE(tLists4[[#This Row],[State]],\", \",tLists4[[#This Row],[County]])","v":"Montana, Lewis and Clark County"},3]
[null,null,null,null,null,null,null,null,null,null,null,null,null,"Montana","Liberty County",{"$f":"CONCATENATE(tLists4[[#This Row],[State]],\", \",tLists4[[#This Row],[County]])","v":"Montana, Liberty County"},3]
[null,null,null,null,null,null,null,null,null,null,null,null,null,"Montana","Lincoln County",{"$f":"CONCATENATE(tLists4[[#This Row],[State]],\", \",tLists4[[#This Row],[County]])","v":"Montana, Lincoln County"},3]
[null,null,null,null,null,null,null,null,null,null,null,null,null,"Montana","Madison County",{"$f":"CONCATENATE(tLists4[[#This Row],[State]],\", \",tLists4[[#This Row],[County]])","v":"Montana, Madison County"},3]
[null,null,null,null,null,null,null,null,null,null,null,null,null,"Montana","McCone County",{"$f":"CONCATENATE(tLists4[[#This Row],[State]],\", \",tLists4[[#This Row],[County]])","v":"Montana, McCone County"},3]
[null,null,null,null,null,null,null,null,null,null,null,null,null,"Montana","Meagher County",{"$f":"CONCATENATE(tLists4[[#This Row],[State]],\", \",tLists4[[#This Row],[County]])","v":"Montana, Meagher County"},3]
[null,null,null,null,null,null,null,null,null,null,null,null,null,"Montana","Mineral County",{"$f":"CONCATENATE(tLists4[[#This Row],[State]],\", \",tLists4[[#This Row],[County]])","v":"Montana, Mineral County"},3]
[null,null,null,null,null,null,null,null,null,null,null,null,null,"Montana","Missoula County",{"$f":"CONCATENATE(tLists4[[#This Row],[State]],\", \",tLists4[[#This Row],[County]])","v":"Montana, Missoula County"},3]
[null,null,null,null,null,null,null,null,null,null,null,null,null,"Montana","Musselshell County",{"$f":"CONCATENATE(tLists4[[#This Row],[State]],\", \",tLists4[[#This Row],[County]])","v":"Montana, Musselshell County"},3]
[null,null,null,null,null,null,null,null,null,null,null,null,null,"Montana","Park County",{"$f":"CONCATENATE(tLists4[[#This Row],[State]],\", \",tLists4[[#This Row],[County]])","v":"Montana, Park County"},3]
[null,null,null,null,null,null,null,null,null,null,null,null,null,"Montana","Petroleum County",{"$f":"CONCATENATE(tLists4[[#This Row],[State]],\", \",tLists4[[#This Row],[County]])","v":"Montana, Petroleum County"},3]
[null,null,null,null,null,null,null,null,null,null,null,null,null,"Montana","Phillips County",{"$f":"CONCATENATE(tLists4[[#This Row],[State]],\", \",tLists4[[#This Row],[County]])","v":"Montana, Phillips County"},3]
[null,null,null,null,null,null,null,null,null,null,null,null,null,"Montana","Pondera County",{"$f":"CONCATENATE(tLists4[[#This Row],[State]],\", \",tLists4[[#This Row],[County]])","v":"Montana, Pondera County"},3]
[null,null,null,null,null,null,null,null,null,null,null,null,null,"Montana","Powder River County",{"$f":"CONCATENATE(tLists4[[#This Row],[State]],\", \",tLists4[[#This Row],[County]])","v":"Montana, Powder River County"},3]
[null,null,null,null,null,null,null,null,null,null,null,null,null,"Montana","Powell County",{"$f":"CONCATENATE(tLists4[[#This Row],[State]],\", \",tLists4[[#This Row],[County]])","v":"Montana, Powell County"},3]
[null,null,null,null,null,null,null,null,null,null,null,null,null,"Montana","Prairie County",{"$f":"CONCATENATE(tLists4[[#This Row],[State]],\", \",tLists4[[#This Row],[County]])","v":"Montana, Prairie County"},3]
[null,null,null,null,null,null,null,null,null,null,null,null,null,"Montana","Ravalli County",{"$f":"CONCATENATE(tLists4[[#This Row],[State]],\", \",tLists4[[#This Row],[County]])","v":"Montana, Ravalli County"},3]
[null,null,null,null,null,null,null,null,null,null,null,null,null,"Montana","Richland County",{"$f":"CONCATENATE(tLists4[[#This Row],[State]],\", \",tLists4[[#This Row],[County]])","v":"Montana, Richland County"},3]
[null,null,null,null,null,null,null,null,null,null,null,null,null,"Montana","Roosevelt County",{"$f":"CONCATENATE(tLists4[[#This Row],[State]],\", \",tLists4[[#This Row],[County]])","v":"Montana, Roosevelt County"},3]
[null,null,null,null,null,null,null,null,null,null,null,null,null,"Montana","Rosebud County",{"$f":"CONCATENATE(tLists4[[#This Row],[State]],\", \",tLists4[[#This Row],[County]])","v":"Montana, Rosebud County"},3]
[null,null,null,null,null,null,null,null,null,null,null,null,null,"Montana","Sanders County",{"$f":"CONCATENATE(tLists4[[#This Row],[State]],\", \",tLists4[[#This Row],[County]])","v":"Montana, Sanders County"},3]
[null,null,null,null,null,null,null,null,null,null,null,null,null,"Montana","Sheridan County",{"$f":"CONCATENATE(tLists4[[#This Row],[State]],\", \",tLists4[[#This Row],[County]])","v":"Montana, Sheridan County"},3]
[null,null,null,null,null,null,null,null,null,null,null,null,null,"Montana","Silver Bow County",{"$f":"CONCATENATE(tLists4[[#This Row],[State]],\", \",tLists4[[#This Row],[County]])","v":"Montana, Silver Bow County"},3]
[null,null,null,null,null,null,null,null,null,null,null,null,null,"Montana","Stillwater County",{"$f":"CONCATENATE(tLists4[[#This Row],[State]],\", \",tLists4[[#This Row],[County]])","v":"Montana, Stillwater County"},3]
[null,null,null,null,null,null,null,null,null,null,null,null,null,"Montana","Sweet Grass County",{"$f":"CONCATENATE(tLists4[[#This Row],[State]],\", \",tLists4[[#This Row],[County]])","v":"Montana, Sweet Grass County"},3]
[null,null,null,null,null,null,null,null,null,null,null,null,null,"Montana","Teton County",{"$f":"CONCATENATE(tLists4[[#This Row],[State]],\", \",tLists4[[#This Row],[County]])","v":"Montana, Teton County"},3]
[null,null,null,null,null,null,null,null,null,null,null,null,null,"Montana","Toole County",{"$f":"CONCATENATE(tLists4[[#This Row],[State]],\", \",tLists4[[#This Row],[County]])","v":"Montana, Toole County"},3]
[null,null,null,null,null,null,null,null,null,null,null,null,null,"Montana","Treasure County",{"$f":"CONCATENATE(tLists4[[#This Row],[State]],\", \",tLists4[[#This Row],[County]])","v":"Montana, Treasure County"},3]
[null,null,null,null,null,null,null,null,null,null,null,null,null,"Montana","Valley County",{"$f":"CONCATENATE(tLists4[[#This Row],[State]],\", \",tLists4[[#This Row],[County]])","v":"Montana, Valley County"},3]
[null,null,null,null,null,null,null,null,null,null,null,null,null,"Montana","Wheatland County",{"$f":"CONCATENATE(tLists4[[#This Row],[State]],\", \",tLists4[[#This Row],[County]])","v":"Montana, Wheatland County"},3]
[null,null,null,null,null,null,null,null,null,null,null,null,null,"Montana","Wibaux County",{"$f":"CONCATENATE(tLists4[[#This Row],[State]],\", \",tLists4[[#This Row],[County]])","v":"Montana, Wibaux County"},3]
[null,null,null,null,null,null,null,null,null,null,null,null,null,"Montana","Yellowstone County",{"$f":"CONCATENATE(tLists4[[#This Row],[State]],\", \",tLists4[[#This Row],[County]])","v":"Montana, Yellowstone County"},3]
[null,null,null,null,null,null,null,null,null,null,null,null,null,"Nebraska","Adams County",{"$f":"CONCATENATE(tLists4[[#This Row],[State]],\", \",tLists4[[#This Row],[County]])","v":"Nebraska, Adams County"},2]
[null,null,null,null,null,null,null,null,null,null,null,null,null,"Nebraska","Antelope County",{"$f":"CONCATENATE(tLists4[[#This Row],[State]],\", \",tLists4[[#This Row],[County]])","v":"Nebraska, Antelope County"},2]
[null,null,null,null,null,null,null,null,null,null,null,null,null,"Nebraska","Arthur County",{"$f":"CONCATENATE(tLists4[[#This Row],[State]],\", \",tLists4[[#This Row],[County]])","v":"Nebraska, Arthur County"},3]
[null,null,null,null,null,null,null,null,null,null,null,null,null,"Nebraska","Banner County",{"$f":"CONCATENATE(tLists4[[#This Row],[State]],\", \",tLists4[[#This Row],[County]])","v":"Nebraska, Banner County"},3]
[null,null,null,null,null,null,null,null,null,null,null,null,null,"Nebraska","Blaine County",{"$f":"CONCATENATE(tLists4[[#This Row],[State]],\", \",tLists4[[#This Row],[County]])","v":"Nebraska, Blaine County"},3]
[null,null,null,null,null,null,null,null,null,null,null,null,null,"Nebraska","Boone County",{"$f":"CONCATENATE(tLists4[[#This Row],[State]],\", \",tLists4[[#This Row],[County]])","v":"Nebraska, Boone County"},2]
[null,null,null,null,null,null,null,null,null,null,null,null,null,"Nebraska","Box Butte County",{"$f":"CONCATENATE(tLists4[[#This Row],[State]],\", \",tLists4[[#This Row],[County]])","v":"Nebraska, Box Butte County"},3]
[null,null,null,null,null,null,null,null,null,null,null,null,null,"Nebraska","Boyd County",{"$f":"CONCATENATE(tLists4[[#This Row],[State]],\", \",tLists4[[#This Row],[County]])","v":"Nebraska, Boyd County"},2]
[null,null,null,null,null,null,null,null,null,null,null,null,null,"Nebraska","Brown County",{"$f":"CONCATENATE(tLists4[[#This Row],[State]],\", \",tLists4[[#This Row],[County]])","v":"Nebraska, Brown County"},3]
[null,null,null,null,null,null,null,null,null,null,null,null,null,"Nebraska","Buffalo County",{"$f":"CONCATENATE(tLists4[[#This Row],[State]],\", \",tLists4[[#This Row],[County]])","v":"Nebraska, Buffalo County"},2]
[null,null,null,null,null,null,null,null,null,null,null,null,null,"Nebraska","Burt County",{"$f":"CONCATENATE(tLists4[[#This Row],[State]],\", \",tLists4[[#This Row],[County]])","v":"Nebraska, Burt County"},2]
[null,null,null,null,null,null,null,null,null,null,null,null,null,"Nebraska","Butler County",{"$f":"CONCATENATE(tLists4[[#This Row],[State]],\", \",tLists4[[#This Row],[County]])","v":"Nebraska, Butler County"},2]
[null,null,null,null,null,null,null,null,null,null,null,null,null,"Nebraska","Cass County",{"$f":"CONCATENATE(tLists4[[#This Row],[State]],\", \",tLists4[[#This Row],[County]])","v":"Nebraska, Cass County"},"Not Eligible for Credit"]
[null,null,null,null,null,null,null,null,null,null,null,null,null,"Nebraska","Cedar County",{"$f":"CONCATENATE(tLists4[[#This Row],[State]],\", \",tLists4[[#This Row],[County]])","v":"Nebraska, Cedar County"},2]
[null,null,null,null,null,null,null,null,null,null,null,null,null,"Nebraska","Chase County",{"$f":"CONCATENATE(tLists4[[#This Row],[State]],\", \",tLists4[[#This Row],[County]])","v":"Nebraska, Chase County"},3]
[null,null,null,null,null,null,null,null,null,null,null,null,null,"Nebraska","Cherry County",{"$f":"CONCATENATE(tLists4[[#This Row],[State]],\", \",tLists4[[#This Row],[County]])","v":"Nebraska, Cherry County"},6]
[null,null,null,null,null,null,null,null,null,null,null,null,null,"Nebraska","Cheyenne County",{"$f":"CONCATENATE(tLists4[[#This Row],[State]],\", \",tLists4[[#This Row],[County]])","v":"Nebraska, Cheyenne County"},3]
[null,null,null,null,null,null,null,null,null,null,null,null,null,"Nebraska","Clay County",{"$f":"CONCATENATE(tLists4[[#This Row],[State]],\", \",tLists4[[#This Row],[County]])","v":"Nebraska, Clay County"},2]
[null,null,null,null,null,null,null,null,null,null,null,null,null,"Nebraska","Colfax County",{"$f":"CONCATENATE(tLists4[[#This Row],[State]],\", \",tLists4[[#This Row],[County]])","v":"Nebraska, Colfax County"},2]
[null,null,null,null,null,null,null,null,null,null,null,null,null,"Nebraska","Cuming County",{"$f":"CONCATENATE(tLists4[[#This Row],[State]],\", \",tLists4[[#This Row],[County]])","v":"Nebraska, Cuming County"},2]
[null,null,null,null,null,null,null,null,null,null,null,null,null,"Nebraska","Custer County",{"$f":"CONCATENATE(tLists4[[#This Row],[State]],\", \",tLists4[[#This Row],[County]])","v":"Nebraska, Custer County"},2]
[null,null,null,null,null,null,null,null,null,null,null,null,null,"Nebraska","Dakota County",{"$f":"CONCATENATE(tLists4[[#This Row],[State]],\", \",tLists4[[#This Row],[County]])","v":"Nebraska, Dakota County"},2]
[null,null,null,null,null,null,null,null,null,null,null,null,null,"Nebraska","Dawes County",{"$f":"CONCATENATE(tLists4[[#This Row],[State]],\", \",tLists4[[#This Row],[County]])","v":"Nebraska, Dawes County"},3]
[null,null,null,null,null,null,null,null,null,null,null,null,null,"Nebraska","Dawson County",{"$f":"CONCATENATE(tLists4[[#This Row],[State]],\", \",tLists4[[#This Row],[County]])","v":"Nebraska, Dawson County"},2]
[null,null,null,null,null,null,null,null,null,null,null,null,null,"Nebraska","Deuel County",{"$f":"CONCATENATE(tLists4[[#This Row],[State]],\", \",tLists4[[#This Row],[County]])","v":"Nebraska, Deuel County"},3]
[null,null,null,null,null,null,null,null,null,null,null,null,null,"Nebraska","Dixon County",{"$f":"CONCATENATE(tLists4[[#This Row],[State]],\", \",tLists4[[#This Row],[County]])","v":"Nebraska, Dixon County"},2]
[null,null,null,null,null,null,null,null,null,null,null,null,null,"Nebraska","Dodge County",{"$f":"CONCATENATE(tLists4[[#This Row],[State]],\", \",tLists4[[#This Row],[County]])","v":"Nebraska, Dodge County"},"Not Eligible for Credit"]
[null,null,null,null,null,null,null,null,null,null,null,null,null,"Nebraska","Douglas County",{"$f":"CONCATENATE(tLists4[[#This Row],[State]],\", \",tLists4[[#This Row],[County]])","v":"Nebraska, Douglas County"},2]
[null,null,null,null,null,null,null,null,null,null,null,null,null,"Nebraska","Dundy County",{"$f":"CONCATENATE(tLists4[[#This Row],[State]],\", \",tLists4[[#This Row],[County]])","v":"Nebraska, Dundy County"},3]
[null,null,null,null,null,null,null,null,null,null,null,null,null,"Nebraska","Fillmore County",{"$f":"CONCATENATE(tLists4[[#This Row],[State]],\", \",tLists4[[#This Row],[County]])","v":"Nebraska, Fillmore County"},"Not Eligible for Credit"]
[null,null,null,null,null,null,null,null,null,null,null,null,null,"Nebraska","Franklin County",{"$f":"CONCATENATE(tLists4[[#This Row],[State]],\", \",tLists4[[#This Row],[County]])","v":"Nebraska, Franklin County"},2]
[null,null,null,null,null,null,null,null,null,null,null,null,null,"Nebraska","Frontier County",{"$f":"CONCATENATE(tLists4[[#This Row],[State]],\", \",tLists4[[#This Row],[County]])","v":"Nebraska, Frontier County"},2]
[null,null,null,null,null,null,null,null,null,null,null,null,null,"Nebraska","Furnas County",{"$f":"CONCATENATE(tLists4[[#This Row],[State]],\", \",tLists4[[#This Row],[County]])","v":"Nebraska, Furnas County"},2]
[null,null,null,null,null,null,null,null,null,null,null,null,null,"Nebraska","Gage County",{"$f":"CONCATENATE(tLists4[[#This Row],[State]],\", \",tLists4[[#This Row],[County]])","v":"Nebraska, Gage County"},"Not Eligible for Credit"]
[null,null,null,null,null,null,null,null,null,null,null,null,null,"Nebraska","Garden County",{"$f":"CONCATENATE(tLists4[[#This Row],[State]],\", \",tLists4[[#This Row],[County]])","v":"Nebraska, Garden County"},3]
[null,null,null,null,null,null,null,null,null,null,null,null,null,"Nebraska","Garfield County",{"$f":"CONCATENATE(tLists4[[#This Row],[State]],\", \",tLists4[[#This Row],[County]])","v":"Nebraska, Garfield County"},3]
[null,null,null,null,null,null,null,null,null,null,null,null,null,"Nebraska","Gosper County",{"$f":"CONCATENATE(tLists4[[#This Row],[State]],\", \",tLists4[[#This Row],[County]])","v":"Nebraska, Gosper County"},2]
[null,null,null,null,null,null,null,null,null,null,null,null,null,"Nebraska","Grant County",{"$f":"CONCATENATE(tLists4[[#This Row],[State]],\", \",tLists4[[#This Row],[County]])","v":"Nebraska, Grant County"},6]
[null,null,null,null,null,null,null,null,null,null,null,null,null,"Nebraska","Greeley County",{"$f":"CONCATENATE(tLists4[[#This Row],[State]],\", \",tLists4[[#This Row],[County]])","v":"Nebraska, Greeley County"},2]
[null,null,null,null,null,null,null,null,null,null,null,null,null,"Nebraska","Hall County",{"$f":"CONCATENATE(tLists4[[#This Row],[State]],\", \",tLists4[[#This Row],[County]])","v":"Nebraska, Hall County"},2]
[null,null,null,null,null,null,null,null,null,null,null,null,null,"Nebraska","Hamilton County",{"$f":"CONCATENATE(tLists4[[#This Row],[State]],\", \",tLists4[[#This Row],[County]])","v":"Nebraska, Hamilton County"},2]
[null,null,null,null,null,null,null,null,null,null,null,null,null,"Nebraska","Harlan County",{"$f":"CONCATENATE(tLists4[[#This Row],[State]],\", \",tLists4[[#This Row],[County]])","v":"Nebraska, Harlan County"},2]
[null,null,null,null,null,null,null,null,null,null,null,null,null,"Nebraska","Hayes County",{"$f":"CONCATENATE(tLists4[[#This Row],[State]],\", \",tLists4[[#This Row],[County]])","v":"Nebraska, Hayes County"},3]
[null,null,null,null,null,null,null,null,null,null,null,null,null,"Nebraska","Hitchcock County",{"$f":"CONCATENATE(tLists4[[#This Row],[State]],\", \",tLists4[[#This Row],[County]])","v":"Nebraska, Hitchcock County"},2]
[null,null,null,null,null,null,null,null,null,null,null,null,null,"Nebraska","Holt County",{"$f":"CONCATENATE(tLists4[[#This Row],[State]],\", \",tLists4[[#This Row],[County]])","v":"Nebraska, Holt County"},3]
[null,null,null,null,null,null,null,null,null,null,null,null,null,"Nebraska","Hooker County",{"$f":"CONCATENATE(tLists4[[#This Row],[State]],\", \",tLists4[[#This Row],[County]])","v":"Nebraska, Hooker County"},6]
[null,null,null,null,null,null,null,null,null,null,null,null,null,"Nebraska","Howard County",{"$f":"CONCATENATE(tLists4[[#This Row],[State]],\", \",tLists4[[#This Row],[County]])","v":"Nebraska, Howard County"},2]
[null,null,null,null,null,null,null,null,null,null,null,null,null,"Nebraska","Jefferson County",{"$f":"CONCATENATE(tLists4[[#This Row],[State]],\", \",tLists4[[#This Row],[County]])","v":"Nebraska, Jefferson County"},"Not Eligible for Credit"]
[null,null,null,null,null,null,null,null,null,null,null,null,null,"Nebraska","Johnson County",{"$f":"CONCATENATE(tLists4[[#This Row],[State]],\", \",tLists4[[#This Row],[County]])","v":"Nebraska, Johnson County"},"Not Eligible for Credit"]
[null,null,null,null,null,null,null,null,null,null,null,null,null,"Nebraska","Kearney County",{"$f":"CONCATENATE(tLists4[[#This Row],[State]],\", \",tLists4[[#This Row],[County]])","v":"Nebraska, Kearney County"},"Not Eligible for Credit"]
[null,null,null,null,null,null,null,null,null,null,null,null,null,"Nebraska","Keith County",{"$f":"CONCATENATE(tLists4[[#This Row],[State]],\", \",tLists4[[#This Row],[County]])","v":"Nebraska, Keith County"},3]
[null,null,null,null,null,null,null,null,null,null,null,null,null,"Nebraska","Keya Paha County",{"$f":"CONCATENATE(tLists4[[#This Row],[State]],\", \",tLists4[[#This Row],[County]])","v":"Nebraska, Keya Paha County"},2]
[null,null,null,null,null,null,null,null,null,null,null,null,null,"Nebraska","Kimball County",{"$f":"CONCATENATE(tLists4[[#This Row],[State]],\", \",tLists4[[#This Row],[County]])","v":"Nebraska, Kimball County"},3]
[null,null,null,null,null,null,null,null,null,null,null,null,null,"Nebraska","Knox County",{"$f":"CONCATENATE(tLists4[[#This Row],[State]],\", \",tLists4[[#This Row],[County]])","v":"Nebraska, Knox County"},2]
[null,null,null,null,null,null,null,null,null,null,null,null,null,"Nebraska","Lancaster County",{"$f":"CONCATENATE(tLists4[[#This Row],[State]],\", \",tLists4[[#This Row],[County]])","v":"Nebraska, Lancaster County"},"Not Eligible for Credit"]
[null,null,null,null,null,null,null,null,null,null,null,null,null,"Nebraska","Lincoln County",{"$f":"CONCATENATE(tLists4[[#This Row],[State]],\", \",tLists4[[#This Row],[County]])","v":"Nebraska, Lincoln County"},3]
[null,null,null,null,null,null,null,null,null,null,null,null,null,"Nebraska","Logan County",{"$f":"CONCATENATE(tLists4[[#This Row],[State]],\", \",tLists4[[#This Row],[County]])","v":"Nebraska, Logan County"},6]
[null,null,null,null,null,null,null,null,null,null,null,null,null,"Nebraska","Loup County",{"$f":"CONCATENATE(tLists4[[#This Row],[State]],\", \",tLists4[[#This Row],[County]])","v":"Nebraska, Loup County"},3]
[null,null,null,null,null,null,null,null,null,null,null,null,null,"Nebraska","Madison County",{"$f":"CONCATENATE(tLists4[[#This Row],[State]],\", \",tLists4[[#This Row],[County]])","v":"Nebraska, Madison County"},2]
[null,null,null,null,null,null,null,null,null,null,null,null,null,"Nebraska","McPherson County",{"$f":"CONCATENATE(tLists4[[#This Row],[State]],\", \",tLists4[[#This Row],[County]])","v":"Nebraska, McPherson County"},3]
[null,null,null,null,null,null,null,null,null,null,null,null,null,"Nebraska","Merrick County",{"$f":"CONCATENATE(tLists4[[#This Row],[State]],\", \",tLists4[[#This Row],[County]])","v":"Nebraska, Merrick County"},2]
[null,null,null,null,null,null,null,null,null,null,null,null,null,"Nebraska","Morrill County",{"$f":"CONCATENATE(tLists4[[#This Row],[State]],\", \",tLists4[[#This Row],[County]])","v":"Nebraska, Morrill County"},3]
[null,null,null,null,null,null,null,null,null,null,null,null,null,"Nebraska","Nance County",{"$f":"CONCATENATE(tLists4[[#This Row],[State]],\", \",tLists4[[#This Row],[County]])","v":"Nebraska, Nance County"},2]
[null,null,null,null,null,null,null,null,null,null,null,null,null,"Nebraska","Nemaha County",{"$f":"CONCATENATE(tLists4[[#This Row],[State]],\", \",tLists4[[#This Row],[County]])","v":"Nebraska, Nemaha County"},"Not Eligible for Credit"]
[null,null,null,null,null,null,null,null,null,null,null,null,null,"Nebraska","Nuckolls County",{"$f":"CONCATENATE(tLists4[[#This Row],[State]],\", \",tLists4[[#This Row],[County]])","v":"Nebraska, Nuckolls County"},2]
[null,null,null,null,null,null,null,null,null,null,null,null,null,"Nebraska","Otoe County",{"$f":"CONCATENATE(tLists4[[#This Row],[State]],\", \",tLists4[[#This Row],[County]])","v":"Nebraska, Otoe County"},"Not Eligible for Credit"]
[null,null,null,null,null,null,null,null,null,null,null,null,null,"Nebraska","Pawnee County",{"$f":"CONCATENATE(tLists4[[#This Row],[State]],\", \",tLists4[[#This Row],[County]])","v":"Nebraska, Pawnee County"},"Not Eligible for Credit"]
[null,null,null,null,null,null,null,null,null,null,null,null,null,"Nebraska","Perkins County",{"$f":"CONCATENATE(tLists4[[#This Row],[State]],\", \",tLists4[[#This Row],[County]])","v":"Nebraska, Perkins County"},3]
[null,null,null,null,null,null,null,null,null,null,null,null,null,"Nebraska","Phelps County",{"$f":"CONCATENATE(tLists4[[#This Row],[State]],\", \",tLists4[[#This Row],[County]])","v":"Nebraska, Phelps County"},2]
[null,null,null,null,null,null,null,null,null,null,null,null,null,"Nebraska","Pierce County",{"$f":"CONCATENATE(tLists4[[#This Row],[State]],\", \",tLists4[[#This Row],[County]])","v":"Nebraska, Pierce County"},2]
[null,null,null,null,null,null,null,null,null,null,null,null,null,"Nebraska","Platte County",{"$f":"CONCATENATE(tLists4[[#This Row],[State]],\", \",tLists4[[#This Row],[County]])","v":"Nebraska, Platte County"},2]
[null,null,null,null,null,null,null,null,null,null,null,null,null,"Nebraska","Polk County",{"$f":"CONCATENATE(tLists4[[#This Row],[State]],\", \",tLists4[[#This Row],[County]])","v":"Nebraska, Polk County"},2]
[null,null,null,null,null,null,null,null,null,null,null,null,null,"Nebraska","Red Willow County",{"$f":"CONCATENATE(tLists4[[#This Row],[State]],\", \",tLists4[[#This Row],[County]])","v":"Nebraska, Red Willow County"},3]
[null,null,null,null,null,null,null,null,null,null,null,null,null,"Nebraska","Richardson County",{"$f":"CONCATENATE(tLists4[[#This Row],[State]],\", \",tLists4[[#This Row],[County]])","v":"Nebraska, Richardson County"},"Not Eligible for Credit"]
[null,null,null,null,null,null,null,null,null,null,null,null,null,"Nebraska","Rock County",{"$f":"CONCATENATE(tLists4[[#This Row],[State]],\", \",tLists4[[#This Row],[County]])","v":"Nebraska, Rock County"},3]
[null,null,null,null,null,null,null,null,null,null,null,null,null,"Nebraska","Saline County",{"$f":"CONCATENATE(tLists4[[#This Row],[State]],\", \",tLists4[[#This Row],[County]])","v":"Nebraska, Saline County"},"Not Eligible for Credit"]
[null,null,null,null,null,null,null,null,null,null,null,null,null,"Nebraska","Sarpy County",{"$f":"CONCATENATE(tLists4[[#This Row],[State]],\", \",tLists4[[#This Row],[County]])","v":"Nebraska, Sarpy County"},2]
[null,null,null,null,null,null,null,null,null,null,null,null,null,"Nebraska","Saunders County",{"$f":"CONCATENATE(tLists4[[#This Row],[State]],\", \",tLists4[[#This Row],[County]])","v":"Nebraska, Saunders County"},2]
[null,null,null,null,null,null,null,null,null,null,null,null,null,"Nebraska","Scotts Bluff County",{"$f":"CONCATENATE(tLists4[[#This Row],[State]],\", \",tLists4[[#This Row],[County]])","v":"Nebraska, Scotts Bluff County"},3]
[null,null,null,null,null,null,null,null,null,null,null,null,null,"Nebraska","Seward County",{"$f":"CONCATENATE(tLists4[[#This Row],[State]],\", \",tLists4[[#This Row],[County]])","v":"Nebraska, Seward County"},2]
[null,null,null,null,null,null,null,null,null,null,null,null,null,"Nebraska","Sheridan County",{"$f":"CONCATENATE(tLists4[[#This Row],[State]],\", \",tLists4[[#This Row],[County]])","v":"Nebraska, Sheridan County"},3]
[null,null,null,null,null,null,null,null,null,null,null,null,null,"Nebraska","Sherman County",{"$f":"CONCATENATE(tLists4[[#This Row],[State]],\", \",tLists4[[#This Row],[County]])","v":"Nebraska, Sherman County"},2]
[null,null,null,null,null,null,null,null,null,null,null,null,null,"Nebraska","Sioux County",{"$f":"CONCATENATE(tLists4[[#This Row],[State]],\", \",tLists4[[#This Row],[County]])","v":"Nebraska, Sioux County"},3]
[null,null,null,null,null,null,null,null,null,null,null,null,null,"Nebraska","Stanton County",{"$f":"CONCATENATE(tLists4[[#This Row],[State]],\", \",tLists4[[#This Row],[County]])","v":"Nebraska, Stanton County"},2]
[null,null,null,null,null,null,null,null,null,null,null,null,null,"Nebraska","Thayer County",{"$f":"CONCATENATE(tLists4[[#This Row],[State]],\", \",tLists4[[#This Row],[County]])","v":"Nebraska, Thayer County"},2]
[null,null,null,null,null,null,null,null,null,null,null,null,null,"Nebraska","Thomas County",{"$f":"CONCATENATE(tLists4[[#This Row],[State]],\", \",tLists4[[#This Row],[County]])","v":"Nebraska, Thomas County"},3]
[null,null,null,null,null,null,null,null,null,null,null,null,null,"Nebraska","Thurston County",{"$f":"CONCATENATE(tLists4[[#This Row],[State]],\", \",tLists4[[#This Row],[County]])","v":"Nebraska, Thurston County"},2]
[null,null,null,null,null,null,null,null,null,null,null,null,null,"Nebraska","Valley County",{"$f":"CONCATENATE(tLists4[[#This Row],[State]],\", \",tLists4[[#This Row],[County]])","v":"Nebraska, Valley County"},2]
[null,null,null,null,null,null,null,null,null,null,null,null,null,"Nebraska","Washington County",{"$f":"CONCATENATE(tLists4[[#This Row],[State]],\", \",tLists4[[#This Row],[County]])","v":"Nebraska, Washington County"},2]
[null,null,null,null,null,null,null,null,null,null,null,null,null,"Nebraska","Wayne County",{"$f":"CONCATENATE(tLists4[[#This Row],[State]],\", \",tLists4[[#This Row],[County]])","v":"Nebraska, Wayne County"},2]
[null,null,null,null,null,null,null,null,null,null,null,null,null,"Nebraska","Webster County",{"$f":"CONCATENATE(tLists4[[#This Row],[State]],\", \",tLists4[[#This Row],[County]])","v":"Nebraska, Webster County"},2]
[null,null,null,null,null,null,null,null,null,null,null,null,null,"Nebraska","Wheeler County",{"$f":"CONCATENATE(tLists4[[#This Row],[State]],\", \",tLists4[[#This Row],[County]])","v":"Nebraska, Wheeler County"},3]
[null,null,null,null,null,null,null,null,null,null,null,null,null,"Nebraska","York County",{"$f":"CONCATENATE(tLists4[[#This Row],[State]],\", \",tLists4[[#This Row],[County]])","v":"Nebraska, York County"},2]
[null,null,null,null,null,null,null,null,null,null,null,null,null,"Nevada","Carson City",{"$f":"CONCATENATE(tLists4[[#This Row],[State]],\", \",tLists4[[#This Row],[County]])","v":"Nevada, Carson City"},3]
[null,null,null,null,null,null,null,null,null,null,null,null,null,"Nevada","Churchill County",{"$f":"CONCATENATE(tLists4[[#This Row],[State]],\", \",tLists4[[#This Row],[County]])","v":"Nevada, Churchill County"},6]
[null,null,null,null,null,null,null,null,null,null,null,null,null,"Nevada","Clark County",{"$f":"CONCATENATE(tLists4[[#This Row],[State]],\", \",tLists4[[#This Row],[County]])","v":"Nevada, Clark County"},6]
[null,null,null,null,null,null,null,null,null,null,null,null,null,"Nevada","Douglas County",{"$f":"CONCATENATE(tLists4[[#This Row],[State]],\", \",tLists4[[#This Row],[County]])","v":"Nevada, Douglas County"},3]
[null,null,null,null,null,null,null,null,null,null,null,null,null,"Nevada","Elko County",{"$f":"CONCATENATE(tLists4[[#This Row],[State]],\", \",tLists4[[#This Row],[County]])","v":"Nevada, Elko County"},3]
[null,null,null,null,null,null,null,null,null,null,null,null,null,"Nevada","Esmeralda County",{"$f":"CONCATENATE(tLists4[[#This Row],[State]],\", \",tLists4[[#This Row],[County]])","v":"Nevada, Esmeralda County"},6]
[null,null,null,null,null,null,null,null,null,null,null,null,null,"Nevada","Eureka County",{"$f":"CONCATENATE(tLists4[[#This Row],[State]],\", \",tLists4[[#This Row],[County]])","v":"Nevada, Eureka County"},3]
[null,null,null,null,null,null,null,null,null,null,null,null,null,"Nevada","Humboldt County",{"$f":"CONCATENATE(tLists4[[#This Row],[State]],\", \",tLists4[[#This Row],[County]])","v":"Nevada, Humboldt County"},6]
[null,null,null,null,null,null,null,null,null,null,null,null,null,"Nevada","Lander County",{"$f":"CONCATENATE(tLists4[[#This Row],[State]],\", \",tLists4[[#This Row],[County]])","v":"Nevada, Lander County"},3]
[null,null,null,null,null,null,null,null,null,null,null,null,null,"Nevada","Lincoln County",{"$f":"CONCATENATE(tLists4[[#This Row],[State]],\", \",tLists4[[#This Row],[County]])","v":"Nevada, Lincoln County"},6]
[null,null,null,null,null,null,null,null,null,null,null,null,null,"Nevada","Lyon County",{"$f":"CONCATENATE(tLists4[[#This Row],[State]],\", \",tLists4[[#This Row],[County]])","v":"Nevada, Lyon County"},3]
[null,null,null,null,null,null,null,null,null,null,null,null,null,"Nevada","Mineral County",{"$f":"CONCATENATE(tLists4[[#This Row],[State]],\", \",tLists4[[#This Row],[County]])","v":"Nevada, Mineral County"},6]
[null,null,null,null,null,null,null,null,null,null,null,null,null,"Nevada","Nye County",{"$f":"CONCATENATE(tLists4[[#This Row],[State]],\", \",tLists4[[#This Row],[County]])","v":"Nevada, Nye County"},6]
[null,null,null,null,null,null,null,null,null,null,null,null,null,"Nevada","Pershing County",{"$f":"CONCATENATE(tLists4[[#This Row],[State]],\", \",tLists4[[#This Row],[County]])","v":"Nevada, Pershing County"},6]
[null,null,null,null,null,null,null,null,null,null,null,null,null,"Nevada","Storey County",{"$f":"CONCATENATE(tLists4[[#This Row],[State]],\", \",tLists4[[#This Row],[County]])","v":"Nevada, Storey County"},3]
[null,null,null,null,null,null,null,null,null,null,null,null,null,"Nevada","Washoe County",{"$f":"CONCATENATE(tLists4[[#This Row],[State]],\", \",tLists4[[#This Row],[County]])","v":"Nevada, Washoe County"},3]
[null,null,null,null,null,null,null,null,null,null,null,null,null,"Nevada","White Pine County",{"$f":"CONCATENATE(tLists4[[#This Row],[State]],\", \",tLists4[[#This Row],[County]])","v":"Nevada, White Pine County"},3]
[null,null,null,null,null,null,null,null,null,null,null,null,null,"New_Hampshire","Belknap County",{"$f":"CONCATENATE(tLists4[[#This Row],[State]],\", \",tLists4[[#This Row],[County]])","v":"New_Hampshire, Belknap County"},2]
[null,null,null,null,null,null,null,null,null,null,null,null,null,"New_Hampshire","Carroll County",{"$f":"CONCATENATE(tLists4[[#This Row],[State]],\", \",tLists4[[#This Row],[County]])","v":"New_Hampshire, Carroll County"},2]
[null,null,null,null,null,null,null,null,null,null,null,null,null,"New_Hampshire","Cheshire County",{"$f":"CONCATENATE(tLists4[[#This Row],[State]],\", \",tLists4[[#This Row],[County]])","v":"New_Hampshire, Cheshire County"},2]
[null,null,null,null,null,null,null,null,null,null,null,null,null,"New_Hampshire","Coos County",{"$f":"CONCATENATE(tLists4[[#This Row],[State]],\", \",tLists4[[#This Row],[County]])","v":"New_Hampshire, Coos County"},2]
[null,null,null,null,null,null,null,null,null,null,null,null,null,"New_Hampshire","Grafton County",{"$f":"CONCATENATE(tLists4[[#This Row],[State]],\", \",tLists4[[#This Row],[County]])","v":"New_Hampshire, Grafton County"},2]
[null,null,null,null,null,null,null,null,null,null,null,null,null,"New_Hampshire","Hillsborough County",{"$f":"CONCATENATE(tLists4[[#This Row],[State]],\", \",tLists4[[#This Row],[County]])","v":"New_Hampshire, Hillsborough County"},2]
[null,null,null,null,null,null,null,null,null,null,null,null,null,"New_Hampshire","Merrimack County",{"$f":"CONCATENATE(tLists4[[#This Row],[State]],\", \",tLists4[[#This Row],[County]])","v":"New_Hampshire, Merrimack County"},2]
[null,null,null,null,null,null,null,null,null,null,null,null,null,"New_Hampshire","Rockingham County",{"$f":"CONCATENATE(tLists4[[#This Row],[State]],\", \",tLists4[[#This Row],[County]])","v":"New_Hampshire, Rockingham County"},2]
[null,null,null,null,null,null,null,null,null,null,null,null,null,"New_Hampshire","Strafford County",{"$f":"CONCATENATE(tLists4[[#This Row],[State]],\", \",tLists4[[#This Row],[County]])","v":"New_Hampshire, Strafford County"},"Not Eligible for Credit"]
[null,null,null,null,null,null,null,null,null,null,null,null,null,"New_Hampshire","Sullivan County",{"$f":"CONCATENATE(tLists4[[#This Row],[State]],\", \",tLists4[[#This Row],[County]])","v":"New_Hampshire, Sullivan County"},2]
[null,null,null,null,null,null,null,null,null,null,null,null,null,"New_Jersey","Atlantic County",{"$f":"CONCATENATE(tLists4[[#This Row],[State]],\", \",tLists4[[#This Row],[County]])","v":"New_Jersey, Atlantic County"},3]
[null,null,null,null,null,null,null,null,null,null,null,null,null,"New_Jersey","Bergen County",{"$f":"CONCATENATE(tLists4[[#This Row],[State]],\", \",tLists4[[#This Row],[County]])","v":"New_Jersey, Bergen County"},2]
[null,null,null,null,null,null,null,null,null,null,null,null,null,"New_Jersey","Burlington County",{"$f":"CONCATENATE(tLists4[[#This Row],[State]],\", \",tLists4[[#This Row],[County]])","v":"New_Jersey, Burlington County"},2]
[null,null,null,null,null,null,null,null,null,null,null,null,null,"New_Jersey","Camden County",{"$f":"CONCATENATE(tLists4[[#This Row],[State]],\", \",tLists4[[#This Row],[County]])","v":"New_Jersey, Camden County"},"Not Eligible for Credit"]
[null,null,null,null,null,null,null,null,null,null,null,null,null,"New_Jersey","Cape May County",{"$f":"CONCATENATE(tLists4[[#This Row],[State]],\", \",tLists4[[#This Row],[County]])","v":"New_Jersey, Cape May County"},3]
[null,null,null,null,null,null,null,null,null,null,null,null,null,"New_Jersey","Cumberland County",{"$f":"CONCATENATE(tLists4[[#This Row],[State]],\", \",tLists4[[#This Row],[County]])","v":"New_Jersey, Cumberland County"},2]
[null,null,null,null,null,null,null,null,null,null,null,null,null,"New_Jersey","Essex County",{"$f":"CONCATENATE(tLists4[[#This Row],[State]],\", \",tLists4[[#This Row],[County]])","v":"New_Jersey, Essex County"},"Not Eligible for Credit"]
[null,null,null,null,null,null,null,null,null,null,null,null,null,"New_Jersey","Gloucester County",{"$f":"CONCATENATE(tLists4[[#This Row],[State]],\", \",tLists4[[#This Row],[County]])","v":"New_Jersey, Gloucester County"},"Not Eligible for Credit"]
[null,null,null,null,null,null,null,null,null,null,null,null,null,"New_Jersey","Hudson County",{"$f":"CONCATENATE(tLists4[[#This Row],[State]],\", \",tLists4[[#This Row],[County]])","v":"New_Jersey, Hudson County"},2]
[null,null,null,null,null,null,null,null,null,null,null,null,null,"New_Jersey","Hunterdon County",{"$f":"CONCATENATE(tLists4[[#This Row],[State]],\", \",tLists4[[#This Row],[County]])","v":"New_Jersey, Hunterdon County"},"Not Eligible for Credit"]
[null,null,null,null,null,null,null,null,null,null,null,null,null,"New_Jersey","Mercer County",{"$f":"CONCATENATE(tLists4[[#This Row],[State]],\", \",tLists4[[#This Row],[County]])","v":"New_Jersey, Mercer County"},"Not Eligible for Credit"]
[null,null,null,null,null,null,null,null,null,null,null,null,null,"New_Jersey","Middlesex County",{"$f":"CONCATENATE(tLists4[[#This Row],[State]],\", \",tLists4[[#This Row],[County]])","v":"New_Jersey, Middlesex County"},"Not Eligible for Credit"]
[null,null,null,null,null,null,null,null,null,null,null,null,null,"New_Jersey","Monmouth County",{"$f":"CONCATENATE(tLists4[[#This Row],[State]],\", \",tLists4[[#This Row],[County]])","v":"New_Jersey, Monmouth County"},"Not Eligible for Credit"]
[null,null,null,null,null,null,null,null,null,null,null,null,null,"New_Jersey","Morris County",{"$f":"CONCATENATE(tLists4[[#This Row],[State]],\", \",tLists4[[#This Row],[County]])","v":"New_Jersey, Morris County"},"Not Eligible for Credit"]
[null,null,null,null,null,null,null,null,null,null,null,null,null,"New_Jersey","Ocean County",{"$f":"CONCATENATE(tLists4[[#This Row],[State]],\", \",tLists4[[#This Row],[County]])","v":"New_Jersey, Ocean County"},3]
[null,null,null,null,null,null,null,null,null,null,null,null,null,"New_Jersey","Passaic County",{"$f":"CONCATENATE(tLists4[[#This Row],[State]],\", \",tLists4[[#This Row],[County]])","v":"New_Jersey, Passaic County"},"Not Eligible for Credit"]
[null,null,null,null,null,null,null,null,null,null,null,null,null,"New_Jersey","Salem County",{"$f":"CONCATENATE(tLists4[[#This Row],[State]],\", \",tLists4[[#This Row],[County]])","v":"New_Jersey, Salem County"},"Not Eligible for Credit"]
[null,null,null,null,null,null,null,null,null,null,null,null,null,"New_Jersey","Somerset County",{"$f":"CONCATENATE(tLists4[[#This Row],[State]],\", \",tLists4[[#This Row],[County]])","v":"New_Jersey, Somerset County"},"Not Eligible for Credit"]
[null,null,null,null,null,null,null,null,null,null,null,null,null,"New_Jersey","Sussex County",{"$f":"CONCATENATE(tLists4[[#This Row],[State]],\", \",tLists4[[#This Row],[County]])","v":"New_Jersey, Sussex County"},"Not Eligible for Credit"]
[null,null,null,null,null,null,null,null,null,null,null,null,null,"New_Jersey","Union County",{"$f":"CONCATENATE(tLists4[[#This Row],[State]],\", \",tLists4[[#This Row],[County]])","v":"New_Jersey, Union County"},"Not Eligible for Credit"]
[null,null,null,null,null,null,null,null,null,null,null,null,null,"New_Jersey","Warren County",{"$f":"CONCATENATE(tLists4[[#This Row],[State]],\", \",tLists4[[#This Row],[County]])","v":"New_Jersey, Warren County"},"Not Eligible for Credit"]
[null,null,null,null,null,null,null,null,null,null,null,null,null,"New_Mexico","Bernalillo County",{"$f":"CONCATENATE(tLists4[[#This Row],[State]],\", \",tLists4[[#This Row],[County]])","v":"New_Mexico, Bernalillo County"},6]
[null,null,null,null,null,null,null,null,null,null,null,null,null,"New_Mexico","Catron County",{"$f":"CONCATENATE(tLists4[[#This Row],[State]],\", \",tLists4[[#This Row],[County]])","v":"New_Mexico, Catron County"},6]
[null,null,null,null,null,null,null,null,null,null,null,null,null,"New_Mexico","Chaves County",{"$f":"CONCATENATE(tLists4[[#This Row],[State]],\", \",tLists4[[#This Row],[County]])","v":"New_Mexico, Chaves County"},3]
[null,null,null,null,null,null,null,null,null,null,null,null,null,"New_Mexico","Cibola County",{"$f":"CONCATENATE(tLists4[[#This Row],[State]],\", \",tLists4[[#This Row],[County]])","v":"New_Mexico, Cibola County"},6]
[null,null,null,null,null,null,null,null,null,null,null,null,null,"New_Mexico","Colfax County",{"$f":"CONCATENATE(tLists4[[#This Row],[State]],\", \",tLists4[[#This Row],[County]])","v":"New_Mexico, Colfax County"},3]
[null,null,null,null,null,null,null,null,null,null,null,null,null,"New_Mexico","Curry County",{"$f":"CONCATENATE(tLists4[[#This Row],[State]],\", \",tLists4[[#This Row],[County]])","v":"New_Mexico, Curry County"},3]
[null,null,null,null,null,null,null,null,null,null,null,null,null,"New_Mexico","De Baca County",{"$f":"CONCATENATE(tLists4[[#This Row],[State]],\", \",tLists4[[#This Row],[County]])","v":"New_Mexico, De Baca County"},3]
[null,null,null,null,null,null,null,null,null,null,null,null,null,"New_Mexico","Doña Ana County",{"$f":"CONCATENATE(tLists4[[#This Row],[State]],\", \",tLists4[[#This Row],[County]])","v":"New_Mexico, Doña Ana County"},3]
[null,null,null,null,null,null,null,null,null,null,null,null,null,"New_Mexico","Eddy County",{"$f":"CONCATENATE(tLists4[[#This Row],[State]],\", \",tLists4[[#This Row],[County]])","v":"New_Mexico, Eddy County"},3]
[null,null,null,null,null,null,null,null,null,null,null,null,null,"New_Mexico","Grant County",{"$f":"CONCATENATE(tLists4[[#This Row],[State]],\", \",tLists4[[#This Row],[County]])","v":"New_Mexico, Grant County"},6]
[null,null,null,null,null,null,null,null,null,null,null,null,null,"New_Mexico","Guadalupe County",{"$f":"CONCATENATE(tLists4[[#This Row],[State]],\", \",tLists4[[#This Row],[County]])","v":"New_Mexico, Guadalupe County"},3]
[null,null,null,null,null,null,null,null,null,null,null,null,null,"New_Mexico","Harding County",{"$f":"CONCATENATE(tLists4[[#This Row],[State]],\", \",tLists4[[#This Row],[County]])","v":"New_Mexico, Harding County"},3]
[null,null,null,null,null,null,null,null,null,null,null,null,null,"New_Mexico","Hidalgo County",{"$f":"CONCATENATE(tLists4[[#This Row],[State]],\", \",tLists4[[#This Row],[County]])","v":"New_Mexico, Hidalgo County"},3]
[null,null,null,null,null,null,null,null,null,null,null,null,null,"New_Mexico","Lea County",{"$f":"CONCATENATE(tLists4[[#This Row],[State]],\", \",tLists4[[#This Row],[County]])","v":"New_Mexico, Lea County"},3]
[null,null,null,null,null,null,null,null,null,null,null,null,null,"New_Mexico","Lincoln County",{"$f":"CONCATENATE(tLists4[[#This Row],[State]],\", \",tLists4[[#This Row],[County]])","v":"New_Mexico, Lincoln County"},3]
[null,null,null,null,null,null,null,null,null,null,null,null,null,"New_Mexico","Los Alamos County",{"$f":"CONCATENATE(tLists4[[#This Row],[State]],\", \",tLists4[[#This Row],[County]])","v":"New_Mexico, Los Alamos County"},3]
[null,null,null,null,null,null,null,null,null,null,null,null,null,"New_Mexico","Luna County",{"$f":"CONCATENATE(tLists4[[#This Row],[State]],\", \",tLists4[[#This Row],[County]])","v":"New_Mexico, Luna County"},3]
[null,null,null,null,null,null,null,null,null,null,null,null,null,"New_Mexico","McKinley County",{"$f":"CONCATENATE(tLists4[[#This Row],[State]],\", \",tLists4[[#This Row],[County]])","v":"New_Mexico, McKinley County"},6]
[null,null,null,null,null,null,null,null,null,null,null,null,null,"New_Mexico","Mora County",{"$f":"CONCATENATE(tLists4[[#This Row],[State]],\", \",tLists4[[#This Row],[County]])","v":"New_Mexico, Mora County"},3]
[null,null,null,null,null,null,null,null,null,null,null,null,null,"New_Mexico","Otero County",{"$f":"CONCATENATE(tLists4[[#This Row],[State]],\", \",tLists4[[#This Row],[County]])","v":"New_Mexico, Otero County"},3]
[null,null,null,null,null,null,null,null,null,null,null,null,null,"New_Mexico","Quay County",{"$f":"CONCATENATE(tLists4[[#This Row],[State]],\", \",tLists4[[#This Row],[County]])","v":"New_Mexico, Quay County"},3]
[null,null,null,null,null,null,null,null,null,null,null,null,null,"New_Mexico","Rio Arriba County",{"$f":"CONCATENATE(tLists4[[#This Row],[State]],\", \",tLists4[[#This Row],[County]])","v":"New_Mexico, Rio Arriba County"},3]
[null,null,null,null,null,null,null,null,null,null,null,null,null,"New_Mexico","Roosevelt County",{"$f":"CONCATENATE(tLists4[[#This Row],[State]],\", \",tLists4[[#This Row],[County]])","v":"New_Mexico, Roosevelt County"},3]
[null,null,null,null,null,null,null,null,null,null,null,null,null,"New_Mexico","San Juan County",{"$f":"CONCATENATE(tLists4[[#This Row],[State]],\", \",tLists4[[#This Row],[County]])","v":"New_Mexico, San Juan County"},6]
[null,null,null,null,null,null,null,null,null,null,null,null,null,"New_Mexico","San Miguel County",{"$f":"CONCATENATE(tLists4[[#This Row],[State]],\", \",tLists4[[#This Row],[County]])","v":"New_Mexico, San Miguel County"},3]
[null,null,null,null,null,null,null,null,null,null,null,null,null,"New_Mexico","Sandoval County",{"$f":"CONCATENATE(tLists4[[#This Row],[State]],\", \",tLists4[[#This Row],[County]])","v":"New_Mexico, Sandoval County"},6]
[null,null,null,null,null,null,null,null,null,null,null,null,null,"New_Mexico","Santa Fe County",{"$f":"CONCATENATE(tLists4[[#This Row],[State]],\", \",tLists4[[#This Row],[County]])","v":"New_Mexico, Santa Fe County"},6]
[null,null,null,null,null,null,null,null,null,null,null,null,null,"New_Mexico","Sierra County",{"$f":"CONCATENATE(tLists4[[#This Row],[State]],\", \",tLists4[[#This Row],[County]])","v":"New_Mexico, Sierra County"},6]
[null,null,null,null,null,null,null,null,null,null,null,null,null,"New_Mexico","Socorro County",{"$f":"CONCATENATE(tLists4[[#This Row],[State]],\", \",tLists4[[#This Row],[County]])","v":"New_Mexico, Socorro County"},6]
[null,null,null,null,null,null,null,null,null,null,null,null,null,"New_Mexico","Taos County",{"$f":"CONCATENATE(tLists4[[#This Row],[State]],\", \",tLists4[[#This Row],[County]])","v":"New_Mexico, Taos County"},3]
[null,null,null,null,null,null,null,null,null,null,null,null,null,"New_Mexico","Torrance County",{"$f":"CONCATENATE(tLists4[[#This Row],[State]],\", \",tLists4[[#This Row],[County]])","v":"New_Mexico, Torrance County"},3]
[null,null,null,null,null,null,null,null,null,null,null,null,null,"New_Mexico","Union County",{"$f":"CONCATENATE(tLists4[[#This Row],[State]],\", \",tLists4[[#This Row],[County]])","v":"New_Mexico, Union County"},3]
[null,null,null,null,null,null,null,null,null,null,null,null,null,"New_Mexico","Valencia County",{"$f":"CONCATENATE(tLists4[[#This Row],[State]],\", \",tLists4[[#This Row],[County]])","v":"New_Mexico, Valencia County"},3]
[null,null,null,null,null,null,null,null,null,null,null,null,null,"New_York","Albany County",{"$f":"CONCATENATE(tLists4[[#This Row],[State]],\", \",tLists4[[#This Row],[County]])","v":"New_York, Albany County"},2]
[null,null,null,null,null,null,null,null,null,null,null,null,null,"New_York","Allegany County",{"$f":"CONCATENATE(tLists4[[#This Row],[State]],\", \",tLists4[[#This Row],[County]])","v":"New_York, Allegany County"},2]
[null,null,null,null,null,null,null,null,null,null,null,null,null,"New_York","Bronx County",{"$f":"CONCATENATE(tLists4[[#This Row],[State]],\", \",tLists4[[#This Row],[County]])","v":"New_York, Bronx County"},2]
[null,null,null,null,null,null,null,null,null,null,null,null,null,"New_York","Broome County",{"$f":"CONCATENATE(tLists4[[#This Row],[State]],\", \",tLists4[[#This Row],[County]])","v":"New_York, Broome County"},2]
[null,null,null,null,null,null,null,null,null,null,null,null,null,"New_York","Cattaraugus County",{"$f":"CONCATENATE(tLists4[[#This Row],[State]],\", \",tLists4[[#This Row],[County]])","v":"New_York, Cattaraugus County"},2]
[null,null,null,null,null,null,null,null,null,null,null,null,null,"New_York","Cayuga County",{"$f":"CONCATENATE(tLists4[[#This Row],[State]],\", \",tLists4[[#This Row],[County]])","v":"New_York, Cayuga County"},2]
[null,null,null,null,null,null,null,null,null,null,null,null,null,"New_York","Chautauqua County",{"$f":"CONCATENATE(tLists4[[#This Row],[State]],\", \",tLists4[[#This Row],[County]])","v":"New_York, Chautauqua County"},2]
[null,null,null,null,null,null,null,null,null,null,null,null,null,"New_York","Chemung County",{"$f":"CONCATENATE(tLists4[[#This Row],[State]],\", \",tLists4[[#This Row],[County]])","v":"New_York, Chemung County"},2]
[null,null,null,null,null,null,null,null,null,null,null,null,null,"New_York","Chenango County",{"$f":"CONCATENATE(tLists4[[#This Row],[State]],\", \",tLists4[[#This Row],[County]])","v":"New_York, Chenango County"},2]
[null,null,null,null,null,null,null,null,null,null,null,null,null,"New_York","Clinton County",{"$f":"CONCATENATE(tLists4[[#This Row],[State]],\", \",tLists4[[#This Row],[County]])","v":"New_York, Clinton County"},3]
[null,null,null,null,null,null,null,null,null,null,null,null,null,"New_York","Columbia County",{"$f":"CONCATENATE(tLists4[[#This Row],[State]],\", \",tLists4[[#This Row],[County]])","v":"New_York, Columbia County"},2]
[null,null,null,null,null,null,null,null,null,null,null,null,null,"New_York","Cortland County",{"$f":"CONCATENATE(tLists4[[#This Row],[State]],\", \",tLists4[[#This Row],[County]])","v":"New_York, Cortland County"},2]
[null,null,null,null,null,null,null,null,null,null,null,null,null,"New_York","Delaware County",{"$f":"CONCATENATE(tLists4[[#This Row],[State]],\", \",tLists4[[#This Row],[County]])","v":"New_York, Delaware County"},2]
[null,null,null,null,null,null,null,null,null,null,null,null,null,"New_York","Dutchess County",{"$f":"CONCATENATE(tLists4[[#This Row],[State]],\", \",tLists4[[#This Row],[County]])","v":"New_York, Dutchess County"},2]
[null,null,null,null,null,null,null,null,null,null,null,null,null,"New_York","Erie County",{"$f":"CONCATENATE(tLists4[[#This Row],[State]],\", \",tLists4[[#This Row],[County]])","v":"New_York, Erie County"},2]
[null,null,null,null,null,null,null,null,null,null,null,null,null,"New_York","Essex County",{"$f":"CONCATENATE(tLists4[[#This Row],[State]],\", \",tLists4[[#This Row],[County]])","v":"New_York, Essex County"},3]
[null,null,null,null,null,null,null,null,null,null,null,null,null,"New_York","Franklin County",{"$f":"CONCATENATE(tLists4[[#This Row],[State]],\", \",tLists4[[#This Row],[County]])","v":"New_York, Franklin County"},2]
[null,null,null,null,null,null,null,null,null,null,null,null,null,"New_York","Fulton County",{"$f":"CONCATENATE(tLists4[[#This Row],[State]],\", \",tLists4[[#This Row],[County]])","v":"New_York, Fulton County"},2]
[null,null,null,null,null,null,null,null,null,null,null,null,null,"New_York","Genesee County",{"$f":"CONCATENATE(tLists4[[#This Row],[State]],\", \",tLists4[[#This Row],[County]])","v":"New_York, Genesee County"},2]
[null,null,null,null,null,null,null,null,null,null,null,null,null,"New_York","Greene County",{"$f":"CONCATENATE(tLists4[[#This Row],[State]],\", \",tLists4[[#This Row],[County]])","v":"New_York, Greene County"},2]
[null,null,null,null,null,null,null,null,null,null,null,null,null,"New_York","Hamilton County",{"$f":"CONCATENATE(tLists4[[#This Row],[State]],\", \",tLists4[[#This Row],[County]])","v":"New_York, Hamilton County"},2]
[null,null,null,null,null,null,null,null,null,null,null,null,null,"New_York","Herkimer County",{"$f":"CONCATENATE(tLists4[[#This Row],[State]],\", \",tLists4[[#This Row],[County]])","v":"New_York, Herkimer County"},2]
[null,null,null,null,null,null,null,null,null,null,null,null,null,"New_York","Jefferson County",{"$f":"CONCATENATE(tLists4[[#This Row],[State]],\", \",tLists4[[#This Row],[County]])","v":"New_York, Jefferson County"},3]
[null,null,null,null,null,null,null,null,null,null,null,null,null,"New_York","Kings County",{"$f":"CONCATENATE(tLists4[[#This Row],[State]],\", \",tLists4[[#This Row],[County]])","v":"New_York, Kings County"},2]
[null,null,null,null,null,null,null,null,null,null,null,null,null,"New_York","Lewis County",{"$f":"CONCATENATE(tLists4[[#This Row],[State]],\", \",tLists4[[#This Row],[County]])","v":"New_York, Lewis County"},2]
[null,null,null,null,null,null,null,null,null,null,null,null,null,"New_York","Livingston County",{"$f":"CONCATENATE(tLists4[[#This Row],[State]],\", \",tLists4[[#This Row],[County]])","v":"New_York, Livingston County"},2]
[null,null,null,null,null,null,null,null,null,null,null,null,null,"New_York","Madison County",{"$f":"CONCATENATE(tLists4[[#This Row],[State]],\", \",tLists4[[#This Row],[County]])","v":"New_York, Madison County"},2]
[null,null,null,null,null,null,null,null,null,null,null,null,null,"New_York","Monroe County",{"$f":"CONCATENATE(tLists4[[#This Row],[State]],\", \",tLists4[[#This Row],[County]])","v":"New_York, Monroe County"},2]
[null,null,null,null,null,null,null,null,null,null,null,null,null,"New_York","Montgomery County",{"$f":"CONCATENATE(tLists4[[#This Row],[State]],\", \",tLists4[[#This Row],[County]])","v":"New_York, Montgomery County"},2]
[null,null,null,null,null,null,null,null,null,null,null,null,null,"New_York","Nassau County",{"$f":"CONCATENATE(tLists4[[#This Row],[State]],\", \",tLists4[[#This Row],[County]])","v":"New_York, Nassau County"},3]
[null,null,null,null,null,null,null,null,null,null,null,null,null,"New_York","New York County",{"$f":"CONCATENATE(tLists4[[#This Row],[State]],\", \",tLists4[[#This Row],[County]])","v":"New_York, New York County"},2]
[null,null,null,null,null,null,null,null,null,null,null,null,null,"New_York","Niagara County",{"$f":"CONCATENATE(tLists4[[#This Row],[State]],\", \",tLists4[[#This Row],[County]])","v":"New_York, Niagara County"},2]
[null,null,null,null,null,null,null,null,null,null,null,null,null,"New_York","Oneida County",{"$f":"CONCATENATE(tLists4[[#This Row],[State]],\", \",tLists4[[#This Row],[County]])","v":"New_York, Oneida County"},2]
[null,null,null,null,null,null,null,null,null,null,null,null,null,"New_York","Onondaga County",{"$f":"CONCATENATE(tLists4[[#This Row],[State]],\", \",tLists4[[#This Row],[County]])","v":"New_York, Onondaga County"},2]
[null,null,null,null,null,null,null,null,null,null,null,null,null,"New_York","Ontario County",{"$f":"CONCATENATE(tLists4[[#This Row],[State]],\", \",tLists4[[#This Row],[County]])","v":"New_York, Ontario County"},2]
[null,null,null,null,null,null,null,null,null,null,null,null,null,"New_York","Orange County",{"$f":"CONCATENATE(tLists4[[#This Row],[State]],\", \",tLists4[[#This Row],[County]])","v":"New_York, Orange County"},"Not Eligible for Credit"]
[null,null,null,null,null,null,null,null,null,null,null,null,null,"New_York","Orleans County",{"$f":"CONCATENATE(tLists4[[#This Row],[State]],\", \",tLists4[[#This Row],[County]])","v":"New_York, Orleans County"},2]
[null,null,null,null,null,null,null,null,null,null,null,null,null,"New_York","Oswego County",{"$f":"CONCATENATE(tLists4[[#This Row],[State]],\", \",tLists4[[#This Row],[County]])","v":"New_York, Oswego County"},2]
[null,null,null,null,null,null,null,null,null,null,null,null,null,"New_York","Otsego County",{"$f":"CONCATENATE(tLists4[[#This Row],[State]],\", \",tLists4[[#This Row],[County]])","v":"New_York, Otsego County"},2]
[null,null,null,null,null,null,null,null,null,null,null,null,null,"New_York","Putnam County",{"$f":"CONCATENATE(tLists4[[#This Row],[State]],\", \",tLists4[[#This Row],[County]])","v":"New_York, Putnam County"},2]
[null,null,null,null,null,null,null,null,null,null,null,null,null,"New_York","Queens County",{"$f":"CONCATENATE(tLists4[[#This Row],[State]],\", \",tLists4[[#This Row],[County]])","v":"New_York, Queens County"},2]
[null,null,null,null,null,null,null,null,null,null,null,null,null,"New_York","Rensselaer County",{"$f":"CONCATENATE(tLists4[[#This Row],[State]],\", \",tLists4[[#This Row],[County]])","v":"New_York, Rensselaer County"},2]
[null,null,null,null,null,null,null,null,null,null,null,null,null,"New_York","Richmond County",{"$f":"CONCATENATE(tLists4[[#This Row],[State]],\", \",tLists4[[#This Row],[County]])","v":"New_York, Richmond County"},"Not Eligible for Credit"]
[null,null,null,null,null,null,null,null,null,null,null,null,null,"New_York","Rockland County",{"$f":"CONCATENATE(tLists4[[#This Row],[State]],\", \",tLists4[[#This Row],[County]])","v":"New_York, Rockland County"},2]
[null,null,null,null,null,null,null,null,null,null,null,null,null,"New_York","Saratoga County",{"$f":"CONCATENATE(tLists4[[#This Row],[State]],\", \",tLists4[[#This Row],[County]])","v":"New_York, Saratoga County"},2]
[null,null,null,null,null,null,null,null,null,null,null,null,null,"New_York","Schenectady County",{"$f":"CONCATENATE(tLists4[[#This Row],[State]],\", \",tLists4[[#This Row],[County]])","v":"New_York, Schenectady County"},2]
[null,null,null,null,null,null,null,null,null,null,null,null,null,"New_York","Schoharie County",{"$f":"CONCATENATE(tLists4[[#This Row],[State]],\", \",tLists4[[#This Row],[County]])","v":"New_York, Schoharie County"},2]
[null,null,null,null,null,null,null,null,null,null,null,null,null,"New_York","Schuyler County",{"$f":"CONCATENATE(tLists4[[#This Row],[State]],\", \",tLists4[[#This Row],[County]])","v":"New_York, Schuyler County"},2]
[null,null,null,null,null,null,null,null,null,null,null,null,null,"New_York","Seneca County",{"$f":"CONCATENATE(tLists4[[#This Row],[State]],\", \",tLists4[[#This Row],[County]])","v":"New_York, Seneca County"},2]
[null,null,null,null,null,null,null,null,null,null,null,null,null,"New_York","St. Lawrence County",{"$f":"CONCATENATE(tLists4[[#This Row],[State]],\", \",tLists4[[#This Row],[County]])","v":"New_York, St. Lawrence County"},2]
[null,null,null,null,null,null,null,null,null,null,null,null,null,"New_York","Steuben County",{"$f":"CONCATENATE(tLists4[[#This Row],[State]],\", \",tLists4[[#This Row],[County]])","v":"New_York, Steuben County"},2]
[null,null,null,null,null,null,null,null,null,null,null,null,null,"New_York","Suffolk County",{"$f":"CONCATENATE(tLists4[[#This Row],[State]],\", \",tLists4[[#This Row],[County]])","v":"New_York, Suffolk County"},3]
[null,null,null,null,null,null,null,null,null,null,null,null,null,"New_York","Sullivan County",{"$f":"CONCATENATE(tLists4[[#This Row],[State]],\", \",tLists4[[#This Row],[County]])","v":"New_York, Sullivan County"},2]
[null,null,null,null,null,null,null,null,null,null,null,null,null,"New_York","Tioga County",{"$f":"CONCATENATE(tLists4[[#This Row],[State]],\", \",tLists4[[#This Row],[County]])","v":"New_York, Tioga County"},2]
[null,null,null,null,null,null,null,null,null,null,null,null,null,"New_York","Tompkins County",{"$f":"CONCATENATE(tLists4[[#This Row],[State]],\", \",tLists4[[#This Row],[County]])","v":"New_York, Tompkins County"},2]
[null,null,null,null,null,null,null,null,null,null,null,null,null,"New_York","Ulster County",{"$f":"CONCATENATE(tLists4[[#This Row],[State]],\", \",tLists4[[#This Row],[County]])","v":"New_York, Ulster County"},2]
[null,null,null,null,null,null,null,null,null,null,null,null,null,"New_York","Warren County",{"$f":"CONCATENATE(tLists4[[#This Row],[State]],\", \",tLists4[[#This Row],[County]])","v":"New_York, Warren County"},3]
[null,null,null,null,null,null,null,null,null,null,null,null,null,"New_York","Washington County",{"$f":"CONCATENATE(tLists4[[#This Row],[State]],\", \",tLists4[[#This Row],[County]])","v":"New_York, Washington County"},2]
[null,null,null,null,null,null,null,null,null,null,null,null,null,"New_York","Wayne County",{"$f":"CONCATENATE(tLists4[[#This Row],[State]],\", \",tLists4[[#This Row],[County]])","v":"New_York, Wayne County"},2]
[null,null,null,null,null,null,null,null,null,null,null,null,null,"New_York","Westchester County",{"$f":"CONCATENATE(tLists4[[#This Row],[State]],\", \",tLists4[[#This Row],[County]])","v":"New_York, Westchester County"},2]
[null,null,null,null,null,null,null,null,null,null,null,null,null,"New_York","Wyoming County",{"$f":"CONCATENATE(tLists4[[#This Row],[State]],\", \",tLists4[[#This Row],[County]])","v":"New_York, Wyoming County"},2]
[null,null,null,null,null,null,null,null,null,null,null,null,null,"New_York","Yates County",{"$f":"CONCATENATE(tLists4[[#This Row],[State]],\", \",tLists4[[#This Row],[County]])","v":"New_York, Yates County"},2]
[null,null,null,null,null,null,null,null,null,null,null,null,null,"North_Carolina","Alamance County",{"$f":"CONCATENATE(tLists4[[#This Row],[State]],\", \",tLists4[[#This Row],[County]])","v":"North_Carolina, Alamance County"},2]
[null,null,null,null,null,null,null,null,null,null,null,null,null,"North_Carolina","Alexander County",{"$f":"CONCATENATE(tLists4[[#This Row],[State]],\", \",tLists4[[#This Row],[County]])","v":"North_Carolina, Alexander County"},3]
[null,null,null,null,null,null,null,null,null,null,null,null,null,"North_Carolina","Alleghany County",{"$f":"CONCATENATE(tLists4[[#This Row],[State]],\", \",tLists4[[#This Row],[County]])","v":"North_Carolina, Alleghany County"},3]
[null,null,null,null,null,null,null,null,null,null,null,null,null,"North_Carolina","Anson County",{"$f":"CONCATENATE(tLists4[[#This Row],[State]],\", \",tLists4[[#This Row],[County]])","v":"North_Carolina, Anson County"},2]
[null,null,null,null,null,null,null,null,null,null,null,null,null,"North_Carolina","Ashe County",{"$f":"CONCATENATE(tLists4[[#This Row],[State]],\", \",tLists4[[#This Row],[County]])","v":"North_Carolina, Ashe County"},3]
[null,null,null,null,null,null,null,null,null,null,null,null,null,"North_Carolina","Avery County",{"$f":"CONCATENATE(tLists4[[#This Row],[State]],\", \",tLists4[[#This Row],[County]])","v":"North_Carolina, Avery County"},3]
[null,null,null,null,null,null,null,null,null,null,null,null,null,"North_Carolina","Beaufort County",{"$f":"CONCATENATE(tLists4[[#This Row],[State]],\", \",tLists4[[#This Row],[County]])","v":"North_Carolina, Beaufort County"},"Not Eligible for Credit"]
[null,null,null,null,null,null,null,null,null,null,null,null,null,"North_Carolina","Bertie County",{"$f":"CONCATENATE(tLists4[[#This Row],[State]],\", \",tLists4[[#This Row],[County]])","v":"North_Carolina, Bertie County"},"Not Eligible for Credit"]
[null,null,null,null,null,null,null,null,null,null,null,null,null,"North_Carolina","Bladen County",{"$f":"CONCATENATE(tLists4[[#This Row],[State]],\", \",tLists4[[#This Row],[County]])","v":"North_Carolina, Bladen County"},2]
[null,null,null,null,null,null,null,null,null,null,null,null,null,"North_Carolina","Brunswick County",{"$f":"CONCATENATE(tLists4[[#This Row],[State]],\", \",tLists4[[#This Row],[County]])","v":"North_Carolina, Brunswick County"},2]
[null,null,null,null,null,null,null,null,null,null,null,null,null,"North_Carolina","Buncombe County",{"$f":"CONCATENATE(tLists4[[#This Row],[State]],\", \",tLists4[[#This Row],[County]])","v":"North_Carolina, Buncombe County"},3]
[null,null,null,null,null,null,null,null,null,null,null,null,null,"North_Carolina","Burke County",{"$f":"CONCATENATE(tLists4[[#This Row],[State]],\", \",tLists4[[#This Row],[County]])","v":"North_Carolina, Burke County"},3]
[null,null,null,null,null,null,null,null,null,null,null,null,null,"North_Carolina","Cabarrus County",{"$f":"CONCATENATE(tLists4[[#This Row],[State]],\", \",tLists4[[#This Row],[County]])","v":"North_Carolina, Cabarrus County"},2]
[null,null,null,null,null,null,null,null,null,null,null,null,null,"North_Carolina","Caldwell County",{"$f":"CONCATENATE(tLists4[[#This Row],[State]],\", \",tLists4[[#This Row],[County]])","v":"North_Carolina, Caldwell County"},2]
[null,null,null,null,null,null,null,null,null,null,null,null,null,"North_Carolina","Camden County",{"$f":"CONCATENATE(tLists4[[#This Row],[State]],\", \",tLists4[[#This Row],[County]])","v":"North_Carolina, Camden County"},"Not Eligible for Credit"]
[null,null,null,null,null,null,null,null,null,null,null,null,null,"North_Carolina","Carteret County",{"$f":"CONCATENATE(tLists4[[#This Row],[State]],\", \",tLists4[[#This Row],[County]])","v":"North_Carolina, Carteret County"},"Not Eligible for Credit"]
[null,null,null,null,null,null,null,null,null,null,null,null,null,"North_Carolina","Caswell County",{"$f":"CONCATENATE(tLists4[[#This Row],[State]],\", \",tLists4[[#This Row],[County]])","v":"North_Carolina, Caswell County"},2]
[null,null,null,null,null,null,null,null,null,null,null,null,null,"North_Carolina","Catawba County",{"$f":"CONCATENATE(tLists4[[#This Row],[State]],\", \",tLists4[[#This Row],[County]])","v":"North_Carolina, Catawba County"},2]
[null,null,null,null,null,null,null,null,null,null,null,null,null,"North_Carolina","Chatham County",{"$f":"CONCATENATE(tLists4[[#This Row],[State]],\", \",tLists4[[#This Row],[County]])","v":"North_Carolina, Chatham County"},2]
[null,null,null,null,null,null,null,null,null,null,null,null,null,"North_Carolina","Cherokee County",{"$f":"CONCATENATE(tLists4[[#This Row],[State]],\", \",tLists4[[#This Row],[County]])","v":"North_Carolina, Cherokee County"},2]
[null,null,null,null,null,null,null,null,null,null,null,null,null,"North_Carolina","Chowan County",{"$f":"CONCATENATE(tLists4[[#This Row],[State]],\", \",tLists4[[#This Row],[County]])","v":"North_Carolina, Chowan County"},"Not Eligible for Credit"]
[null,null,null,null,null,null,null,null,null,null,null,null,null,"North_Carolina","Clay County",{"$f":"CONCATENATE(tLists4[[#This Row],[State]],\", \",tLists4[[#This Row],[County]])","v":"North_Carolina, Clay County"},2]
[null,null,null,null,null,null,null,null,null,null,null,null,null,"North_Carolina","Cleveland County",{"$f":"CONCATENATE(tLists4[[#This Row],[State]],\", \",tLists4[[#This Row],[County]])","v":"North_Carolina, Cleveland County"},2]
[null,null,null,null,null,null,null,null,null,null,null,null,null,"North_Carolina","Columbus County",{"$f":"CONCATENATE(tLists4[[#This Row],[State]],\", \",tLists4[[#This Row],[County]])","v":"North_Carolina, Columbus County"},2]
[null,null,null,null,null,null,null,null,null,null,null,null,null,"North_Carolina","Craven County",{"$f":"CONCATENATE(tLists4[[#This Row],[State]],\", \",tLists4[[#This Row],[County]])","v":"North_Carolina, Craven County"},"Not Eligible for Credit"]
[null,null,null,null,null,null,null,null,null,null,null,null,null,"North_Carolina","Cumberland County",{"$f":"CONCATENATE(tLists4[[#This Row],[State]],\", \",tLists4[[#This Row],[County]])","v":"North_Carolina, Cumberland County"},2]
[null,null,null,null,null,null,null,null,null,null,null,null,null,"North_Carolina","Currituck County",{"$f":"CONCATENATE(tLists4[[#This Row],[State]],\", \",tLists4[[#This Row],[County]])","v":"North_Carolina, Currituck County"},"Not Eligible for Credit"]
[null,null,null,null,null,null,null,null,null,null,null,null,null,"North_Carolina","Dare County",{"$f":"CONCATENATE(tLists4[[#This Row],[State]],\", \",tLists4[[#This Row],[County]])","v":"North_Carolina, Dare County"},"Not Eligible for Credit"]
[null,null,null,null,null,null,null,null,null,null,null,null,null,"North_Carolina","Davidson County",{"$f":"CONCATENATE(tLists4[[#This Row],[State]],\", \",tLists4[[#This Row],[County]])","v":"North_Carolina, Davidson County"},2]
[null,null,null,null,null,null,null,null,null,null,null,null,null,"North_Carolina","Davie County",{"$f":"CONCATENATE(tLists4[[#This Row],[State]],\", \",tLists4[[#This Row],[County]])","v":"North_Carolina, Davie County"},2]
[null,null,null,null,null,null,null,null,null,null,null,null,null,"North_Carolina","Duplin County",{"$f":"CONCATENATE(tLists4[[#This Row],[State]],\", \",tLists4[[#This Row],[County]])","v":"North_Carolina, Duplin County"},2]
[null,null,null,null,null,null,null,null,null,null,null,null,null,"North_Carolina","Durham County",{"$f":"CONCATENATE(tLists4[[#This Row],[State]],\", \",tLists4[[#This Row],[County]])","v":"North_Carolina, Durham County"},2]
[null,null,null,null,null,null,null,null,null,null,null,null,null,"North_Carolina","Edgecombe County",{"$f":"CONCATENATE(tLists4[[#This Row],[State]],\", \",tLists4[[#This Row],[County]])","v":"North_Carolina, Edgecombe County"},2]
[null,null,null,null,null,null,null,null,null,null,null,null,null,"North_Carolina","Forsyth County",{"$f":"CONCATENATE(tLists4[[#This Row],[State]],\", \",tLists4[[#This Row],[County]])","v":"North_Carolina, Forsyth County"},3]
[null,null,null,null,null,null,null,null,null,null,null,null,null,"North_Carolina","Franklin County",{"$f":"CONCATENATE(tLists4[[#This Row],[State]],\", \",tLists4[[#This Row],[County]])","v":"North_Carolina, Franklin County"},2]
[null,null,null,null,null,null,null,null,null,null,null,null,null,"North_Carolina","Gaston County",{"$f":"CONCATENATE(tLists4[[#This Row],[State]],\", \",tLists4[[#This Row],[County]])","v":"North_Carolina, Gaston County"},2]
[null,null,null,null,null,null,null,null,null,null,null,null,null,"North_Carolina","Gates County",{"$f":"CONCATENATE(tLists4[[#This Row],[State]],\", \",tLists4[[#This Row],[County]])","v":"North_Carolina, Gates County"},"Not Eligible for Credit"]
[null,null,null,null,null,null,null,null,null,null,null,null,null,"North_Carolina","Graham County",{"$f":"CONCATENATE(tLists4[[#This Row],[State]],\", \",tLists4[[#This Row],[County]])","v":"North_Carolina, Graham County"},2]
[null,null,null,null,null,null,null,null,null,null,null,null,null,"North_Carolina","Granville County",{"$f":"CONCATENATE(tLists4[[#This Row],[State]],\", \",tLists4[[#This Row],[County]])","v":"North_Carolina, Granville County"},2]
[null,null,null,null,null,null,null,null,null,null,null,null,null,"North_Carolina","Greene County",{"$f":"CONCATENATE(tLists4[[#This Row],[State]],\", \",tLists4[[#This Row],[County]])","v":"North_Carolina, Greene County"},2]
[null,null,null,null,null,null,null,null,null,null,null,null,null,"North_Carolina","Guilford County",{"$f":"CONCATENATE(tLists4[[#This Row],[State]],\", \",tLists4[[#This Row],[County]])","v":"North_Carolina, Guilford County"},2]
[null,null,null,null,null,null,null,null,null,null,null,null,null,"North_Carolina","Halifax County",{"$f":"CONCATENATE(tLists4[[#This Row],[State]],\", \",tLists4[[#This Row],[County]])","v":"North_Carolina, Halifax County"},2]
[null,null,null,null,null,null,null,null,null,null,null,null,null,"North_Carolina","Harnett County",{"$f":"CONCATENATE(tLists4[[#This Row],[State]],\", \",tLists4[[#This Row],[County]])","v":"North_Carolina, Harnett County"},2]
[null,null,null,null,null,null,null,null,null,null,null,null,null,"North_Carolina","Haywood County",{"$f":"CONCATENATE(tLists4[[#This Row],[State]],\", \",tLists4[[#This Row],[County]])","v":"North_Carolina, Haywood County"},3]
[null,null,null,null,null,null,null,null,null,null,null,null,null,"North_Carolina","Henderson County",{"$f":"CONCATENATE(tLists4[[#This Row],[State]],\", \",tLists4[[#This Row],[County]])","v":"North_Carolina, Henderson County"},2]
[null,null,null,null,null,null,null,null,null,null,null,null,null,"North_Carolina","Hertford County",{"$f":"CONCATENATE(tLists4[[#This Row],[State]],\", \",tLists4[[#This Row],[County]])","v":"North_Carolina, Hertford County"},"Not Eligible for Credit"]
[null,null,null,null,null,null,null,null,null,null,null,null,null,"North_Carolina","Hoke County",{"$f":"CONCATENATE(tLists4[[#This Row],[State]],\", \",tLists4[[#This Row],[County]])","v":"North_Carolina, Hoke County"},2]
[null,null,null,null,null,null,null,null,null,null,null,null,null,"North_Carolina","Hyde County",{"$f":"CONCATENATE(tLists4[[#This Row],[State]],\", \",tLists4[[#This Row],[County]])","v":"North_Carolina, Hyde County"},"Not Eligible for Credit"]
[null,null,null,null,null,null,null,null,null,null,null,null,null,"North_Carolina","Iredell County",{"$f":"CONCATENATE(tLists4[[#This Row],[State]],\", \",tLists4[[#This Row],[County]])","v":"North_Carolina, Iredell County"},2]
[null,null,null,null,null,null,null,null,null,null,null,null,null,"North_Carolina","Jackson County",{"$f":"CONCATENATE(tLists4[[#This Row],[State]],\", \",tLists4[[#This Row],[County]])","v":"North_Carolina, Jackson County"},3]
[null,null,null,null,null,null,null,null,null,null,null,null,null,"North_Carolina","Johnston County",{"$f":"CONCATENATE(tLists4[[#This Row],[State]],\", \",tLists4[[#This Row],[County]])","v":"North_Carolina, Johnston County"},2]
[null,null,null,null,null,null,null,null,null,null,null,null,null,"North_Carolina","Jones County",{"$f":"CONCATENATE(tLists4[[#This Row],[State]],\", \",tLists4[[#This Row],[County]])","v":"North_Carolina, Jones County"},"Not Eligible for Credit"]
[null,null,null,null,null,null,null,null,null,null,null,null,null,"North_Carolina","Lee County",{"$f":"CONCATENATE(tLists4[[#This Row],[State]],\", \",tLists4[[#This Row],[County]])","v":"North_Carolina, Lee County"},2]
[null,null,null,null,null,null,null,null,null,null,null,null,null,"North_Carolina","Lenoir County",{"$f":"CONCATENATE(tLists4[[#This Row],[State]],\", \",tLists4[[#This Row],[County]])","v":"North_Carolina, Lenoir County"},"Not Eligible for Credit"]
[null,null,null,null,null,null,null,null,null,null,null,null,null,"North_Carolina","Lincoln County",{"$f":"CONCATENATE(tLists4[[#This Row],[State]],\", \",tLists4[[#This Row],[County]])","v":"North_Carolina, Lincoln County"},2]
[null,null,null,null,null,null,null,null,null,null,null,null,null,"North_Carolina","Macon County",{"$f":"CONCATENATE(tLists4[[#This Row],[State]],\", \",tLists4[[#This Row],[County]])","v":"North_Carolina, Macon County"},2]
[null,null,null,null,null,null,null,null,null,null,null,null,null,"North_Carolina","Madison County",{"$f":"CONCATENATE(tLists4[[#This Row],[State]],\", \",tLists4[[#This Row],[County]])","v":"North_Carolina, Madison County"},3]
[null,null,null,null,null,null,null,null,null,null,null,null,null,"North_Carolina","Martin County",{"$f":"CONCATENATE(tLists4[[#This Row],[State]],\", \",tLists4[[#This Row],[County]])","v":"North_Carolina, Martin County"},2]
[null,null,null,null,null,null,null,null,null,null,null,null,null,"North_Carolina","McDowell County",{"$f":"CONCATENATE(tLists4[[#This Row],[State]],\", \",tLists4[[#This Row],[County]])","v":"North_Carolina, McDowell County"},2]
[null,null,null,null,null,null,null,null,null,null,null,null,null,"North_Carolina","Mecklenburg County",{"$f":"CONCATENATE(tLists4[[#This Row],[State]],\", \",tLists4[[#This Row],[County]])","v":"North_Carolina, Mecklenburg County"},2]
[null,null,null,null,null,null,null,null,null,null,null,null,null,"North_Carolina","Mitchell County",{"$f":"CONCATENATE(tLists4[[#This Row],[State]],\", \",tLists4[[#This Row],[County]])","v":"North_Carolina, Mitchell County"},2]
[null,null,null,null,null,null,null,null,null,null,null,null,null,"North_Carolina","Montgomery County",{"$f":"CONCATENATE(tLists4[[#This Row],[State]],\", \",tLists4[[#This Row],[County]])","v":"North_Carolina, Montgomery County"},2]
[null,null,null,null,null,null,null,null,null,null,null,null,null,"North_Carolina","Moore County",{"$f":"CONCATENATE(tLists4[[#This Row],[State]],\", \",tLists4[[#This Row],[County]])","v":"North_Carolina, Moore County"},2]
[null,null,null,null,null,null,null,null,null,null,null,null,null,"North_Carolina","Nash County",{"$f":"CONCATENATE(tLists4[[#This Row],[State]],\", \",tLists4[[#This Row],[County]])","v":"North_Carolina, Nash County"},2]
[null,null,null,null,null,null,null,null,null,null,null,null,null,"North_Carolina","New Hanover County",{"$f":"CONCATENATE(tLists4[[#This Row],[State]],\", \",tLists4[[#This Row],[County]])","v":"North_Carolina, New Hanover County"},2]
[null,null,null,null,null,null,null,null,null,null,null,null,null,"North_Carolina","Northampton County",{"$f":"CONCATENATE(tLists4[[#This Row],[State]],\", \",tLists4[[#This Row],[County]])","v":"North_Carolina, Northampton County"},2]
[null,null,null,null,null,null,null,null,null,null,null,null,null,"North_Carolina","Onslow County",{"$f":"CONCATENATE(tLists4[[#This Row],[State]],\", \",tLists4[[#This Row],[County]])","v":"North_Carolina, Onslow County"},2]
[null,null,null,null,null,null,null,null,null,null,null,null,null,"North_Carolina","Orange County",{"$f":"CONCATENATE(tLists4[[#This Row],[State]],\", \",tLists4[[#This Row],[County]])","v":"North_Carolina, Orange County"},"Not Eligible for Credit"]
[null,null,null,null,null,null,null,null,null,null,null,null,null,"North_Carolina","Pamlico County",{"$f":"CONCATENATE(tLists4[[#This Row],[State]],\", \",tLists4[[#This Row],[County]])","v":"North_Carolina, Pamlico County"},"Not Eligible for Credit"]
[null,null,null,null,null,null,null,null,null,null,null,null,null,"North_Carolina","Pasquotank County",{"$f":"CONCATENATE(tLists4[[#This Row],[State]],\", \",tLists4[[#This Row],[County]])","v":"North_Carolina, Pasquotank County"},"Not Eligible for Credit"]
[null,null,null,null,null,null,null,null,null,null,null,null,null,"North_Carolina","Pender County",{"$f":"CONCATENATE(tLists4[[#This Row],[State]],\", \",tLists4[[#This Row],[County]])","v":"North_Carolina, Pender County"},2]
[null,null,null,null,null,null,null,null,null,null,null,null,null,"North_Carolina","Perquimans County",{"$f":"CONCATENATE(tLists4[[#This Row],[State]],\", \",tLists4[[#This Row],[County]])","v":"North_Carolina, Perquimans County"},"Not Eligible for Credit"]
[null,null,null,null,null,null,null,null,null,null,null,null,null,"North_Carolina","Person County",{"$f":"CONCATENATE(tLists4[[#This Row],[State]],\", \",tLists4[[#This Row],[County]])","v":"North_Carolina, Person County"},2]
[null,null,null,null,null,null,null,null,null,null,null,null,null,"North_Carolina","Pitt County",{"$f":"CONCATENATE(tLists4[[#This Row],[State]],\", \",tLists4[[#This Row],[County]])","v":"North_Carolina, Pitt County"},"Not Eligible for Credit"]
[null,null,null,null,null,null,null,null,null,null,null,null,null,"North_Carolina","Polk County",{"$f":"CONCATENATE(tLists4[[#This Row],[State]],\", \",tLists4[[#This Row],[County]])","v":"North_Carolina, Polk County"},3]
[null,null,null,null,null,null,null,null,null,null,null,null,null,"North_Carolina","Randolph County",{"$f":"CONCATENATE(tLists4[[#This Row],[State]],\", \",tLists4[[#This Row],[County]])","v":"North_Carolina, Randolph County"},2]
[null,null,null,null,null,null,null,null,null,null,null,null,null,"North_Carolina","Richmond County",{"$f":"CONCATENATE(tLists4[[#This Row],[State]],\", \",tLists4[[#This Row],[County]])","v":"North_Carolina, Richmond County"},2]
[null,null,null,null,null,null,null,null,null,null,null,null,null,"North_Carolina","Robeson County",{"$f":"CONCATENATE(tLists4[[#This Row],[State]],\", \",tLists4[[#This Row],[County]])","v":"North_Carolina, Robeson County"},2]
[null,null,null,null,null,null,null,null,null,null,null,null,null,"North_Carolina","Rockingham County",{"$f":"CONCATENATE(tLists4[[#This Row],[State]],\", \",tLists4[[#This Row],[County]])","v":"North_Carolina, Rockingham County"},2]
[null,null,null,null,null,null,null,null,null,null,null,null,null,"North_Carolina","Rowan County",{"$f":"CONCATENATE(tLists4[[#This Row],[State]],\", \",tLists4[[#This Row],[County]])","v":"North_Carolina, Rowan County"},2]
[null,null,null,null,null,null,null,null,null,null,null,null,null,"North_Carolina","Rutherford County",{"$f":"CONCATENATE(tLists4[[#This Row],[State]],\", \",tLists4[[#This Row],[County]])","v":"North_Carolina, Rutherford County"},2]
[null,null,null,null,null,null,null,null,null,null,null,null,null,"North_Carolina","Sampson County",{"$f":"CONCATENATE(tLists4[[#This Row],[State]],\", \",tLists4[[#This Row],[County]])","v":"North_Carolina, Sampson County"},2]
[null,null,null,null,null,null,null,null,null,null,null,null,null,"North_Carolina","Scotland County",{"$f":"CONCATENATE(tLists4[[#This Row],[State]],\", \",tLists4[[#This Row],[County]])","v":"North_Carolina, Scotland County"},2]
[null,null,null,null,null,null,null,null,null,null,null,null,null,"North_Carolina","Stanly County",{"$f":"CONCATENATE(tLists4[[#This Row],[State]],\", \",tLists4[[#This Row],[County]])","v":"North_Carolina, Stanly County"},2]
[null,null,null,null,null,null,null,null,null,null,null,null,null,"North_Carolina","Stokes County",{"$f":"CONCATENATE(tLists4[[#This Row],[State]],\", \",tLists4[[#This Row],[County]])","v":"North_Carolina, Stokes County"},2]
[null,null,null,null,null,null,null,null,null,null,null,null,null,"North_Carolina","Surry County",{"$f":"CONCATENATE(tLists4[[#This Row],[State]],\", \",tLists4[[#This Row],[County]])","v":"North_Carolina, Surry County"},2]
[null,null,null,null,null,null,null,null,null,null,null,null,null,"North_Carolina","Swain County",{"$f":"CONCATENATE(tLists4[[#This Row],[State]],\", \",tLists4[[#This Row],[County]])","v":"North_Carolina, Swain County"},3]
[null,null,null,null,null,null,null,null,null,null,null,null,null,"North_Carolina","Transylvania County",{"$f":"CONCATENATE(tLists4[[#This Row],[State]],\", \",tLists4[[#This Row],[County]])","v":"North_Carolina, Transylvania County"},2]
[null,null,null,null,null,null,null,null,null,null,null,null,null,"North_Carolina","Tyrrell County",{"$f":"CONCATENATE(tLists4[[#This Row],[State]],\", \",tLists4[[#This Row],[County]])","v":"North_Carolina, Tyrrell County"},"Not Eligible for Credit"]
[null,null,null,null,null,null,null,null,null,null,null,null,null,"North_Carolina","Union County",{"$f":"CONCATENATE(tLists4[[#This Row],[State]],\", \",tLists4[[#This Row],[County]])","v":"North_Carolina, Union County"},2]
[null,null,null,null,null,null,null,null,null,null,null,null,null,"North_Carolina","Vance County",{"$f":"CONCATENATE(tLists4[[#This Row],[State]],\", \",tLists4[[#This Row],[County]])","v":"North_Carolina, Vance County"},2]
[null,null,null,null,null,null,null,null,null,null,null,null,null,"North_Carolina","Wake County",{"$f":"CONCATENATE(tLists4[[#This Row],[State]],\", \",tLists4[[#This Row],[County]])","v":"North_Carolina, Wake County"},2]
[null,null,null,null,null,null,null,null,null,null,null,null,null,"North_Carolina","Warren County",{"$f":"CONCATENATE(tLists4[[#This Row],[State]],\", \",tLists4[[#This Row],[County]])","v":"North_Carolina, Warren County"},2]
[null,null,null,null,null,null,null,null,null,null,null,null,null,"North_Carolina","Washington County",{"$f":"CONCATENATE(tLists4[[#This Row],[State]],\", \",tLists4[[#This Row],[County]])","v":"North_Carolina, Washington County"},"Not Eligible for Credit"]
[null,null,null,null,null,null,null,null,null,null,null,null,null,"North_Carolina","Watauga County",{"$f":"CONCATENATE(tLists4[[#This Row],[State]],\", \",tLists4[[#This Row],[County]])","v":"North_Carolina, Watauga County"},3]
[null,null,null,null,null,null,null,null,null,null,null,null,null,"North_Carolina","Wayne County",{"$f":"CONCATENATE(tLists4[[#This Row],[State]],\", \",tLists4[[#This Row],[County]])","v":"North_Carolina, Wayne County"},"Not Eligible for Credit"]
[null,null,null,null,null,null,null,null,null,null,null,null,null,"North_Carolina","Wilkes County",{"$f":"CONCATENATE(tLists4[[#This Row],[State]],\", \",tLists4[[#This Row],[County]])","v":"North_Carolina, Wilkes County"},3]
[null,null,null,null,null,null,null,null,null,null,null,null,null,"North_Carolina","Wilson County",{"$f":"CONCATENATE(tLists4[[#This Row],[State]],\", \",tLists4[[#This Row],[County]])","v":"North_Carolina, Wilson County"},2]
[null,null,null,null,null,null,null,null,null,null,null,null,null,"North_Carolina","Yadkin County",{"$f":"CONCATENATE(tLists4[[#This Row],[State]],\", \",tLists4[[#This Row],[County]])","v":"North_Carolina, Yadkin County"},2]
[null,null,null,null,null,null,null,null,null,null,null,null,null,"North_Carolina","Yancey County",{"$f":"CONCATENATE(tLists4[[#This Row],[State]],\", \",tLists4[[#This Row],[County]])","v":"North_Carolina, Yancey County"},3]
[null,null,null,null,null,null,null,null,null,null,null,null,null,"North_Dakota","Adams County",{"$f":"CONCATENATE(tLists4[[#This Row],[State]],\", \",tLists4[[#This Row],[County]])","v":"North_Dakota, Adams County"},2]
[null,null,null,null,null,null,null,null,null,null,null,null,null,"North_Dakota","Barnes County",{"$f":"CONCATENATE(tLists4[[#This Row],[State]],\", \",tLists4[[#This Row],[County]])","v":"North_Dakota, Barnes County"},3]
[null,null,null,null,null,null,null,null,null,null,null,null,null,"North_Dakota","Benson County",{"$f":"CONCATENATE(tLists4[[#This Row],[State]],\", \",tLists4[[#This Row],[County]])","v":"North_Dakota, Benson County"},2]
[null,null,null,null,null,null,null,null,null,null,null,null,null,"North_Dakota","Billings County",{"$f":"CONCATENATE(tLists4[[#This Row],[State]],\", \",tLists4[[#This Row],[County]])","v":"North_Dakota, Billings County"},2]
[null,null,null,null,null,null,null,null,null,null,null,null,null,"North_Dakota","Bottineau County",{"$f":"CONCATENATE(tLists4[[#This Row],[State]],\", \",tLists4[[#This Row],[County]])","v":"North_Dakota, Bottineau County"},3]
[null,null,null,null,null,null,null,null,null,null,null,null,null,"North_Dakota","Bowman County",{"$f":"CONCATENATE(tLists4[[#This Row],[State]],\", \",tLists4[[#This Row],[County]])","v":"North_Dakota, Bowman County"},2]
[null,null,null,null,null,null,null,null,null,null,null,null,null,"North_Dakota","Burke County",{"$f":"CONCATENATE(tLists4[[#This Row],[State]],\", \",tLists4[[#This Row],[County]])","v":"North_Dakota, Burke County"},3]
[null,null,null,null,null,null,null,null,null,null,null,null,null,"North_Dakota","Burleigh County",{"$f":"CONCATENATE(tLists4[[#This Row],[State]],\", \",tLists4[[#This Row],[County]])","v":"North_Dakota, Burleigh County"},2]
[null,null,null,null,null,null,null,null,null,null,null,null,null,"North_Dakota","Cass County",{"$f":"CONCATENATE(tLists4[[#This Row],[State]],\", \",tLists4[[#This Row],[County]])","v":"North_Dakota, Cass County"},2]
[null,null,null,null,null,null,null,null,null,null,null,null,null,"North_Dakota","Cavalier County",{"$f":"CONCATENATE(tLists4[[#This Row],[State]],\", \",tLists4[[#This Row],[County]])","v":"North_Dakota, Cavalier County"},2]
[null,null,null,null,null,null,null,null,null,null,null,null,null,"North_Dakota","Dickey County",{"$f":"CONCATENATE(tLists4[[#This Row],[State]],\", \",tLists4[[#This Row],[County]])","v":"North_Dakota, Dickey County"},2]
[null,null,null,null,null,null,null,null,null,null,null,null,null,"North_Dakota","Divide County",{"$f":"CONCATENATE(tLists4[[#This Row],[State]],\", \",tLists4[[#This Row],[County]])","v":"North_Dakota, Divide County"},3]
[null,null,null,null,null,null,null,null,null,null,null,null,null,"North_Dakota","Dunn County",{"$f":"CONCATENATE(tLists4[[#This Row],[State]],\", \",tLists4[[#This Row],[County]])","v":"North_Dakota, Dunn County"},2]
[null,null,null,null,null,null,null,null,null,null,null,null,null,"North_Dakota","Eddy County",{"$f":"CONCATENATE(tLists4[[#This Row],[State]],\", \",tLists4[[#This Row],[County]])","v":"North_Dakota, Eddy County"},2]
[null,null,null,null,null,null,null,null,null,null,null,null,null,"North_Dakota","Emmons County",{"$f":"CONCATENATE(tLists4[[#This Row],[State]],\", \",tLists4[[#This Row],[County]])","v":"North_Dakota, Emmons County"},2]
[null,null,null,null,null,null,null,null,null,null,null,null,null,"North_Dakota","Foster County",{"$f":"CONCATENATE(tLists4[[#This Row],[State]],\", \",tLists4[[#This Row],[County]])","v":"North_Dakota, Foster County"},2]
[null,null,null,null,null,null,null,null,null,null,null,null,null,"North_Dakota","Golden Valley County",{"$f":"CONCATENATE(tLists4[[#This Row],[State]],\", \",tLists4[[#This Row],[County]])","v":"North_Dakota, Golden Valley County"},3]
[null,null,null,null,null,null,null,null,null,null,null,null,null,"North_Dakota","Grand Forks County",{"$f":"CONCATENATE(tLists4[[#This Row],[State]],\", \",tLists4[[#This Row],[County]])","v":"North_Dakota, Grand Forks County"},2]
[null,null,null,null,null,null,null,null,null,null,null,null,null,"North_Dakota","Grant County",{"$f":"CONCATENATE(tLists4[[#This Row],[State]],\", \",tLists4[[#This Row],[County]])","v":"North_Dakota, Grant County"},2]
[null,null,null,null,null,null,null,null,null,null,null,null,null,"North_Dakota","Griggs County",{"$f":"CONCATENATE(tLists4[[#This Row],[State]],\", \",tLists4[[#This Row],[County]])","v":"North_Dakota, Griggs County"},2]
[null,null,null,null,null,null,null,null,null,null,null,null,null,"North_Dakota","Hettinger County",{"$f":"CONCATENATE(tLists4[[#This Row],[State]],\", \",tLists4[[#This Row],[County]])","v":"North_Dakota, Hettinger County"},2]
[null,null,null,null,null,null,null,null,null,null,null,null,null,"North_Dakota","Kidder County",{"$f":"CONCATENATE(tLists4[[#This Row],[State]],\", \",tLists4[[#This Row],[County]])","v":"North_Dakota, Kidder County"},2]
[null,null,null,null,null,null,null,null,null,null,null,null,null,"North_Dakota","LaMoure County",{"$f":"CONCATENATE(tLists4[[#This Row],[State]],\", \",tLists4[[#This Row],[County]])","v":"North_Dakota, LaMoure County"},2]
[null,null,null,null,null,null,null,null,null,null,null,null,null,"North_Dakota","Logan County",{"$f":"CONCATENATE(tLists4[[#This Row],[State]],\", \",tLists4[[#This Row],[County]])","v":"North_Dakota, Logan County"},2]
[null,null,null,null,null,null,null,null,null,null,null,null,null,"North_Dakota","McHenry County",{"$f":"CONCATENATE(tLists4[[#This Row],[State]],\", \",tLists4[[#This Row],[County]])","v":"North_Dakota, McHenry County"},3]
[null,null,null,null,null,null,null,null,null,null,null,null,null,"North_Dakota","McIntosh County",{"$f":"CONCATENATE(tLists4[[#This Row],[State]],\", \",tLists4[[#This Row],[County]])","v":"North_Dakota, McIntosh County"},2]
[null,null,null,null,null,null,null,null,null,null,null,null,null,"North_Dakota","McKenzie County",{"$f":"CONCATENATE(tLists4[[#This Row],[State]],\", \",tLists4[[#This Row],[County]])","v":"North_Dakota, McKenzie County"},2]
[null,null,null,null,null,null,null,null,null,null,null,null,null,"North_Dakota","McLean County",{"$f":"CONCATENATE(tLists4[[#This Row],[State]],\", \",tLists4[[#This Row],[County]])","v":"North_Dakota, McLean County"},2]
[null,null,null,null,null,null,null,null,null,null,null,null,null,"North_Dakota","Mercer County",{"$f":"CONCATENATE(tLists4[[#This Row],[State]],\", \",tLists4[[#This Row],[County]])","v":"North_Dakota, Mercer County"},2]
[null,null,null,null,null,null,null,null,null,null,null,null,null,"North_Dakota","Morton County",{"$f":"CONCATENATE(tLists4[[#This Row],[State]],\", \",tLists4[[#This Row],[County]])","v":"North_Dakota, Morton County"},2]
[null,null,null,null,null,null,null,null,null,null,null,null,null,"North_Dakota","Mountrail County",{"$f":"CONCATENATE(tLists4[[#This Row],[State]],\", \",tLists4[[#This Row],[County]])","v":"North_Dakota, Mountrail County"},2]
[null,null,null,null,null,null,null,null,null,null,null,null,null,"North_Dakota","Nelson County",{"$f":"CONCATENATE(tLists4[[#This Row],[State]],\", \",tLists4[[#This Row],[County]])","v":"North_Dakota, Nelson County"},3]
[null,null,null,null,null,null,null,null,null,null,null,null,null,"North_Dakota","Oliver County",{"$f":"CONCATENATE(tLists4[[#This Row],[State]],\", \",tLists4[[#This Row],[County]])","v":"North_Dakota, Oliver County"},2]
[null,null,null,null,null,null,null,null,null,null,null,null,null,"North_Dakota","Pembina County",{"$f":"CONCATENATE(tLists4[[#This Row],[State]],\", \",tLists4[[#This Row],[County]])","v":"North_Dakota, Pembina County"},2]
[null,null,null,null,null,null,null,null,null,null,null,null,null,"North_Dakota","Pierce County",{"$f":"CONCATENATE(tLists4[[#This Row],[State]],\", \",tLists4[[#This Row],[County]])","v":"North_Dakota, Pierce County"},3]
[null,null,null,null,null,null,null,null,null,null,null,null,null,"North_Dakota","Ramsey County",{"$f":"CONCATENATE(tLists4[[#This Row],[State]],\", \",tLists4[[#This Row],[County]])","v":"North_Dakota, Ramsey County"},3]
[null,null,null,null,null,null,null,null,null,null,null,null,null,"North_Dakota","Ransom County",{"$f":"CONCATENATE(tLists4[[#This Row],[State]],\", \",tLists4[[#This Row],[County]])","v":"North_Dakota, Ransom County"},2]
[null,null,null,null,null,null,null,null,null,null,null,null,null,"North_Dakota","Renville County",{"$f":"CONCATENATE(tLists4[[#This Row],[State]],\", \",tLists4[[#This Row],[County]])","v":"North_Dakota, Renville County"},3]
[null,null,null,null,null,null,null,null,null,null,null,null,null,"North_Dakota","Richland County",{"$f":"CONCATENATE(tLists4[[#This Row],[State]],\", \",tLists4[[#This Row],[County]])","v":"North_Dakota, Richland County"},2]
[null,null,null,null,null,null,null,null,null,null,null,null,null,"North_Dakota","Rolette County",{"$f":"CONCATENATE(tLists4[[#This Row],[State]],\", \",tLists4[[#This Row],[County]])","v":"North_Dakota, Rolette County"},3]
[null,null,null,null,null,null,null,null,null,null,null,null,null,"North_Dakota","Sargent County",{"$f":"CONCATENATE(tLists4[[#This Row],[State]],\", \",tLists4[[#This Row],[County]])","v":"North_Dakota, Sargent County"},2]
[null,null,null,null,null,null,null,null,null,null,null,null,null,"North_Dakota","Sheridan County",{"$f":"CONCATENATE(tLists4[[#This Row],[State]],\", \",tLists4[[#This Row],[County]])","v":"North_Dakota, Sheridan County"},2]
[null,null,null,null,null,null,null,null,null,null,null,null,null,"North_Dakota","Sioux County",{"$f":"CONCATENATE(tLists4[[#This Row],[State]],\", \",tLists4[[#This Row],[County]])","v":"North_Dakota, Sioux County"},2]
[null,null,null,null,null,null,null,null,null,null,null,null,null,"North_Dakota","Slope County",{"$f":"CONCATENATE(tLists4[[#This Row],[State]],\", \",tLists4[[#This Row],[County]])","v":"North_Dakota, Slope County"},2]
[null,null,null,null,null,null,null,null,null,null,null,null,null,"North_Dakota","Stark County",{"$f":"CONCATENATE(tLists4[[#This Row],[State]],\", \",tLists4[[#This Row],[County]])","v":"North_Dakota, Stark County"},2]
[null,null,null,null,null,null,null,null,null,null,null,null,null,"North_Dakota","Steele County",{"$f":"CONCATENATE(tLists4[[#This Row],[State]],\", \",tLists4[[#This Row],[County]])","v":"North_Dakota, Steele County"},2]
[null,null,null,null,null,null,null,null,null,null,null,null,null,"North_Dakota","Stutsman County",{"$f":"CONCATENATE(tLists4[[#This Row],[State]],\", \",tLists4[[#This Row],[County]])","v":"North_Dakota, Stutsman County"},3]
[null,null,null,null,null,null,null,null,null,null,null,null,null,"North_Dakota","Towner County",{"$f":"CONCATENATE(tLists4[[#This Row],[State]],\", \",tLists4[[#This Row],[County]])","v":"North_Dakota, Towner County"},3]
[null,null,null,null,null,null,null,null,null,null,null,null,null,"North_Dakota","Traill County",{"$f":"CONCATENATE(tLists4[[#This Row],[State]],\", \",tLists4[[#This Row],[County]])","v":"North_Dakota, Traill County"},2]
[null,null,null,null,null,null,null,null,null,null,null,null,null,"North_Dakota","Walsh County",{"$f":"CONCATENATE(tLists4[[#This Row],[State]],\", \",tLists4[[#This Row],[County]])","v":"North_Dakota, Walsh County"},2]
[null,null,null,null,null,null,null,null,null,null,null,null,null,"North_Dakota","Ward County",{"$f":"CONCATENATE(tLists4[[#This Row],[State]],\", \",tLists4[[#This Row],[County]])","v":"North_Dakota, Ward County"},3]
[null,null,null,null,null,null,null,null,null,null,null,null,null,"North_Dakota","Wells County",{"$f":"CONCATENATE(tLists4[[#This Row],[State]],\", \",tLists4[[#This Row],[County]])","v":"North_Dakota, Wells County"},2]
[null,null,null,null,null,null,null,null,null,null,null,null,null,"North_Dakota","Williams County",{"$f":"CONCATENATE(tLists4[[#This Row],[State]],\", \",tLists4[[#This Row],[County]])","v":"North_Dakota, Williams County"},3]
[null,null,null,null,null,null,null,null,null,null,null,null,null,"Ohio","Adams County",{"$f":"CONCATENATE(tLists4[[#This Row],[State]],\", \",tLists4[[#This Row],[County]])","v":"Ohio, Adams County"},2]
[null,null,null,null,null,null,null,null,null,null,null,null,null,"Ohio","Allen County",{"$f":"CONCATENATE(tLists4[[#This Row],[State]],\", \",tLists4[[#This Row],[County]])","v":"Ohio, Allen County"},2]
[null,null,null,null,null,null,null,null,null,null,null,null,null,"Ohio","Ashland County",{"$f":"CONCATENATE(tLists4[[#This Row],[State]],\", \",tLists4[[#This Row],[County]])","v":"Ohio, Ashland County"},2]
[null,null,null,null,null,null,null,null,null,null,null,null,null,"Ohio","Ashtabula County",{"$f":"CONCATENATE(tLists4[[#This Row],[State]],\", \",tLists4[[#This Row],[County]])","v":"Ohio, Ashtabula County"},2]
[null,null,null,null,null,null,null,null,null,null,null,null,null,"Ohio","Athens County",{"$f":"CONCATENATE(tLists4[[#This Row],[State]],\", \",tLists4[[#This Row],[County]])","v":"Ohio, Athens County"},2]
[null,null,null,null,null,null,null,null,null,null,null,null,null,"Ohio","Auglaize County",{"$f":"CONCATENATE(tLists4[[#This Row],[State]],\", \",tLists4[[#This Row],[County]])","v":"Ohio, Auglaize County"},2]
[null,null,null,null,null,null,null,null,null,null,null,null,null,"Ohio","Belmont County",{"$f":"CONCATENATE(tLists4[[#This Row],[State]],\", \",tLists4[[#This Row],[County]])","v":"Ohio, Belmont County"},2]
[null,null,null,null,null,null,null,null,null,null,null,null,null,"Ohio","Brown County",{"$f":"CONCATENATE(tLists4[[#This Row],[State]],\", \",tLists4[[#This Row],[County]])","v":"Ohio, Brown County"},2]
[null,null,null,null,null,null,null,null,null,null,null,null,null,"Ohio","Butler County",{"$f":"CONCATENATE(tLists4[[#This Row],[State]],\", \",tLists4[[#This Row],[County]])","v":"Ohio, Butler County"},2]
[null,null,null,null,null,null,null,null,null,null,null,null,null,"Ohio","Carroll County",{"$f":"CONCATENATE(tLists4[[#This Row],[State]],\", \",tLists4[[#This Row],[County]])","v":"Ohio, Carroll County"},3]
[null,null,null,null,null,null,null,null,null,null,null,null,null,"Ohio","Champaign County",{"$f":"CONCATENATE(tLists4[[#This Row],[State]],\", \",tLists4[[#This Row],[County]])","v":"Ohio, Champaign County"},3]
[null,null,null,null,null,null,null,null,null,null,null,null,null,"Ohio","Clark County",{"$f":"CONCATENATE(tLists4[[#This Row],[State]],\", \",tLists4[[#This Row],[County]])","v":"Ohio, Clark County"},3]
[null,null,null,null,null,null,null,null,null,null,null,null,null,"Ohio","Clermont County",{"$f":"CONCATENATE(tLists4[[#This Row],[State]],\", \",tLists4[[#This Row],[County]])","v":"Ohio, Clermont County"},2]
[null,null,null,null,null,null,null,null,null,null,null,null,null,"Ohio","Clinton County",{"$f":"CONCATENATE(tLists4[[#This Row],[State]],\", \",tLists4[[#This Row],[County]])","v":"Ohio, Clinton County"},2]
[null,null,null,null,null,null,null,null,null,null,null,null,null,"Ohio","Columbiana County",{"$f":"CONCATENATE(tLists4[[#This Row],[State]],\", \",tLists4[[#This Row],[County]])","v":"Ohio, Columbiana County"},2]
[null,null,null,null,null,null,null,null,null,null,null,null,null,"Ohio","Coshocton County",{"$f":"CONCATENATE(tLists4[[#This Row],[State]],\", \",tLists4[[#This Row],[County]])","v":"Ohio, Coshocton County"},3]
[null,null,null,null,null,null,null,null,null,null,null,null,null,"Ohio","Crawford County",{"$f":"CONCATENATE(tLists4[[#This Row],[State]],\", \",tLists4[[#This Row],[County]])","v":"Ohio, Crawford County"},2]
[null,null,null,null,null,null,null,null,null,null,null,null,null,"Ohio","Cuyahoga County",{"$f":"CONCATENATE(tLists4[[#This Row],[State]],\", \",tLists4[[#This Row],[County]])","v":"Ohio, Cuyahoga County"},2]
[null,null,null,null,null,null,null,null,null,null,null,null,null,"Ohio","Darke County",{"$f":"CONCATENATE(tLists4[[#This Row],[State]],\", \",tLists4[[#This Row],[County]])","v":"Ohio, Darke County"},2]
[null,null,null,null,null,null,null,null,null,null,null,null,null,"Ohio","Defiance County",{"$f":"CONCATENATE(tLists4[[#This Row],[State]],\", \",tLists4[[#This Row],[County]])","v":"Ohio, Defiance County"},2]
[null,null,null,null,null,null,null,null,null,null,null,null,null,"Ohio","Delaware County",{"$f":"CONCATENATE(tLists4[[#This Row],[State]],\", \",tLists4[[#This Row],[County]])","v":"Ohio, Delaware County"},2]
[null,null,null,null,null,null,null,null,null,null,null,null,null,"Ohio","Erie County",{"$f":"CONCATENATE(tLists4[[#This Row],[State]],\", \",tLists4[[#This Row],[County]])","v":"Ohio, Erie County"},2]
[null,null,null,null,null,null,null,null,null,null,null,null,null,"Ohio","Fairfield County",{"$f":"CONCATENATE(tLists4[[#This Row],[State]],\", \",tLists4[[#This Row],[County]])","v":"Ohio, Fairfield County"},3]
[null,null,null,null,null,null,null,null,null,null,null,null,null,"Ohio","Fayette County",{"$f":"CONCATENATE(tLists4[[#This Row],[State]],\", \",tLists4[[#This Row],[County]])","v":"Ohio, Fayette County"},3]
[null,null,null,null,null,null,null,null,null,null,null,null,null,"Ohio","Franklin County",{"$f":"CONCATENATE(tLists4[[#This Row],[State]],\", \",tLists4[[#This Row],[County]])","v":"Ohio, Franklin County"},3]
[null,null,null,null,null,null,null,null,null,null,null,null,null,"Ohio","Fulton County",{"$f":"CONCATENATE(tLists4[[#This Row],[State]],\", \",tLists4[[#This Row],[County]])","v":"Ohio, Fulton County"},2]
[null,null,null,null,null,null,null,null,null,null,null,null,null,"Ohio","Gallia County",{"$f":"CONCATENATE(tLists4[[#This Row],[State]],\", \",tLists4[[#This Row],[County]])","v":"Ohio, Gallia County"},2]
[null,null,null,null,null,null,null,null,null,null,null,null,null,"Ohio","Geauga County",{"$f":"CONCATENATE(tLists4[[#This Row],[State]],\", \",tLists4[[#This Row],[County]])","v":"Ohio, Geauga County"},2]
[null,null,null,null,null,null,null,null,null,null,null,null,null,"Ohio","Greene County",{"$f":"CONCATENATE(tLists4[[#This Row],[State]],\", \",tLists4[[#This Row],[County]])","v":"Ohio, Greene County"},2]
[null,null,null,null,null,null,null,null,null,null,null,null,null,"Ohio","Guernsey County",{"$f":"CONCATENATE(tLists4[[#This Row],[State]],\", \",tLists4[[#This Row],[County]])","v":"Ohio, Guernsey County"},3]
[null,null,null,null,null,null,null,null,null,null,null,null,null,"Ohio","Hamilton County",{"$f":"CONCATENATE(tLists4[[#This Row],[State]],\", \",tLists4[[#This Row],[County]])","v":"Ohio, Hamilton County"},2]
[null,null,null,null,null,null,null,null,null,null,null,null,null,"Ohio","Hancock County",{"$f":"CONCATENATE(tLists4[[#This Row],[State]],\", \",tLists4[[#This Row],[County]])","v":"Ohio, Hancock County"},2]
[null,null,null,null,null,null,null,null,null,null,null,null,null,"Ohio","Hardin County",{"$f":"CONCATENATE(tLists4[[#This Row],[State]],\", \",tLists4[[#This Row],[County]])","v":"Ohio, Hardin County"},2]
[null,null,null,null,null,null,null,null,null,null,null,null,null,"Ohio","Harrison County",{"$f":"CONCATENATE(tLists4[[#This Row],[State]],\", \",tLists4[[#This Row],[County]])","v":"Ohio, Harrison County"},2]
[null,null,null,null,null,null,null,null,null,null,null,null,null,"Ohio","Henry County",{"$f":"CONCATENATE(tLists4[[#This Row],[State]],\", \",tLists4[[#This Row],[County]])","v":"Ohio, Henry County"},2]
[null,null,null,null,null,null,null,null,null,null,null,null,null,"Ohio","Highland County",{"$f":"CONCATENATE(tLists4[[#This Row],[State]],\", \",tLists4[[#This Row],[County]])","v":"Ohio, Highland County"},2]
[null,null,null,null,null,null,null,null,null,null,null,null,null,"Ohio","Hocking County",{"$f":"CONCATENATE(tLists4[[#This Row],[State]],\", \",tLists4[[#This Row],[County]])","v":"Ohio, Hocking County"},3]
[null,null,null,null,null,null,null,null,null,null,null,null,null,"Ohio","Holmes County",{"$f":"CONCATENATE(tLists4[[#This Row],[State]],\", \",tLists4[[#This Row],[County]])","v":"Ohio, Holmes County"},2]
[null,null,null,null,null,null,null,null,null,null,null,null,null,"Ohio","Huron County",{"$f":"CONCATENATE(tLists4[[#This Row],[State]],\", \",tLists4[[#This Row],[County]])","v":"Ohio, Huron County"},2]
[null,null,null,null,null,null,null,null,null,null,null,null,null,"Ohio","Jackson County",{"$f":"CONCATENATE(tLists4[[#This Row],[State]],\", \",tLists4[[#This Row],[County]])","v":"Ohio, Jackson County"},2]
[null,null,null,null,null,null,null,null,null,null,null,null,null,"Ohio","Jefferson County",{"$f":"CONCATENATE(tLists4[[#This Row],[State]],\", \",tLists4[[#This Row],[County]])","v":"Ohio, Jefferson County"},2]
[null,null,null,null,null,null,null,null,null,null,null,null,null,"Ohio","Knox County",{"$f":"CONCATENATE(tLists4[[#This Row],[State]],\", \",tLists4[[#This Row],[County]])","v":"Ohio, Knox County"},2]
[null,null,null,null,null,null,null,null,null,null,null,null,null,"Ohio","Lake County",{"$f":"CONCATENATE(tLists4[[#This Row],[State]],\", \",tLists4[[#This Row],[County]])","v":"Ohio, Lake County"},2]
[null,null,null,null,null,null,null,null,null,null,null,null,null,"Ohio","Lawrence County",{"$f":"CONCATENATE(tLists4[[#This Row],[State]],\", \",tLists4[[#This Row],[County]])","v":"Ohio, Lawrence County"},2]
[null,null,null,null,null,null,null,null,null,null,null,null,null,"Ohio","Licking County",{"$f":"CONCATENATE(tLists4[[#This Row],[State]],\", \",tLists4[[#This Row],[County]])","v":"Ohio, Licking County"},3]
[null,null,null,null,null,null,null,null,null,null,null,null,null,"Ohio","Logan County",{"$f":"CONCATENATE(tLists4[[#This Row],[State]],\", \",tLists4[[#This Row],[County]])","v":"Ohio, Logan County"},2]
[null,null,null,null,null,null,null,null,null,null,null,null,null,"Ohio","Lorain County",{"$f":"CONCATENATE(tLists4[[#This Row],[State]],\", \",tLists4[[#This Row],[County]])","v":"Ohio, Lorain County"},2]
[null,null,null,null,null,null,null,null,null,null,null,null,null,"Ohio","Lucas County",{"$f":"CONCATENATE(tLists4[[#This Row],[State]],\", \",tLists4[[#This Row],[County]])","v":"Ohio, Lucas County"},2]
[null,null,null,null,null,null,null,null,null,null,null,null,null,"Ohio","Madison County",{"$f":"CONCATENATE(tLists4[[#This Row],[State]],\", \",tLists4[[#This Row],[County]])","v":"Ohio, Madison County"},3]
[null,null,null,null,null,null,null,null,null,null,null,null,null,"Ohio","Mahoning County",{"$f":"CONCATENATE(tLists4[[#This Row],[State]],\", \",tLists4[[#This Row],[County]])","v":"Ohio, Mahoning County"},2]
[null,null,null,null,null,null,null,null,null,null,null,null,null,"Ohio","Marion County",{"$f":"CONCATENATE(tLists4[[#This Row],[State]],\", \",tLists4[[#This Row],[County]])","v":"Ohio, Marion County"},2]
[null,null,null,null,null,null,null,null,null,null,null,null,null,"Ohio","Medina County",{"$f":"CONCATENATE(tLists4[[#This Row],[State]],\", \",tLists4[[#This Row],[County]])","v":"Ohio, Medina County"},2]
[null,null,null,null,null,null,null,null,null,null,null,null,null,"Ohio","Meigs County",{"$f":"CONCATENATE(tLists4[[#This Row],[State]],\", \",tLists4[[#This Row],[County]])","v":"Ohio, Meigs County"},2]
[null,null,null,null,null,null,null,null,null,null,null,null,null,"Ohio","Mercer County",{"$f":"CONCATENATE(tLists4[[#This Row],[State]],\", \",tLists4[[#This Row],[County]])","v":"Ohio, Mercer County"},2]
[null,null,null,null,null,null,null,null,null,null,null,null,null,"Ohio","Miami County",{"$f":"CONCATENATE(tLists4[[#This Row],[State]],\", \",tLists4[[#This Row],[County]])","v":"Ohio, Miami County"},2]
[null,null,null,null,null,null,null,null,null,null,null,null,null,"Ohio","Monroe County",{"$f":"CONCATENATE(tLists4[[#This Row],[State]],\", \",tLists4[[#This Row],[County]])","v":"Ohio, Monroe County"},3]
[null,null,null,null,null,null,null,null,null,null,null,null,null,"Ohio","Montgomery County",{"$f":"CONCATENATE(tLists4[[#This Row],[State]],\", \",tLists4[[#This Row],[County]])","v":"Ohio, Montgomery County"},3]
[null,null,null,null,null,null,null,null,null,null,null,null,null,"Ohio","Morgan County",{"$f":"CONCATENATE(tLists4[[#This Row],[State]],\", \",tLists4[[#This Row],[County]])","v":"Ohio, Morgan County"},2]
[null,null,null,null,null,null,null,null,null,null,null,null,null,"Ohio","Morrow County",{"$f":"CONCATENATE(tLists4[[#This Row],[State]],\", \",tLists4[[#This Row],[County]])","v":"Ohio, Morrow County"},2]
[null,null,null,null,null,null,null,null,null,null,null,null,null,"Ohio","Muskingum County",{"$f":"CONCATENATE(tLists4[[#This Row],[State]],\", \",tLists4[[#This Row],[County]])","v":"Ohio, Muskingum County"},3]
[null,null,null,null,null,null,null,null,null,null,null,null,null,"Ohio","Noble County",{"$f":"CONCATENATE(tLists4[[#This Row],[State]],\", \",tLists4[[#This Row],[County]])","v":"Ohio, Noble County"},3]
[null,null,null,null,null,null,null,null,null,null,null,null,null,"Ohio","Ottawa County",{"$f":"CONCATENATE(tLists4[[#This Row],[State]],\", \",tLists4[[#This Row],[County]])","v":"Ohio, Ottawa County"},2]
[null,null,null,null,null,null,null,null,null,null,null,null,null,"Ohio","Paulding County",{"$f":"CONCATENATE(tLists4[[#This Row],[State]],\", \",tLists4[[#This Row],[County]])","v":"Ohio, Paulding County"},2]
[null,null,null,null,null,null,null,null,null,null,null,null,null,"Ohio","Perry County",{"$f":"CONCATENATE(tLists4[[#This Row],[State]],\", \",tLists4[[#This Row],[County]])","v":"Ohio, Perry County"},3]
[null,null,null,null,null,null,null,null,null,null,null,null,null,"Ohio","Pickaway County",{"$f":"CONCATENATE(tLists4[[#This Row],[State]],\", \",tLists4[[#This Row],[County]])","v":"Ohio, Pickaway County"},3]
[null,null,null,null,null,null,null,null,null,null,null,null,null,"Ohio","Pike County",{"$f":"CONCATENATE(tLists4[[#This Row],[State]],\", \",tLists4[[#This Row],[County]])","v":"Ohio, Pike County"},2]
[null,null,null,null,null,null,null,null,null,null,null,null,null,"Ohio","Portage County",{"$f":"CONCATENATE(tLists4[[#This Row],[State]],\", \",tLists4[[#This Row],[County]])","v":"Ohio, Portage County"},2]
[null,null,null,null,null,null,null,null,null,null,null,null,null,"Ohio","Preble County",{"$f":"CONCATENATE(tLists4[[#This Row],[State]],\", \",tLists4[[#This Row],[County]])","v":"Ohio, Preble County"},2]
[null,null,null,null,null,null,null,null,null,null,null,null,null,"Ohio","Putnam County",{"$f":"CONCATENATE(tLists4[[#This Row],[State]],\", \",tLists4[[#This Row],[County]])","v":"Ohio, Putnam County"},2]
[null,null,null,null,null,null,null,null,null,null,null,null,null,"Ohio","Richland County",{"$f":"CONCATENATE(tLists4[[#This Row],[State]],\", \",tLists4[[#This Row],[County]])","v":"Ohio, Richland County"},2]
[null,null,null,null,null,null,null,null,null,null,null,null,null,"Ohio","Ross County",{"$f":"CONCATENATE(tLists4[[#This Row],[State]],\", \",tLists4[[#This Row],[County]])","v":"Ohio, Ross County"},3]
[null,null,null,null,null,null,null,null,null,null,null,null,null,"Ohio","Sandusky County",{"$f":"CONCATENATE(tLists4[[#This Row],[State]],\", \",tLists4[[#This Row],[County]])","v":"Ohio, Sandusky County"},2]
[null,null,null,null,null,null,null,null,null,null,null,null,null,"Ohio","Scioto County",{"$f":"CONCATENATE(tLists4[[#This Row],[State]],\", \",tLists4[[#This Row],[County]])","v":"Ohio, Scioto County"},3]
[null,null,null,null,null,null,null,null,null,null,null,null,null,"Ohio","Seneca County",{"$f":"CONCATENATE(tLists4[[#This Row],[State]],\", \",tLists4[[#This Row],[County]])","v":"Ohio, Seneca County"},2]
[null,null,null,null,null,null,null,null,null,null,null,null,null,"Ohio","Shelby County",{"$f":"CONCATENATE(tLists4[[#This Row],[State]],\", \",tLists4[[#This Row],[County]])","v":"Ohio, Shelby County"},2]
[null,null,null,null,null,null,null,null,null,null,null,null,null,"Ohio","Stark County",{"$f":"CONCATENATE(tLists4[[#This Row],[State]],\", \",tLists4[[#This Row],[County]])","v":"Ohio, Stark County"},2]
[null,null,null,null,null,null,null,null,null,null,null,null,null,"Ohio","Summit County",{"$f":"CONCATENATE(tLists4[[#This Row],[State]],\", \",tLists4[[#This Row],[County]])","v":"Ohio, Summit County"},2]
[null,null,null,null,null,null,null,null,null,null,null,null,null,"Ohio","Trumbull County",{"$f":"CONCATENATE(tLists4[[#This Row],[State]],\", \",tLists4[[#This Row],[County]])","v":"Ohio, Trumbull County"},2]
[null,null,null,null,null,null,null,null,null,null,null,null,null,"Ohio","Tuscarawas County",{"$f":"CONCATENATE(tLists4[[#This Row],[State]],\", \",tLists4[[#This Row],[County]])","v":"Ohio, Tuscarawas County"},3]
[null,null,null,null,null,null,null,null,null,null,null,null,null,"Ohio","Union County",{"$f":"CONCATENATE(tLists4[[#This Row],[State]],\", \",tLists4[[#This Row],[County]])","v":"Ohio, Union County"},2]
[null,null,null,null,null,null,null,null,null,null,null,null,null,"Ohio","Van Wert County",{"$f":"CONCATENATE(tLists4[[#This Row],[State]],\", \",tLists4[[#This Row],[County]])","v":"Ohio, Van Wert County"},2]
[null,null,null,null,null,null,null,null,null,null,null,null,null,"Ohio","Vinton County",{"$f":"CONCATENATE(tLists4[[#This Row],[State]],\", \",tLists4[[#This Row],[County]])","v":"Ohio, Vinton County"},2]
[null,null,null,null,null,null,null,null,null,null,null,null,null,"Ohio","Warren County",{"$f":"CONCATENATE(tLists4[[#This Row],[State]],\", \",tLists4[[#This Row],[County]])","v":"Ohio, Warren County"},3]
[null,null,null,null,null,null,null,null,null,null,null,null,null,"Ohio","Washington County",{"$f":"CONCATENATE(tLists4[[#This Row],[State]],\", \",tLists4[[#This Row],[County]])","v":"Ohio, Washington County"},2]
[null,null,null,null,null,null,null,null,null,null,null,null,null,"Ohio","Wayne County",{"$f":"CONCATENATE(tLists4[[#This Row],[State]],\", \",tLists4[[#This Row],[County]])","v":"Ohio, Wayne County"},2]
[null,null,null,null,null,null,null,null,null,null,null,null,null,"Ohio","Williams County",{"$f":"CONCATENATE(tLists4[[#This Row],[State]],\", \",tLists4[[#This Row],[County]])","v":"Ohio, Williams County"},2]
[null,null,null,null,null,null,null,null,null,null,null,null,null,"Ohio","Wood County",{"$f":"CONCATENATE(tLists4[[#This Row],[State]],\", \",tLists4[[#This Row],[County]])","v":"Ohio, Wood County"},2]
[null,null,null,null,null,null,null,null,null,null,null,null,null,"Ohio","Wyandot County",{"$f":"CONCATENATE(tLists4[[#This Row],[State]],\", \",tLists4[[#This Row],[County]])","v":"Ohio, Wyandot County"},2]
[null,null,null,null,null,null,null,null,null,null,null,null,null,"Oklahoma","Adair County",{"$f":"CONCATENATE(tLists4[[#This Row],[State]],\", \",tLists4[[#This Row],[County]])","v":"Oklahoma, Adair County"},2]
[null,null,null,null,null,null,null,null,null,null,null,null,null,"Oklahoma","Alfalfa County",{"$f":"CONCATENATE(tLists4[[#This Row],[State]],\", \",tLists4[[#This Row],[County]])","v":"Oklahoma, Alfalfa County"},2]
[null,null,null,null,null,null,null,null,null,null,null,null,null,"Oklahoma","Atoka County",{"$f":"CONCATENATE(tLists4[[#This Row],[State]],\", \",tLists4[[#This Row],[County]])","v":"Oklahoma, Atoka County"},"Not Eligible for Credit"]
[null,null,null,null,null,null,null,null,null,null,null,null,null,"Oklahoma","Beaver County",{"$f":"CONCATENATE(tLists4[[#This Row],[State]],\", \",tLists4[[#This Row],[County]])","v":"Oklahoma, Beaver County"},3]
[null,null,null,null,null,null,null,null,null,null,null,null,null,"Oklahoma","Beckham County",{"$f":"CONCATENATE(tLists4[[#This Row],[State]],\", \",tLists4[[#This Row],[County]])","v":"Oklahoma, Beckham County"},2]
[null,null,null,null,null,null,null,null,null,null,null,null,null,"Oklahoma","Blaine County",{"$f":"CONCATENATE(tLists4[[#This Row],[State]],\", \",tLists4[[#This Row],[County]])","v":"Oklahoma, Blaine County"},2]
[null,null,null,null,null,null,null,null,null,null,null,null,null,"Oklahoma","Bryan County",{"$f":"CONCATENATE(tLists4[[#This Row],[State]],\", \",tLists4[[#This Row],[County]])","v":"Oklahoma, Bryan County"},"Not Eligible for Credit"]
[null,null,null,null,null,null,null,null,null,null,null,null,null,"Oklahoma","Caddo County",{"$f":"CONCATENATE(tLists4[[#This Row],[State]],\", \",tLists4[[#This Row],[County]])","v":"Oklahoma, Caddo County"},2]
[null,null,null,null,null,null,null,null,null,null,null,null,null,"Oklahoma","Canadian County",{"$f":"CONCATENATE(tLists4[[#This Row],[State]],\", \",tLists4[[#This Row],[County]])","v":"Oklahoma, Canadian County"},2]
[null,null,null,null,null,null,null,null,null,null,null,null,null,"Oklahoma","Carter County",{"$f":"CONCATENATE(tLists4[[#This Row],[State]],\", \",tLists4[[#This Row],[County]])","v":"Oklahoma, Carter County"},"Not Eligible for Credit"]
[null,null,null,null,null,null,null,null,null,null,null,null,null,"Oklahoma","Cherokee County",{"$f":"CONCATENATE(tLists4[[#This Row],[State]],\", \",tLists4[[#This Row],[County]])","v":"Oklahoma, Cherokee County"},"Not Eligible for Credit"]
[null,null,null,null,null,null,null,null,null,null,null,null,null,"Oklahoma","Choctaw County",{"$f":"CONCATENATE(tLists4[[#This Row],[State]],\", \",tLists4[[#This Row],[County]])","v":"Oklahoma, Choctaw County"},"Not Eligible for Credit"]
[null,null,null,null,null,null,null,null,null,null,null,null,null,"Oklahoma","Cimarron County",{"$f":"CONCATENATE(tLists4[[#This Row],[State]],\", \",tLists4[[#This Row],[County]])","v":"Oklahoma, Cimarron County"},3]
[null,null,null,null,null,null,null,null,null,null,null,null,null,"Oklahoma","Cleveland County",{"$f":"CONCATENATE(tLists4[[#This Row],[State]],\", \",tLists4[[#This Row],[County]])","v":"Oklahoma, Cleveland County"},2]
[null,null,null,null,null,null,null,null,null,null,null,null,null,"Oklahoma","Coal County",{"$f":"CONCATENATE(tLists4[[#This Row],[State]],\", \",tLists4[[#This Row],[County]])","v":"Oklahoma, Coal County"},2]
[null,null,null,null,null,null,null,null,null,null,null,null,null,"Oklahoma","Comanche County",{"$f":"CONCATENATE(tLists4[[#This Row],[State]],\", \",tLists4[[#This Row],[County]])","v":"Oklahoma, Comanche County"},2]
[null,null,null,null,null,null,null,null,null,null,null,null,null,"Oklahoma","Cotton County",{"$f":"CONCATENATE(tLists4[[#This Row],[State]],\", \",tLists4[[#This Row],[County]])","v":"Oklahoma, Cotton County"},2]
[null,null,null,null,null,null,null,null,null,null,null,null,null,"Oklahoma","Craig County",{"$f":"CONCATENATE(tLists4[[#This Row],[State]],\", \",tLists4[[#This Row],[County]])","v":"Oklahoma, Craig County"},"Not Eligible for Credit"]
[null,null,null,null,null,null,null,null,null,null,null,null,null,"Oklahoma","Creek County",{"$f":"CONCATENATE(tLists4[[#This Row],[State]],\", \",tLists4[[#This Row],[County]])","v":"Oklahoma, Creek County"},2]
[null,null,null,null,null,null,null,null,null,null,null,null,null,"Oklahoma","Custer County",{"$f":"CONCATENATE(tLists4[[#This Row],[State]],\", \",tLists4[[#This Row],[County]])","v":"Oklahoma, Custer County"},2]
[null,null,null,null,null,null,null,null,null,null,null,null,null,"Oklahoma","Delaware County",{"$f":"CONCATENATE(tLists4[[#This Row],[State]],\", \",tLists4[[#This Row],[County]])","v":"Oklahoma, Delaware County"},"Not Eligible for Credit"]
[null,null,null,null,null,null,null,null,null,null,null,null,null,"Oklahoma","Dewey County",{"$f":"CONCATENATE(tLists4[[#This Row],[State]],\", \",tLists4[[#This Row],[County]])","v":"Oklahoma, Dewey County"},2]
[null,null,null,null,null,null,null,null,null,null,null,null,null,"Oklahoma","Ellis County",{"$f":"CONCATENATE(tLists4[[#This Row],[State]],\", \",tLists4[[#This Row],[County]])","v":"Oklahoma, Ellis County"},3]
[null,null,null,null,null,null,null,null,null,null,null,null,null,"Oklahoma","Garfield County",{"$f":"CONCATENATE(tLists4[[#This Row],[State]],\", \",tLists4[[#This Row],[County]])","v":"Oklahoma, Garfield County"},"Not Eligible for Credit"]
[null,null,null,null,null,null,null,null,null,null,null,null,null,"Oklahoma","Garvin County",{"$f":"CONCATENATE(tLists4[[#This Row],[State]],\", \",tLists4[[#This Row],[County]])","v":"Oklahoma, Garvin County"},2]
[null,null,null,null,null,null,null,null,null,null,null,null,null,"Oklahoma","Grady County",{"$f":"CONCATENATE(tLists4[[#This Row],[State]],\", \",tLists4[[#This Row],[County]])","v":"Oklahoma, Grady County"},2]
[null,null,null,null,null,null,null,null,null,null,null,null,null,"Oklahoma","Grant County",{"$f":"CONCATENATE(tLists4[[#This Row],[State]],\", \",tLists4[[#This Row],[County]])","v":"Oklahoma, Grant County"},2]
[null,null,null,null,null,null,null,null,null,null,null,null,null,"Oklahoma","Greer County",{"$f":"CONCATENATE(tLists4[[#This Row],[State]],\", \",tLists4[[#This Row],[County]])","v":"Oklahoma, Greer County"},2]
[null,null,null,null,null,null,null,null,null,null,null,null,null,"Oklahoma","Harmon County",{"$f":"CONCATENATE(tLists4[[#This Row],[State]],\", \",tLists4[[#This Row],[County]])","v":"Oklahoma, Harmon County"},2]
[null,null,null,null,null,null,null,null,null,null,null,null,null,"Oklahoma","Harper County",{"$f":"CONCATENATE(tLists4[[#This Row],[State]],\", \",tLists4[[#This Row],[County]])","v":"Oklahoma, Harper County"},3]
[null,null,null,null,null,null,null,null,null,null,null,null,null,"Oklahoma","Haskell County",{"$f":"CONCATENATE(tLists4[[#This Row],[State]],\", \",tLists4[[#This Row],[County]])","v":"Oklahoma, Haskell County"},"Not Eligible for Credit"]
[null,null,null,null,null,null,null,null,null,null,null,null,null,"Oklahoma","Hughes County",{"$f":"CONCATENATE(tLists4[[#This Row],[State]],\", \",tLists4[[#This Row],[County]])","v":"Oklahoma, Hughes County"},"Not Eligible for Credit"]
[null,null,null,null,null,null,null,null,null,null,null,null,null,"Oklahoma","Jackson County",{"$f":"CONCATENATE(tLists4[[#This Row],[State]],\", \",tLists4[[#This Row],[County]])","v":"Oklahoma, Jackson County"},2]
[null,null,null,null,null,null,null,null,null,null,null,null,null,"Oklahoma","Jefferson County",{"$f":"CONCATENATE(tLists4[[#This Row],[State]],\", \",tLists4[[#This Row],[County]])","v":"Oklahoma, Jefferson County"},2]
[null,null,null,null,null,null,null,null,null,null,null,null,null,"Oklahoma","Johnston County",{"$f":"CONCATENATE(tLists4[[#This Row],[State]],\", \",tLists4[[#This Row],[County]])","v":"Oklahoma, Johnston County"},"Not Eligible for Credit"]
[null,null,null,null,null,null,null,null,null,null,null,null,null,"Oklahoma","Kay County",{"$f":"CONCATENATE(tLists4[[#This Row],[State]],\", \",tLists4[[#This Row],[County]])","v":"Oklahoma, Kay County"},"Not Eligible for Credit"]
[null,null,null,null,null,null,null,null,null,null,null,null,null,"Oklahoma","Kingfisher County",{"$f":"CONCATENATE(tLists4[[#This Row],[State]],\", \",tLists4[[#This Row],[County]])","v":"Oklahoma, Kingfisher County"},2]
[null,null,null,null,null,null,null,null,null,null,null,null,null,"Oklahoma","Kiowa County",{"$f":"CONCATENATE(tLists4[[#This Row],[State]],\", \",tLists4[[#This Row],[County]])","v":"Oklahoma, Kiowa County"},2]
[null,null,null,null,null,null,null,null,null,null,null,null,null,"Oklahoma","Latimer County",{"$f":"CONCATENATE(tLists4[[#This Row],[State]],\", \",tLists4[[#This Row],[County]])","v":"Oklahoma, Latimer County"},"Not Eligible for Credit"]
[null,null,null,null,null,null,null,null,null,null,null,null,null,"Oklahoma","Le Flore County",{"$f":"CONCATENATE(tLists4[[#This Row],[State]],\", \",tLists4[[#This Row],[County]])","v":"Oklahoma, Le Flore County"},"Not Eligible for Credit"]
[null,null,null,null,null,null,null,null,null,null,null,null,null,"Oklahoma","Lincoln County",{"$f":"CONCATENATE(tLists4[[#This Row],[State]],\", \",tLists4[[#This Row],[County]])","v":"Oklahoma, Lincoln County"},2]
[null,null,null,null,null,null,null,null,null,null,null,null,null,"Oklahoma","Logan County",{"$f":"CONCATENATE(tLists4[[#This Row],[State]],\", \",tLists4[[#This Row],[County]])","v":"Oklahoma, Logan County"},2]
[null,null,null,null,null,null,null,null,null,null,null,null,null,"Oklahoma","Love County",{"$f":"CONCATENATE(tLists4[[#This Row],[State]],\", \",tLists4[[#This Row],[County]])","v":"Oklahoma, Love County"},2]
[null,null,null,null,null,null,null,null,null,null,null,null,null,"Oklahoma","Major County",{"$f":"CONCATENATE(tLists4[[#This Row],[State]],\", \",tLists4[[#This Row],[County]])","v":"Oklahoma, Major County"},2]
[null,null,null,null,null,null,null,null,null,null,null,null,null,"Oklahoma","Marshall County",{"$f":"CONCATENATE(tLists4[[#This Row],[State]],\", \",tLists4[[#This Row],[County]])","v":"Oklahoma, Marshall County"},"Not Eligible for Credit"]
[null,null,null,null,null,null,null,null,null,null,null,null,null,"Oklahoma","Mayes County",{"$f":"CONCATENATE(tLists4[[#This Row],[State]],\", \",tLists4[[#This Row],[County]])","v":"Oklahoma, Mayes County"},"Not Eligible for Credit"]
[null,null,null,null,null,null,null,null,null,null,null,null,null,"Oklahoma","McClain County",{"$f":"CONCATENATE(tLists4[[#This Row],[State]],\", \",tLists4[[#This Row],[County]])","v":"Oklahoma, McClain County"},2]
[null,null,null,null,null,null,null,null,null,null,null,null,null,"Oklahoma","McCurtain County",{"$f":"CONCATENATE(tLists4[[#This Row],[State]],\", \",tLists4[[#This Row],[County]])","v":"Oklahoma, McCurtain County"},"Not Eligible for Credit"]
[null,null,null,null,null,null,null,null,null,null,null,null,null,"Oklahoma","McIntosh County",{"$f":"CONCATENATE(tLists4[[#This Row],[State]],\", \",tLists4[[#This Row],[County]])","v":"Oklahoma, McIntosh County"},"Not Eligible for Credit"]
[null,null,null,null,null,null,null,null,null,null,null,null,null,"Oklahoma","Murray County",{"$f":"CONCATENATE(tLists4[[#This Row],[State]],\", \",tLists4[[#This Row],[County]])","v":"Oklahoma, Murray County"},2]
[null,null,null,null,null,null,null,null,null,null,null,null,null,"Oklahoma","Muskogee County",{"$f":"CONCATENATE(tLists4[[#This Row],[State]],\", \",tLists4[[#This Row],[County]])","v":"Oklahoma, Muskogee County"},"Not Eligible for Credit"]
[null,null,null,null,null,null,null,null,null,null,null,null,null,"Oklahoma","Noble County",{"$f":"CONCATENATE(tLists4[[#This Row],[State]],\", \",tLists4[[#This Row],[County]])","v":"Oklahoma, Noble County"},"Not Eligible for Credit"]
[null,null,null,null,null,null,null,null,null,null,null,null,null,"Oklahoma","Nowata County",{"$f":"CONCATENATE(tLists4[[#This Row],[State]],\", \",tLists4[[#This Row],[County]])","v":"Oklahoma, Nowata County"},"Not Eligible for Credit"]
[null,null,null,null,null,null,null,null,null,null,null,null,null,"Oklahoma","Okfuskee County",{"$f":"CONCATENATE(tLists4[[#This Row],[State]],\", \",tLists4[[#This Row],[County]])","v":"Oklahoma, Okfuskee County"},"Not Eligible for Credit"]
[null,null,null,null,null,null,null,null,null,null,null,null,null,"Oklahoma","Oklahoma County",{"$f":"CONCATENATE(tLists4[[#This Row],[State]],\", \",tLists4[[#This Row],[County]])","v":"Oklahoma, Oklahoma County"},2]
[null,null,null,null,null,null,null,null,null,null,null,null,null,"Oklahoma","Okmulgee County",{"$f":"CONCATENATE(tLists4[[#This Row],[State]],\", \",tLists4[[#This Row],[County]])","v":"Oklahoma, Okmulgee County"},"Not Eligible for Credit"]
[null,null,null,null,null,null,null,null,null,null,null,null,null,"Oklahoma","Osage County",{"$f":"CONCATENATE(tLists4[[#This Row],[State]],\", \",tLists4[[#This Row],[County]])","v":"Oklahoma, Osage County"},"Not Eligible for Credit"]
[null,null,null,null,null,null,null,null,null,null,null,null,null,"Oklahoma","Ottawa County",{"$f":"CONCATENATE(tLists4[[#This Row],[State]],\", \",tLists4[[#This Row],[County]])","v":"Oklahoma, Ottawa County"},"Not Eligible for Credit"]
[null,null,null,null,null,null,null,null,null,null,null,null,null,"Oklahoma","Pawnee County",{"$f":"CONCATENATE(tLists4[[#This Row],[State]],\", \",tLists4[[#This Row],[County]])","v":"Oklahoma, Pawnee County"},2]
[null,null,null,null,null,null,null,null,null,null,null,null,null,"Oklahoma","Payne County",{"$f":"CONCATENATE(tLists4[[#This Row],[State]],\", \",tLists4[[#This Row],[County]])","v":"Oklahoma, Payne County"},2]
[null,null,null,null,null,null,null,null,null,null,null,null,null,"Oklahoma","Pittsburg County",{"$f":"CONCATENATE(tLists4[[#This Row],[State]],\", \",tLists4[[#This Row],[County]])","v":"Oklahoma, Pittsburg County"},"Not Eligible for Credit"]
[null,null,null,null,null,null,null,null,null,null,null,null,null,"Oklahoma","Pontotoc County",{"$f":"CONCATENATE(tLists4[[#This Row],[State]],\", \",tLists4[[#This Row],[County]])","v":"Oklahoma, Pontotoc County"},"Not Eligible for Credit"]
[null,null,null,null,null,null,null,null,null,null,null,null,null,"Oklahoma","Pottawatomie County",{"$f":"CONCATENATE(tLists4[[#This Row],[State]],\", \",tLists4[[#This Row],[County]])","v":"Oklahoma, Pottawatomie County"},2]
[null,null,null,null,null,null,null,null,null,null,null,null,null,"Oklahoma","Pushmataha County",{"$f":"CONCATENATE(tLists4[[#This Row],[State]],\", \",tLists4[[#This Row],[County]])","v":"Oklahoma, Pushmataha County"},2]
[null,null,null,null,null,null,null,null,null,null,null,null,null,"Oklahoma","Roger Mills County",{"$f":"CONCATENATE(tLists4[[#This Row],[State]],\", \",tLists4[[#This Row],[County]])","v":"Oklahoma, Roger Mills County"},3]
[null,null,null,null,null,null,null,null,null,null,null,null,null,"Oklahoma","Rogers County",{"$f":"CONCATENATE(tLists4[[#This Row],[State]],\", \",tLists4[[#This Row],[County]])","v":"Oklahoma, Rogers County"},"Not Eligible for Credit"]
[null,null,null,null,null,null,null,null,null,null,null,null,null,"Oklahoma","Seminole County",{"$f":"CONCATENATE(tLists4[[#This Row],[State]],\", \",tLists4[[#This Row],[County]])","v":"Oklahoma, Seminole County"},2]
[null,null,null,null,null,null,null,null,null,null,null,null,null,"Oklahoma","Sequoyah County",{"$f":"CONCATENATE(tLists4[[#This Row],[State]],\", \",tLists4[[#This Row],[County]])","v":"Oklahoma, Sequoyah County"},2]
[null,null,null,null,null,null,null,null,null,null,null,null,null,"Oklahoma","Stephens County",{"$f":"CONCATENATE(tLists4[[#This Row],[State]],\", \",tLists4[[#This Row],[County]])","v":"Oklahoma, Stephens County"},2]
[null,null,null,null,null,null,null,null,null,null,null,null,null,"Oklahoma","Texas County",{"$f":"CONCATENATE(tLists4[[#This Row],[State]],\", \",tLists4[[#This Row],[County]])","v":"Oklahoma, Texas County"},3]
[null,null,null,null,null,null,null,null,null,null,null,null,null,"Oklahoma","Tillman County",{"$f":"CONCATENATE(tLists4[[#This Row],[State]],\", \",tLists4[[#This Row],[County]])","v":"Oklahoma, Tillman County"},2]
[null,null,null,null,null,null,null,null,null,null,null,null,null,"Oklahoma","Tulsa County",{"$f":"CONCATENATE(tLists4[[#This Row],[State]],\", \",tLists4[[#This Row],[County]])","v":"Oklahoma, Tulsa County"},"Not Eligible for Credit"]
[null,null,null,null,null,null,null,null,null,null,null,null,null,"Oklahoma","Wagoner County",{"$f":"CONCATENATE(tLists4[[#This Row],[State]],\", \",tLists4[[#This Row],[County]])","v":"Oklahoma, Wagoner County"},"Not Eligible for Credit"]
[null,null,null,null,null,null,null,null,null,null,null,null,null,"Oklahoma","Washington County",{"$f":"CONCATENATE(tLists4[[#This Row],[State]],\", \",tLists4[[#This Row],[County]])","v":"Oklahoma, Washington County"},"Not Eligible for Credit"]
[null,null,null,null,null,null,null,null,null,null,null,null,null,"Oklahoma","Washita County",{"$f":"CONCATENATE(tLists4[[#This Row],[State]],\", \",tLists4[[#This Row],[County]])","v":"Oklahoma, Washita County"},2]
[null,null,null,null,null,null,null,null,null,null,null,null,null,"Oklahoma","Woods County",{"$f":"CONCATENATE(tLists4[[#This Row],[State]],\", \",tLists4[[#This Row],[County]])","v":"Oklahoma, Woods County"},2]
[null,null,null,null,null,null,null,null,null,null,null,null,null,"Oklahoma","Woodward County",{"$f":"CONCATENATE(tLists4[[#This Row],[State]],\", \",tLists4[[#This Row],[County]])","v":"Oklahoma, Woodward County"},2]
[null,null,null,null,null,null,null,null,null,null,null,null,null,"Oregon","Baker County",{"$f":"CONCATENATE(tLists4[[#This Row],[State]],\", \",tLists4[[#This Row],[County]])","v":"Oregon, Baker County"},3]
[null,null,null,null,null,null,null,null,null,null,null,null,null,"Oregon","Benton County",{"$f":"CONCATENATE(tLists4[[#This Row],[State]],\", \",tLists4[[#This Row],[County]])","v":"Oregon, Benton County"},2]
[null,null,null,null,null,null,null,null,null,null,null,null,null,"Oregon","Clackamas County",{"$f":"CONCATENATE(tLists4[[#This Row],[State]],\", \",tLists4[[#This Row],[County]])","v":"Oregon, Clackamas County"},3]
[null,null,null,null,null,null,null,null,null,null,null,null,null,"Oregon","Clatsop County",{"$f":"CONCATENATE(tLists4[[#This Row],[State]],\", \",tLists4[[#This Row],[County]])","v":"Oregon, Clatsop County"},3]
[null,null,null,null,null,null,null,null,null,null,null,null,null,"Oregon","Columbia County",{"$f":"CONCATENATE(tLists4[[#This Row],[State]],\", \",tLists4[[#This Row],[County]])","v":"Oregon, Columbia County"},3]
[null,null,null,null,null,null,null,null,null,null,null,null,null,"Oregon","Coos County",{"$f":"CONCATENATE(tLists4[[#This Row],[State]],\", \",tLists4[[#This Row],[County]])","v":"Oregon, Coos County"},3]
[null,null,null,null,null,null,null,null,null,null,null,null,null,"Oregon","Crook County",{"$f":"CONCATENATE(tLists4[[#This Row],[State]],\", \",tLists4[[#This Row],[County]])","v":"Oregon, Crook County"},6]
[null,null,null,null,null,null,null,null,null,null,null,null,null,"Oregon","Curry County",{"$f":"CONCATENATE(tLists4[[#This Row],[State]],\", \",tLists4[[#This Row],[County]])","v":"Oregon, Curry County"},2]
[null,null,null,null,null,null,null,null,null,null,null,null,null,"Oregon","Deschutes County",{"$f":"CONCATENATE(tLists4[[#This Row],[State]],\", \",tLists4[[#This Row],[County]])","v":"Oregon, Deschutes County"},6]
[null,null,null,null,null,null,null,null,null,null,null,null,null,"Oregon","Douglas County",{"$f":"CONCATENATE(tLists4[[#This Row],[State]],\", \",tLists4[[#This Row],[County]])","v":"Oregon, Douglas County"},3]
[null,null,null,null,null,null,null,null,null,null,null,null,null,"Oregon","Gilliam County",{"$f":"CONCATENATE(tLists4[[#This Row],[State]],\", \",tLists4[[#This Row],[County]])","v":"Oregon, Gilliam County"},6]
[null,null,null,null,null,null,null,null,null,null,null,null,null,"Oregon","Grant County",{"$f":"CONCATENATE(tLists4[[#This Row],[State]],\", \",tLists4[[#This Row],[County]])","v":"Oregon, Grant County"},3]
[null,null,null,null,null,null,null,null,null,null,null,null,null,"Oregon","Harney County",{"$f":"CONCATENATE(tLists4[[#This Row],[State]],\", \",tLists4[[#This Row],[County]])","v":"Oregon, Harney County"},6]
[null,null,null,null,null,null,null,null,null,null,null,null,null,"Oregon","Hood River County",{"$f":"CONCATENATE(tLists4[[#This Row],[State]],\", \",tLists4[[#This Row],[County]])","v":"Oregon, Hood River County"},3]
[null,null,null,null,null,null,null,null,null,null,null,null,null,"Oregon","Jackson County",{"$f":"CONCATENATE(tLists4[[#This Row],[State]],\", \",tLists4[[#This Row],[County]])","v":"Oregon, Jackson County"},3]
[null,null,null,null,null,null,null,null,null,null,null,null,null,"Oregon","Jefferson County",{"$f":"CONCATENATE(tLists4[[#This Row],[State]],\", \",tLists4[[#This Row],[County]])","v":"Oregon, Jefferson County"},3]
[null,null,null,null,null,null,null,null,null,null,null,null,null,"Oregon","Josephine County",{"$f":"CONCATENATE(tLists4[[#This Row],[State]],\", \",tLists4[[#This Row],[County]])","v":"Oregon, Josephine County"},3]
[null,null,null,null,null,null,null,null,null,null,null,null,null,"Oregon","Klamath County",{"$f":"CONCATENATE(tLists4[[#This Row],[State]],\", \",tLists4[[#This Row],[County]])","v":"Oregon, Klamath County"},6]
[null,null,null,null,null,null,null,null,null,null,null,null,null,"Oregon","Lake County",{"$f":"CONCATENATE(tLists4[[#This Row],[State]],\", \",tLists4[[#This Row],[County]])","v":"Oregon, Lake County"},3]
[null,null,null,null,null,null,null,null,null,null,null,null,null,"Oregon","Lane County",{"$f":"CONCATENATE(tLists4[[#This Row],[State]],\", \",tLists4[[#This Row],[County]])","v":"Oregon, Lane County"},3]
[null,null,null,null,null,null,null,null,null,null,null,null,null,"Oregon","Lincoln County",{"$f":"CONCATENATE(tLists4[[#This Row],[State]],\", \",tLists4[[#This Row],[County]])","v":"Oregon, Lincoln County"},2]
[null,null,null,null,null,null,null,null,null,null,null,null,null,"Oregon","Linn County",{"$f":"CONCATENATE(tLists4[[#This Row],[State]],\", \",tLists4[[#This Row],[County]])","v":"Oregon, Linn County"},3]
[null,null,null,null,null,null,null,null,null,null,null,null,null,"Oregon","Malheur County",{"$f":"CONCATENATE(tLists4[[#This Row],[State]],\", \",tLists4[[#This Row],[County]])","v":"Oregon, Malheur County"},6]
[null,null,null,null,null,null,null,null,null,null,null,null,null,"Oregon","Marion County",{"$f":"CONCATENATE(tLists4[[#This Row],[State]],\", \",tLists4[[#This Row],[County]])","v":"Oregon, Marion County"},3]
[null,null,null,null,null,null,null,null,null,null,null,null,null,"Oregon","Morrow County",{"$f":"CONCATENATE(tLists4[[#This Row],[State]],\", \",tLists4[[#This Row],[County]])","v":"Oregon, Morrow County"},3]
[null,null,null,null,null,null,null,null,null,null,null,null,null,"Oregon","Multnomah County",{"$f":"CONCATENATE(tLists4[[#This Row],[State]],\", \",tLists4[[#This Row],[County]])","v":"Oregon, Multnomah County"},3]
[null,null,null,null,null,null,null,null,null,null,null,null,null,"Oregon","Polk County",{"$f":"CONCATENATE(tLists4[[#This Row],[State]],\", \",tLists4[[#This Row],[County]])","v":"Oregon, Polk County"},2]
[null,null,null,null,null,null,null,null,null,null,null,null,null,"Oregon","Sherman County",{"$f":"CONCATENATE(tLists4[[#This Row],[State]],\", \",tLists4[[#This Row],[County]])","v":"Oregon, Sherman County"},6]
[null,null,null,null,null,null,null,null,null,null,null,null,null,"Oregon","Tillamook County",{"$f":"CONCATENATE(tLists4[[#This Row],[State]],\", \",tLists4[[#This Row],[County]])","v":"Oregon, Tillamook County"},3]
[null,null,null,null,null,null,null,null,null,null,null,null,null,"Oregon","Umatilla County",{"$f":"CONCATENATE(tLists4[[#This Row],[State]],\", \",tLists4[[#This Row],[County]])","v":"Oregon, Umatilla County"},3]
[null,null,null,null,null,null,null,null,null,null,null,null,null,"Oregon","Union County",{"$f":"CONCATENATE(tLists4[[#This Row],[State]],\", \",tLists4[[#This Row],[County]])","v":"Oregon, Union County"},3]
[null,null,null,null,null,null,null,null,null,null,null,null,null,"Oregon","Wallowa County",{"$f":"CONCATENATE(tLists4[[#This Row],[State]],\", \",tLists4[[#This Row],[County]])","v":"Oregon, Wallowa County"},3]
[null,null,null,null,null,null,null,null,null,null,null,null,null,"Oregon","Wasco County",{"$f":"CONCATENATE(tLists4[[#This Row],[State]],\", \",tLists4[[#This Row],[County]])","v":"Oregon, Wasco County"},6]
[null,null,null,null,null,null,null,null,null,null,null,null,null,"Oregon","Washington County",{"$f":"CONCATENATE(tLists4[[#This Row],[State]],\", \",tLists4[[#This Row],[County]])","v":"Oregon, Washington County"},3]
[null,null,null,null,null,null,null,null,null,null,null,null,null,"Oregon","Wheeler County",{"$f":"CONCATENATE(tLists4[[#This Row],[State]],\", \",tLists4[[#This Row],[County]])","v":"Oregon, Wheeler County"},3]
[null,null,null,null,null,null,null,null,null,null,null,null,null,"Oregon","Yamhill County",{"$f":"CONCATENATE(tLists4[[#This Row],[State]],\", \",tLists4[[#This Row],[County]])","v":"Oregon, Yamhill County"},3]
[null,null,null,null,null,null,null,null,null,null,null,null,null,"Pennsylvania","Adams County",{"$f":"CONCATENATE(tLists4[[#This Row],[State]],\", \",tLists4[[#This Row],[County]])","v":"Pennsylvania, Adams County"},2]
[null,null,null,null,null,null,null,null,null,null,null,null,null,"Pennsylvania","Allegheny County",{"$f":"CONCATENATE(tLists4[[#This Row],[State]],\", \",tLists4[[#This Row],[County]])","v":"Pennsylvania, Allegheny County"},3]
[null,null,null,null,null,null,null,null,null,null,null,null,null,"Pennsylvania","Armstrong County",{"$f":"CONCATENATE(tLists4[[#This Row],[State]],\", \",tLists4[[#This Row],[County]])","v":"Pennsylvania, Armstrong County"},2]
[null,null,null,null,null,null,null,null,null,null,null,null,null,"Pennsylvania","Beaver County",{"$f":"CONCATENATE(tLists4[[#This Row],[State]],\", \",tLists4[[#This Row],[County]])","v":"Pennsylvania, Beaver County"},3]
[null,null,null,null,null,null,null,null,null,null,null,null,null,"Pennsylvania","Bedford County",{"$f":"CONCATENATE(tLists4[[#This Row],[State]],\", \",tLists4[[#This Row],[County]])","v":"Pennsylvania, Bedford County"},2]
[null,null,null,null,null,null,null,null,null,null,null,null,null,"Pennsylvania","Berks County",{"$f":"CONCATENATE(tLists4[[#This Row],[State]],\", \",tLists4[[#This Row],[County]])","v":"Pennsylvania, Berks County"},"Not Eligible for Credit"]
[null,null,null,null,null,null,null,null,null,null,null,null,null,"Pennsylvania","Blair County",{"$f":"CONCATENATE(tLists4[[#This Row],[State]],\", \",tLists4[[#This Row],[County]])","v":"Pennsylvania, Blair County"},2]
[null,null,null,null,null,null,null,null,null,null,null,null,null,"Pennsylvania","Bradford County",{"$f":"CONCATENATE(tLists4[[#This Row],[State]],\", \",tLists4[[#This Row],[County]])","v":"Pennsylvania, Bradford County"},2]
[null,null,null,null,null,null,null,null,null,null,null,null,null,"Pennsylvania","Bucks County",{"$f":"CONCATENATE(tLists4[[#This Row],[State]],\", \",tLists4[[#This Row],[County]])","v":"Pennsylvania, Bucks County"},"Not Eligible for Credit"]
[null,null,null,null,null,null,null,null,null,null,null,null,null,"Pennsylvania","Butler County",{"$f":"CONCATENATE(tLists4[[#This Row],[State]],\", \",tLists4[[#This Row],[County]])","v":"Pennsylvania, Butler County"},2]
[null,null,null,null,null,null,null,null,null,null,null,null,null,"Pennsylvania","Cambria County",{"$f":"CONCATENATE(tLists4[[#This Row],[State]],\", \",tLists4[[#This Row],[County]])","v":"Pennsylvania, Cambria County"},2]
[null,null,null,null,null,null,null,null,null,null,null,null,null,"Pennsylvania","Cameron County",{"$f":"CONCATENATE(tLists4[[#This Row],[State]],\", \",tLists4[[#This Row],[County]])","v":"Pennsylvania, Cameron County"},2]
[null,null,null,null,null,null,null,null,null,null,null,null,null,"Pennsylvania","Carbon County",{"$f":"CONCATENATE(tLists4[[#This Row],[State]],\", \",tLists4[[#This Row],[County]])","v":"Pennsylvania, Carbon County"},"Not Eligible for Credit"]
[null,null,null,null,null,null,null,null,null,null,null,null,null,"Pennsylvania","Centre County",{"$f":"CONCATENATE(tLists4[[#This Row],[State]],\", \",tLists4[[#This Row],[County]])","v":"Pennsylvania, Centre County"},2]
[null,null,null,null,null,null,null,null,null,null,null,null,null,"Pennsylvania","Chester County",{"$f":"CONCATENATE(tLists4[[#This Row],[State]],\", \",tLists4[[#This Row],[County]])","v":"Pennsylvania, Chester County"},2]
[null,null,null,null,null,null,null,null,null,null,null,null,null,"Pennsylvania","Clarion County",{"$f":"CONCATENATE(tLists4[[#This Row],[State]],\", \",tLists4[[#This Row],[County]])","v":"Pennsylvania, Clarion County"},2]
[null,null,null,null,null,null,null,null,null,null,null,null,null,"Pennsylvania","Clearfield County",{"$f":"CONCATENATE(tLists4[[#This Row],[State]],\", \",tLists4[[#This Row],[County]])","v":"Pennsylvania, Clearfield County"},2]
[null,null,null,null,null,null,null,null,null,null,null,null,null,"Pennsylvania","Clinton County",{"$f":"CONCATENATE(tLists4[[#This Row],[State]],\", \",tLists4[[#This Row],[County]])","v":"Pennsylvania, Clinton County"},2]
[null,null,null,null,null,null,null,null,null,null,null,null,null,"Pennsylvania","Columbia County",{"$f":"CONCATENATE(tLists4[[#This Row],[State]],\", \",tLists4[[#This Row],[County]])","v":"Pennsylvania, Columbia County"},2]
[null,null,null,null,null,null,null,null,null,null,null,null,null,"Pennsylvania","Crawford County",{"$f":"CONCATENATE(tLists4[[#This Row],[State]],\", \",tLists4[[#This Row],[County]])","v":"Pennsylvania, Crawford County"},2]
[null,null,null,null,null,null,null,null,null,null,null,null,null,"Pennsylvania","Cumberland County",{"$f":"CONCATENATE(tLists4[[#This Row],[State]],\", \",tLists4[[#This Row],[County]])","v":"Pennsylvania, Cumberland County"},2]
[null,null,null,null,null,null,null,null,null,null,null,null,null,"Pennsylvania","Dauphin County",{"$f":"CONCATENATE(tLists4[[#This Row],[State]],\", \",tLists4[[#This Row],[County]])","v":"Pennsylvania, Dauphin County"},2]
[null,null,null,null,null,null,null,null,null,null,null,null,null,"Pennsylvania","Delaware County",{"$f":"CONCATENATE(tLists4[[#This Row],[State]],\", \",tLists4[[#This Row],[County]])","v":"Pennsylvania, Delaware County"},"Not Eligible for Credit"]
[null,null,null,null,null,null,null,null,null,null,null,null,null,"Pennsylvania","Elk County",{"$f":"CONCATENATE(tLists4[[#This Row],[State]],\", \",tLists4[[#This Row],[County]])","v":"Pennsylvania, Elk County"},2]
[null,null,null,null,null,null,null,null,null,null,null,null,null,"Pennsylvania","Erie County",{"$f":"CONCATENATE(tLists4[[#This Row],[State]],\", \",tLists4[[#This Row],[County]])","v":"Pennsylvania, Erie County"},2]
[null,null,null,null,null,null,null,null,null,null,null,null,null,"Pennsylvania","Fayette County",{"$f":"CONCATENATE(tLists4[[#This Row],[State]],\", \",tLists4[[#This Row],[County]])","v":"Pennsylvania, Fayette County"},2]
[null,null,null,null,null,null,null,null,null,null,null,null,null,"Pennsylvania","Forest County",{"$f":"CONCATENATE(tLists4[[#This Row],[State]],\", \",tLists4[[#This Row],[County]])","v":"Pennsylvania, Forest County"},2]
[null,null,null,null,null,null,null,null,null,null,null,null,null,"Pennsylvania","Franklin County",{"$f":"CONCATENATE(tLists4[[#This Row],[State]],\", \",tLists4[[#This Row],[County]])","v":"Pennsylvania, Franklin County"},2]
[null,null,null,null,null,null,null,null,null,null,null,null,null,"Pennsylvania","Fulton County",{"$f":"CONCATENATE(tLists4[[#This Row],[State]],\", \",tLists4[[#This Row],[County]])","v":"Pennsylvania, Fulton County"},2]
[null,null,null,null,null,null,null,null,null,null,null,null,null,"Pennsylvania","Greene County",{"$f":"CONCATENATE(tLists4[[#This Row],[State]],\", \",tLists4[[#This Row],[County]])","v":"Pennsylvania, Greene County"},3]
[null,null,null,null,null,null,null,null,null,null,null,null,null,"Pennsylvania","Huntingdon County",{"$f":"CONCATENATE(tLists4[[#This Row],[State]],\", \",tLists4[[#This Row],[County]])","v":"Pennsylvania, Huntingdon County"},2]
[null,null,null,null,null,null,null,null,null,null,null,null,null,"Pennsylvania","Indiana County",{"$f":"CONCATENATE(tLists4[[#This Row],[State]],\", \",tLists4[[#This Row],[County]])","v":"Pennsylvania, Indiana County"},2]
[null,null,null,null,null,null,null,null,null,null,null,null,null,"Pennsylvania","Jefferson County",{"$f":"CONCATENATE(tLists4[[#This Row],[State]],\", \",tLists4[[#This Row],[County]])","v":"Pennsylvania, Jefferson County"},2]
[null,null,null,null,null,null,null,null,null,null,null,null,null,"Pennsylvania","Juniata County",{"$f":"CONCATENATE(tLists4[[#This Row],[State]],\", \",tLists4[[#This Row],[County]])","v":"Pennsylvania, Juniata County"},2]
[null,null,null,null,null,null,null,null,null,null,null,null,null,"Pennsylvania","Lackawanna County",{"$f":"CONCATENATE(tLists4[[#This Row],[State]],\", \",tLists4[[#This Row],[County]])","v":"Pennsylvania, Lackawanna County"},2]
[null,null,null,null,null,null,null,null,null,null,null,null,null,"Pennsylvania","Lancaster County",{"$f":"CONCATENATE(tLists4[[#This Row],[State]],\", \",tLists4[[#This Row],[County]])","v":"Pennsylvania, Lancaster County"},2]
[null,null,null,null,null,null,null,null,null,null,null,null,null,"Pennsylvania","Lawrence County",{"$f":"CONCATENATE(tLists4[[#This Row],[State]],\", \",tLists4[[#This Row],[County]])","v":"Pennsylvania, Lawrence County"},2]
[null,null,null,null,null,null,null,null,null,null,null,null,null,"Pennsylvania","Lebanon County",{"$f":"CONCATENATE(tLists4[[#This Row],[State]],\", \",tLists4[[#This Row],[County]])","v":"Pennsylvania, Lebanon County"},"Not Eligible for Credit"]
[null,null,null,null,null,null,null,null,null,null,null,null,null,"Pennsylvania","Lehigh County",{"$f":"CONCATENATE(tLists4[[#This Row],[State]],\", \",tLists4[[#This Row],[County]])","v":"Pennsylvania, Lehigh County"},2]
[null,null,null,null,null,null,null,null,null,null,null,null,null,"Pennsylvania","Luzerne County",{"$f":"CONCATENATE(tLists4[[#This Row],[State]],\", \",tLists4[[#This Row],[County]])","v":"Pennsylvania, Luzerne County"},2]
[null,null,null,null,null,null,null,null,null,null,null,null,null,"Pennsylvania","Lycoming County",{"$f":"CONCATENATE(tLists4[[#This Row],[State]],\", \",tLists4[[#This Row],[County]])","v":"Pennsylvania, Lycoming County"},2]
[null,null,null,null,null,null,null,null,null,null,null,null,null,"Pennsylvania","McKean County",{"$f":"CONCATENATE(tLists4[[#This Row],[State]],\", \",tLists4[[#This Row],[County]])","v":"Pennsylvania, McKean County"},2]
[null,null,null,null,null,null,null,null,null,null,null,null,null,"Pennsylvania","Mercer County",{"$f":"CONCATENATE(tLists4[[#This Row],[State]],\", \",tLists4[[#This Row],[County]])","v":"Pennsylvania, Mercer County"},2]
[null,null,null,null,null,null,null,null,null,null,null,null,null,"Pennsylvania","Mifflin County",{"$f":"CONCATENATE(tLists4[[#This Row],[State]],\", \",tLists4[[#This Row],[County]])","v":"Pennsylvania, Mifflin County"},2]
[null,null,null,null,null,null,null,null,null,null,null,null,null,"Pennsylvania","Monroe County",{"$f":"CONCATENATE(tLists4[[#This Row],[State]],\", \",tLists4[[#This Row],[County]])","v":"Pennsylvania, Monroe County"},2]
[null,null,null,null,null,null,null,null,null,null,null,null,null,"Pennsylvania","Montgomery County",{"$f":"CONCATENATE(tLists4[[#This Row],[State]],\", \",tLists4[[#This Row],[County]])","v":"Pennsylvania, Montgomery County"},2]
[null,null,null,null,null,null,null,null,null,null,null,null,null,"Pennsylvania","Montour County",{"$f":"CONCATENATE(tLists4[[#This Row],[State]],\", \",tLists4[[#This Row],[County]])","v":"Pennsylvania, Montour County"},2]
[null,null,null,null,null,null,null,null,null,null,null,null,null,"Pennsylvania","Northampton County",{"$f":"CONCATENATE(tLists4[[#This Row],[State]],\", \",tLists4[[#This Row],[County]])","v":"Pennsylvania, Northampton County"},"Not Eligible for Credit"]
[null,null,null,null,null,null,null,null,null,null,null,null,null,"Pennsylvania","Northumberland County",{"$f":"CONCATENATE(tLists4[[#This Row],[State]],\", \",tLists4[[#This Row],[County]])","v":"Pennsylvania, Northumberland County"},2]
[null,null,null,null,null,null,null,null,null,null,null,null,null,"Pennsylvania","Perry County",{"$f":"CONCATENATE(tLists4[[#This Row],[State]],\", \",tLists4[[#This Row],[County]])","v":"Pennsylvania, Perry County"},2]
[null,null,null,null,null,null,null,null,null,null,null,null,null,"Pennsylvania","Philadelphia County",{"$f":"CONCATENATE(tLists4[[#This Row],[State]],\", \",tLists4[[#This Row],[County]])","v":"Pennsylvania, Philadelphia County"},"Not Eligible for Credit"]
[null,null,null,null,null,null,null,null,null,null,null,null,null,"Pennsylvania","Pike County",{"$f":"CONCATENATE(tLists4[[#This Row],[State]],\", \",tLists4[[#This Row],[County]])","v":"Pennsylvania, Pike County"},2]
[null,null,null,null,null,null,null,null,null,null,null,null,null,"Pennsylvania","Potter County",{"$f":"CONCATENATE(tLists4[[#This Row],[State]],\", \",tLists4[[#This Row],[County]])","v":"Pennsylvania, Potter County"},2]
[null,null,null,null,null,null,null,null,null,null,null,null,null,"Pennsylvania","Schuylkill County",{"$f":"CONCATENATE(tLists4[[#This Row],[State]],\", \",tLists4[[#This Row],[County]])","v":"Pennsylvania, Schuylkill County"},2]
[null,null,null,null,null,null,null,null,null,null,null,null,null,"Pennsylvania","Snyder County",{"$f":"CONCATENATE(tLists4[[#This Row],[State]],\", \",tLists4[[#This Row],[County]])","v":"Pennsylvania, Snyder County"},2]
[null,null,null,null,null,null,null,null,null,null,null,null,null,"Pennsylvania","Somerset County",{"$f":"CONCATENATE(tLists4[[#This Row],[State]],\", \",tLists4[[#This Row],[County]])","v":"Pennsylvania, Somerset County"},2]
[null,null,null,null,null,null,null,null,null,null,null,null,null,"Pennsylvania","Sullivan County",{"$f":"CONCATENATE(tLists4[[#This Row],[State]],\", \",tLists4[[#This Row],[County]])","v":"Pennsylvania, Sullivan County"},2]
[null,null,null,null,null,null,null,null,null,null,null,null,null,"Pennsylvania","Susquehanna County",{"$f":"CONCATENATE(tLists4[[#This Row],[State]],\", \",tLists4[[#This Row],[County]])","v":"Pennsylvania, Susquehanna County"},2]
[null,null,null,null,null,null,null,null,null,null,null,null,null,"Pennsylvania","Tioga County",{"$f":"CONCATENATE(tLists4[[#This Row],[State]],\", \",tLists4[[#This Row],[County]])","v":"Pennsylvania, Tioga County"},2]
[null,null,null,null,null,null,null,null,null,null,null,null,null,"Pennsylvania","Union County",{"$f":"CONCATENATE(tLists4[[#This Row],[State]],\", \",tLists4[[#This Row],[County]])","v":"Pennsylvania, Union County"},2]
[null,null,null,null,null,null,null,null,null,null,null,null,null,"Pennsylvania","Venango County",{"$f":"CONCATENATE(tLists4[[#This Row],[State]],\", \",tLists4[[#This Row],[County]])","v":"Pennsylvania, Venango County"},3]
[null,null,null,null,null,null,null,null,null,null,null,null,null,"Pennsylvania","Warren County",{"$f":"CONCATENATE(tLists4[[#This Row],[State]],\", \",tLists4[[#This Row],[County]])","v":"Pennsylvania, Warren County"},2]
[null,null,null,null,null,null,null,null,null,null,null,null,null,"Pennsylvania","Washington County",{"$f":"CONCATENATE(tLists4[[#This Row],[State]],\", \",tLists4[[#This Row],[County]])","v":"Pennsylvania, Washington County"},2]
[null,null,null,null,null,null,null,null,null,null,null,null,null,"Pennsylvania","Wayne County",{"$f":"CONCATENATE(tLists4[[#This Row],[State]],\", \",tLists4[[#This Row],[County]])","v":"Pennsylvania, Wayne County"},2]
[null,null,null,null,null,null,null,null,null,null,null,null,null,"Pennsylvania","Westmoreland County",{"$f":"CONCATENATE(tLists4[[#This Row],[State]],\", \",tLists4[[#This Row],[County]])","v":"Pennsylvania, Westmoreland County"},2]
[null,null,null,null,null,null,null,null,null,null,null,null,null,"Pennsylvania","Wyoming County",{"$f":"CONCATENATE(tLists4[[#This Row],[State]],\", \",tLists4[[#This Row],[County]])","v":"Pennsylvania, Wyoming County"},2]
[null,null,null,null,null,null,null,null,null,null,null,null,null,"Pennsylvania","York County",{"$f":"CONCATENATE(tLists4[[#This Row],[State]],\", \",tLists4[[#This Row],[County]])","v":"Pennsylvania, York County"},2]
[null,null,null,null,null,null,null,null,null,null,null,null,null,"Rhode_Island","Bristol County",{"$f":"CONCATENATE(tLists4[[#This Row],[State]],\", \",tLists4[[#This Row],[County]])","v":"Rhode_Island, Bristol County"},"Not Eligible for Credit"]
[null,null,null,null,null,null,null,null,null,null,null,null,null,"Rhode_Island","Kent County",{"$f":"CONCATENATE(tLists4[[#This Row],[State]],\", \",tLists4[[#This Row],[County]])","v":"Rhode_Island, Kent County"},"Not Eligible for Credit"]
[null,null,null,null,null,null,null,null,null,null,null,null,null,"Rhode_Island","Newport County",{"$f":"CONCATENATE(tLists4[[#This Row],[State]],\", \",tLists4[[#This Row],[County]])","v":"Rhode_Island, Newport County"},"Not Eligible for Credit"]
[null,null,null,null,null,null,null,null,null,null,null,null,null,"Rhode_Island","Providence County",{"$f":"CONCATENATE(tLists4[[#This Row],[State]],\", \",tLists4[[#This Row],[County]])","v":"Rhode_Island, Providence County"},2]
[null,null,null,null,null,null,null,null,null,null,null,null,null,"Rhode_Island","Washington County",{"$f":"CONCATENATE(tLists4[[#This Row],[State]],\", \",tLists4[[#This Row],[County]])","v":"Rhode_Island, Washington County"},2]
[null,null,null,null,null,null,null,null,null,null,null,null,null,"South_Carolina","Abbeville County",{"$f":"CONCATENATE(tLists4[[#This Row],[State]],\", \",tLists4[[#This Row],[County]])","v":"South_Carolina, Abbeville County"},2]
[null,null,null,null,null,null,null,null,null,null,null,null,null,"South_Carolina","Aiken County",{"$f":"CONCATENATE(tLists4[[#This Row],[State]],\", \",tLists4[[#This Row],[County]])","v":"South_Carolina, Aiken County"},2]
[null,null,null,null,null,null,null,null,null,null,null,null,null,"South_Carolina","Allendale County",{"$f":"CONCATENATE(tLists4[[#This Row],[State]],\", \",tLists4[[#This Row],[County]])","v":"South_Carolina, Allendale County"},2]
[null,null,null,null,null,null,null,null,null,null,null,null,null,"South_Carolina","Anderson County",{"$f":"CONCATENATE(tLists4[[#This Row],[State]],\", \",tLists4[[#This Row],[County]])","v":"South_Carolina, Anderson County"},3]
[null,null,null,null,null,null,null,null,null,null,null,null,null,"South_Carolina","Bamberg County",{"$f":"CONCATENATE(tLists4[[#This Row],[State]],\", \",tLists4[[#This Row],[County]])","v":"South_Carolina, Bamberg County"},2]
[null,null,null,null,null,null,null,null,null,null,null,null,null,"South_Carolina","Barnwell County",{"$f":"CONCATENATE(tLists4[[#This Row],[State]],\", \",tLists4[[#This Row],[County]])","v":"South_Carolina, Barnwell County"},2]
[null,null,null,null,null,null,null,null,null,null,null,null,null,"South_Carolina","Beaufort County",{"$f":"CONCATENATE(tLists4[[#This Row],[State]],\", \",tLists4[[#This Row],[County]])","v":"South_Carolina, Beaufort County"},2]
[null,null,null,null,null,null,null,null,null,null,null,null,null,"South_Carolina","Berkeley County",{"$f":"CONCATENATE(tLists4[[#This Row],[State]],\", \",tLists4[[#This Row],[County]])","v":"South_Carolina, Berkeley County"},2]
[null,null,null,null,null,null,null,null,null,null,null,null,null,"South_Carolina","Calhoun County",{"$f":"CONCATENATE(tLists4[[#This Row],[State]],\", \",tLists4[[#This Row],[County]])","v":"South_Carolina, Calhoun County"},2]
[null,null,null,null,null,null,null,null,null,null,null,null,null,"South_Carolina","Charleston County",{"$f":"CONCATENATE(tLists4[[#This Row],[State]],\", \",tLists4[[#This Row],[County]])","v":"South_Carolina, Charleston County"},2]
[null,null,null,null,null,null,null,null,null,null,null,null,null,"South_Carolina","Cherokee County",{"$f":"CONCATENATE(tLists4[[#This Row],[State]],\", \",tLists4[[#This Row],[County]])","v":"South_Carolina, Cherokee County"},2]
[null,null,null,null,null,null,null,null,null,null,null,null,null,"South_Carolina","Chester County",{"$f":"CONCATENATE(tLists4[[#This Row],[State]],\", \",tLists4[[#This Row],[County]])","v":"South_Carolina, Chester County"},2]
[null,null,null,null,null,null,null,null,null,null,null,null,null,"South_Carolina","Chesterfield County",{"$f":"CONCATENATE(tLists4[[#This Row],[State]],\", \",tLists4[[#This Row],[County]])","v":"South_Carolina, Chesterfield County"},2]
[null,null,null,null,null,null,null,null,null,null,null,null,null,"South_Carolina","Clarendon County",{"$f":"CONCATENATE(tLists4[[#This Row],[State]],\", \",tLists4[[#This Row],[County]])","v":"South_Carolina, Clarendon County"},2]
[null,null,null,null,null,null,null,null,null,null,null,null,null,"South_Carolina","Colleton County",{"$f":"CONCATENATE(tLists4[[#This Row],[State]],\", \",tLists4[[#This Row],[County]])","v":"South_Carolina, Colleton County"},2]
[null,null,null,null,null,null,null,null,null,null,null,null,null,"South_Carolina","Darlington County",{"$f":"CONCATENATE(tLists4[[#This Row],[State]],\", \",tLists4[[#This Row],[County]])","v":"South_Carolina, Darlington County"},2]
[null,null,null,null,null,null,null,null,null,null,null,null,null,"South_Carolina","Dillon County",{"$f":"CONCATENATE(tLists4[[#This Row],[State]],\", \",tLists4[[#This Row],[County]])","v":"South_Carolina, Dillon County"},"Not Eligible for Credit"]
[null,null,null,null,null,null,null,null,null,null,null,null,null,"South_Carolina","Dorchester County",{"$f":"CONCATENATE(tLists4[[#This Row],[State]],\", \",tLists4[[#This Row],[County]])","v":"South_Carolina, Dorchester County"},2]
[null,null,null,null,null,null,null,null,null,null,null,null,null,"South_Carolina","Edgefield County",{"$f":"CONCATENATE(tLists4[[#This Row],[State]],\", \",tLists4[[#This Row],[County]])","v":"South_Carolina, Edgefield County"},2]
[null,null,null,null,null,null,null,null,null,null,null,null,null,"South_Carolina","Fairfield County",{"$f":"CONCATENATE(tLists4[[#This Row],[State]],\", \",tLists4[[#This Row],[County]])","v":"South_Carolina, Fairfield County"},3]
[null,null,null,null,null,null,null,null,null,null,null,null,null,"South_Carolina","Florence County",{"$f":"CONCATENATE(tLists4[[#This Row],[State]],\", \",tLists4[[#This Row],[County]])","v":"South_Carolina, Florence County"},2]
[null,null,null,null,null,null,null,null,null,null,null,null,null,"South_Carolina","Georgetown County",{"$f":"CONCATENATE(tLists4[[#This Row],[State]],\", \",tLists4[[#This Row],[County]])","v":"South_Carolina, Georgetown County"},2]
[null,null,null,null,null,null,null,null,null,null,null,null,null,"South_Carolina","Greenville County",{"$f":"CONCATENATE(tLists4[[#This Row],[State]],\", \",tLists4[[#This Row],[County]])","v":"South_Carolina, Greenville County"},3]
[null,null,null,null,null,null,null,null,null,null,null,null,null,"South_Carolina","Greenwood County",{"$f":"CONCATENATE(tLists4[[#This Row],[State]],\", \",tLists4[[#This Row],[County]])","v":"South_Carolina, Greenwood County"},2]
[null,null,null,null,null,null,null,null,null,null,null,null,null,"South_Carolina","Hampton County",{"$f":"CONCATENATE(tLists4[[#This Row],[State]],\", \",tLists4[[#This Row],[County]])","v":"South_Carolina, Hampton County"},"Not Eligible for Credit"]
[null,null,null,null,null,null,null,null,null,null,null,null,null,"South_Carolina","Horry County",{"$f":"CONCATENATE(tLists4[[#This Row],[State]],\", \",tLists4[[#This Row],[County]])","v":"South_Carolina, Horry County"},"Not Eligible for Credit"]
[null,null,null,null,null,null,null,null,null,null,null,null,null,"South_Carolina","Jasper County",{"$f":"CONCATENATE(tLists4[[#This Row],[State]],\", \",tLists4[[#This Row],[County]])","v":"South_Carolina, Jasper County"},"Not Eligible for Credit"]
[null,null,null,null,null,null,null,null,null,null,null,null,null,"South_Carolina","Kershaw County",{"$f":"CONCATENATE(tLists4[[#This Row],[State]],\", \",tLists4[[#This Row],[County]])","v":"South_Carolina, Kershaw County"},2]
[null,null,null,null,null,null,null,null,null,null,null,null,null,"South_Carolina","Lancaster County",{"$f":"CONCATENATE(tLists4[[#This Row],[State]],\", \",tLists4[[#This Row],[County]])","v":"South_Carolina, Lancaster County"},2]
[null,null,null,null,null,null,null,null,null,null,null,null,null,"South_Carolina","Laurens County",{"$f":"CONCATENATE(tLists4[[#This Row],[State]],\", \",tLists4[[#This Row],[County]])","v":"South_Carolina, Laurens County"},2]
[null,null,null,null,null,null,null,null,null,null,null,null,null,"South_Carolina","Lee County",{"$f":"CONCATENATE(tLists4[[#This Row],[State]],\", \",tLists4[[#This Row],[County]])","v":"South_Carolina, Lee County"},2]
[null,null,null,null,null,null,null,null,null,null,null,null,null,"South_Carolina","Lexington County",{"$f":"CONCATENATE(tLists4[[#This Row],[State]],\", \",tLists4[[#This Row],[County]])","v":"South_Carolina, Lexington County"},2]
[null,null,null,null,null,null,null,null,null,null,null,null,null,"South_Carolina","Marion County",{"$f":"CONCATENATE(tLists4[[#This Row],[State]],\", \",tLists4[[#This Row],[County]])","v":"South_Carolina, Marion County"},"Not Eligible for Credit"]
[null,null,null,null,null,null,null,null,null,null,null,null,null,"South_Carolina","Marlboro County",{"$f":"CONCATENATE(tLists4[[#This Row],[State]],\", \",tLists4[[#This Row],[County]])","v":"South_Carolina, Marlboro County"},2]
[null,null,null,null,null,null,null,null,null,null,null,null,null,"South_Carolina","McCormick County",{"$f":"CONCATENATE(tLists4[[#This Row],[State]],\", \",tLists4[[#This Row],[County]])","v":"South_Carolina, McCormick County"},2]
[null,null,null,null,null,null,null,null,null,null,null,null,null,"South_Carolina","Newberry County",{"$f":"CONCATENATE(tLists4[[#This Row],[State]],\", \",tLists4[[#This Row],[County]])","v":"South_Carolina, Newberry County"},2]
[null,null,null,null,null,null,null,null,null,null,null,null,null,"South_Carolina","Oconee County",{"$f":"CONCATENATE(tLists4[[#This Row],[State]],\", \",tLists4[[#This Row],[County]])","v":"South_Carolina, Oconee County"},2]
[null,null,null,null,null,null,null,null,null,null,null,null,null,"South_Carolina","Orangeburg County",{"$f":"CONCATENATE(tLists4[[#This Row],[State]],\", \",tLists4[[#This Row],[County]])","v":"South_Carolina, Orangeburg County"},2]
[null,null,null,null,null,null,null,null,null,null,null,null,null,"South_Carolina","Pickens County",{"$f":"CONCATENATE(tLists4[[#This Row],[State]],\", \",tLists4[[#This Row],[County]])","v":"South_Carolina, Pickens County"},3]
[null,null,null,null,null,null,null,null,null,null,null,null,null,"South_Carolina","Richland County",{"$f":"CONCATENATE(tLists4[[#This Row],[State]],\", \",tLists4[[#This Row],[County]])","v":"South_Carolina, Richland County"},2]
[null,null,null,null,null,null,null,null,null,null,null,null,null,"South_Carolina","Saluda County",{"$f":"CONCATENATE(tLists4[[#This Row],[State]],\", \",tLists4[[#This Row],[County]])","v":"South_Carolina, Saluda County"},"Not Eligible for Credit"]
[null,null,null,null,null,null,null,null,null,null,null,null,null,"South_Carolina","Spartanburg County",{"$f":"CONCATENATE(tLists4[[#This Row],[State]],\", \",tLists4[[#This Row],[County]])","v":"South_Carolina, Spartanburg County"},2]
[null,null,null,null,null,null,null,null,null,null,null,null,null,"South_Carolina","Sumter County",{"$f":"CONCATENATE(tLists4[[#This Row],[State]],\", \",tLists4[[#This Row],[County]])","v":"South_Carolina, Sumter County"},2]
[null,null,null,null,null,null,null,null,null,null,null,null,null,"South_Carolina","Union County",{"$f":"CONCATENATE(tLists4[[#This Row],[State]],\", \",tLists4[[#This Row],[County]])","v":"South_Carolina, Union County"},2]
[null,null,null,null,null,null,null,null,null,null,null,null,null,"South_Carolina","Williamsburg County",{"$f":"CONCATENATE(tLists4[[#This Row],[State]],\", \",tLists4[[#This Row],[County]])","v":"South_Carolina, Williamsburg County"},2]
[null,null,null,null,null,null,null,null,null,null,null,null,null,"South_Carolina","York County",{"$f":"CONCATENATE(tLists4[[#This Row],[State]],\", \",tLists4[[#This Row],[County]])","v":"South_Carolina, York County"},2]
[null,null,null,null,null,null,null,null,null,null,null,null,null,"South_Dakota","Aurora County",{"$f":"CONCATENATE(tLists4[[#This Row],[State]],\", \",tLists4[[#This Row],[County]])","v":"South_Dakota, Aurora County"},2]
[null,null,null,null,null,null,null,null,null,null,null,null,null,"South_Dakota","Beadle County",{"$f":"CONCATENATE(tLists4[[#This Row],[State]],\", \",tLists4[[#This Row],[County]])","v":"South_Dakota, Beadle County"},2]
[null,null,null,null,null,null,null,null,null,null,null,null,null,"South_Dakota","Bennett County",{"$f":"CONCATENATE(tLists4[[#This Row],[State]],\", \",tLists4[[#This Row],[County]])","v":"South_Dakota, Bennett County"},2]
[null,null,null,null,null,null,null,null,null,null,null,null,null,"South_Dakota","Bon Homme County",{"$f":"CONCATENATE(tLists4[[#This Row],[State]],\", \",tLists4[[#This Row],[County]])","v":"South_Dakota, Bon Homme County"},2]
[null,null,null,null,null,null,null,null,null,null,null,null,null,"South_Dakota","Brookings County",{"$f":"CONCATENATE(tLists4[[#This Row],[State]],\", \",tLists4[[#This Row],[County]])","v":"South_Dakota, Brookings County"},2]
[null,null,null,null,null,null,null,null,null,null,null,null,null,"South_Dakota","Brown County",{"$f":"CONCATENATE(tLists4[[#This Row],[State]],\", \",tLists4[[#This Row],[County]])","v":"South_Dakota, Brown County"},2]
[null,null,null,null,null,null,null,null,null,null,null,null,null,"South_Dakota","Brule County",{"$f":"CONCATENATE(tLists4[[#This Row],[State]],\", \",tLists4[[#This Row],[County]])","v":"South_Dakota, Brule County"},2]
[null,null,null,null,null,null,null,null,null,null,null,null,null,"South_Dakota","Buffalo County",{"$f":"CONCATENATE(tLists4[[#This Row],[State]],\", \",tLists4[[#This Row],[County]])","v":"South_Dakota, Buffalo County"},2]
[null,null,null,null,null,null,null,null,null,null,null,null,null,"South_Dakota","Butte County",{"$f":"CONCATENATE(tLists4[[#This Row],[State]],\", \",tLists4[[#This Row],[County]])","v":"South_Dakota, Butte County"},2]
[null,null,null,null,null,null,null,null,null,null,null,null,null,"South_Dakota","Campbell County",{"$f":"CONCATENATE(tLists4[[#This Row],[State]],\", \",tLists4[[#This Row],[County]])","v":"South_Dakota, Campbell County"},2]
[null,null,null,null,null,null,null,null,null,null,null,null,null,"South_Dakota","Charles Mix County",{"$f":"CONCATENATE(tLists4[[#This Row],[State]],\", \",tLists4[[#This Row],[County]])","v":"South_Dakota, Charles Mix County"},2]
[null,null,null,null,null,null,null,null,null,null,null,null,null,"South_Dakota","Clark County",{"$f":"CONCATENATE(tLists4[[#This Row],[State]],\", \",tLists4[[#This Row],[County]])","v":"South_Dakota, Clark County"},2]
[null,null,null,null,null,null,null,null,null,null,null,null,null,"South_Dakota","Clay County",{"$f":"CONCATENATE(tLists4[[#This Row],[State]],\", \",tLists4[[#This Row],[County]])","v":"South_Dakota, Clay County"},2]
[null,null,null,null,null,null,null,null,null,null,null,null,null,"South_Dakota","Codington County",{"$f":"CONCATENATE(tLists4[[#This Row],[State]],\", \",tLists4[[#This Row],[County]])","v":"South_Dakota, Codington County"},2]
[null,null,null,null,null,null,null,null,null,null,null,null,null,"South_Dakota","Corson County",{"$f":"CONCATENATE(tLists4[[#This Row],[State]],\", \",tLists4[[#This Row],[County]])","v":"South_Dakota, Corson County"},2]
[null,null,null,null,null,null,null,null,null,null,null,null,null,"South_Dakota","Custer County",{"$f":"CONCATENATE(tLists4[[#This Row],[State]],\", \",tLists4[[#This Row],[County]])","v":"South_Dakota, Custer County"},3]
[null,null,null,null,null,null,null,null,null,null,null,null,null,"South_Dakota","Davison County",{"$f":"CONCATENATE(tLists4[[#This Row],[State]],\", \",tLists4[[#This Row],[County]])","v":"South_Dakota, Davison County"},2]
[null,null,null,null,null,null,null,null,null,null,null,null,null,"South_Dakota","Day County",{"$f":"CONCATENATE(tLists4[[#This Row],[State]],\", \",tLists4[[#This Row],[County]])","v":"South_Dakota, Day County"},2]
[null,null,null,null,null,null,null,null,null,null,null,null,null,"South_Dakota","Deuel County",{"$f":"CONCATENATE(tLists4[[#This Row],[State]],\", \",tLists4[[#This Row],[County]])","v":"South_Dakota, Deuel County"},2]
[null,null,null,null,null,null,null,null,null,null,null,null,null,"South_Dakota","Dewey County",{"$f":"CONCATENATE(tLists4[[#This Row],[State]],\", \",tLists4[[#This Row],[County]])","v":"South_Dakota, Dewey County"},2]
[null,null,null,null,null,null,null,null,null,null,null,null,null,"South_Dakota","Douglas County",{"$f":"CONCATENATE(tLists4[[#This Row],[State]],\", \",tLists4[[#This Row],[County]])","v":"South_Dakota, Douglas County"},2]
[null,null,null,null,null,null,null,null,null,null,null,null,null,"South_Dakota","Edmunds County",{"$f":"CONCATENATE(tLists4[[#This Row],[State]],\", \",tLists4[[#This Row],[County]])","v":"South_Dakota, Edmunds County"},2]
[null,null,null,null,null,null,null,null,null,null,null,null,null,"South_Dakota","Fall River County",{"$f":"CONCATENATE(tLists4[[#This Row],[State]],\", \",tLists4[[#This Row],[County]])","v":"South_Dakota, Fall River County"},2]
[null,null,null,null,null,null,null,null,null,null,null,null,null,"South_Dakota","Faulk County",{"$f":"CONCATENATE(tLists4[[#This Row],[State]],\", \",tLists4[[#This Row],[County]])","v":"South_Dakota, Faulk County"},2]
[null,null,null,null,null,null,null,null,null,null,null,null,null,"South_Dakota","Grant County",{"$f":"CONCATENATE(tLists4[[#This Row],[State]],\", \",tLists4[[#This Row],[County]])","v":"South_Dakota, Grant County"},2]
[null,null,null,null,null,null,null,null,null,null,null,null,null,"South_Dakota","Gregory County",{"$f":"CONCATENATE(tLists4[[#This Row],[State]],\", \",tLists4[[#This Row],[County]])","v":"South_Dakota, Gregory County"},2]
[null,null,null,null,null,null,null,null,null,null,null,null,null,"South_Dakota","Haakon County",{"$f":"CONCATENATE(tLists4[[#This Row],[State]],\", \",tLists4[[#This Row],[County]])","v":"South_Dakota, Haakon County"},2]
[null,null,null,null,null,null,null,null,null,null,null,null,null,"South_Dakota","Hamlin County",{"$f":"CONCATENATE(tLists4[[#This Row],[State]],\", \",tLists4[[#This Row],[County]])","v":"South_Dakota, Hamlin County"},2]
[null,null,null,null,null,null,null,null,null,null,null,null,null,"South_Dakota","Hand County",{"$f":"CONCATENATE(tLists4[[#This Row],[State]],\", \",tLists4[[#This Row],[County]])","v":"South_Dakota, Hand County"},2]
[null,null,null,null,null,null,null,null,null,null,null,null,null,"South_Dakota","Hanson County",{"$f":"CONCATENATE(tLists4[[#This Row],[State]],\", \",tLists4[[#This Row],[County]])","v":"South_Dakota, Hanson County"},2]
[null,null,null,null,null,null,null,null,null,null,null,null,null,"South_Dakota","Harding County",{"$f":"CONCATENATE(tLists4[[#This Row],[State]],\", \",tLists4[[#This Row],[County]])","v":"South_Dakota, Harding County"},3]
[null,null,null,null,null,null,null,null,null,null,null,null,null,"South_Dakota","Hughes County",{"$f":"CONCATENATE(tLists4[[#This Row],[State]],\", \",tLists4[[#This Row],[County]])","v":"South_Dakota, Hughes County"},2]
[null,null,null,null,null,null,null,null,null,null,null,null,null,"South_Dakota","Hutchinson County",{"$f":"CONCATENATE(tLists4[[#This Row],[State]],\", \",tLists4[[#This Row],[County]])","v":"South_Dakota, Hutchinson County"},2]
[null,null,null,null,null,null,null,null,null,null,null,null,null,"South_Dakota","Hyde County",{"$f":"CONCATENATE(tLists4[[#This Row],[State]],\", \",tLists4[[#This Row],[County]])","v":"South_Dakota, Hyde County"},2]
[null,null,null,null,null,null,null,null,null,null,null,null,null,"South_Dakota","Jackson County",{"$f":"CONCATENATE(tLists4[[#This Row],[State]],\", \",tLists4[[#This Row],[County]])","v":"South_Dakota, Jackson County"},2]
[null,null,null,null,null,null,null,null,null,null,null,null,null,"South_Dakota","Jerauld County",{"$f":"CONCATENATE(tLists4[[#This Row],[State]],\", \",tLists4[[#This Row],[County]])","v":"South_Dakota, Jerauld County"},2]
[null,null,null,null,null,null,null,null,null,null,null,null,null,"South_Dakota","Jones County",{"$f":"CONCATENATE(tLists4[[#This Row],[State]],\", \",tLists4[[#This Row],[County]])","v":"South_Dakota, Jones County"},2]
[null,null,null,null,null,null,null,null,null,null,null,null,null,"South_Dakota","Kingsbury County",{"$f":"CONCATENATE(tLists4[[#This Row],[State]],\", \",tLists4[[#This Row],[County]])","v":"South_Dakota, Kingsbury County"},2]
[null,null,null,null,null,null,null,null,null,null,null,null,null,"South_Dakota","Lake County",{"$f":"CONCATENATE(tLists4[[#This Row],[State]],\", \",tLists4[[#This Row],[County]])","v":"South_Dakota, Lake County"},2]
[null,null,null,null,null,null,null,null,null,null,null,null,null,"South_Dakota","Lawrence County",{"$f":"CONCATENATE(tLists4[[#This Row],[State]],\", \",tLists4[[#This Row],[County]])","v":"South_Dakota, Lawrence County"},2]
[null,null,null,null,null,null,null,null,null,null,null,null,null,"South_Dakota","Lincoln County",{"$f":"CONCATENATE(tLists4[[#This Row],[State]],\", \",tLists4[[#This Row],[County]])","v":"South_Dakota, Lincoln County"},2]
[null,null,null,null,null,null,null,null,null,null,null,null,null,"South_Dakota","Lyman County",{"$f":"CONCATENATE(tLists4[[#This Row],[State]],\", \",tLists4[[#This Row],[County]])","v":"South_Dakota, Lyman County"},2]
[null,null,null,null,null,null,null,null,null,null,null,null,null,"South_Dakota","Marshall County",{"$f":"CONCATENATE(tLists4[[#This Row],[State]],\", \",tLists4[[#This Row],[County]])","v":"South_Dakota, Marshall County"},2]
[null,null,null,null,null,null,null,null,null,null,null,null,null,"South_Dakota","McCook County",{"$f":"CONCATENATE(tLists4[[#This Row],[State]],\", \",tLists4[[#This Row],[County]])","v":"South_Dakota, McCook County"},2]
[null,null,null,null,null,null,null,null,null,null,null,null,null,"South_Dakota","McPherson County",{"$f":"CONCATENATE(tLists4[[#This Row],[State]],\", \",tLists4[[#This Row],[County]])","v":"South_Dakota, McPherson County"},2]
[null,null,null,null,null,null,null,null,null,null,null,null,null,"South_Dakota","Meade County",{"$f":"CONCATENATE(tLists4[[#This Row],[State]],\", \",tLists4[[#This Row],[County]])","v":"South_Dakota, Meade County"},2]
[null,null,null,null,null,null,null,null,null,null,null,null,null,"South_Dakota","Mellette County",{"$f":"CONCATENATE(tLists4[[#This Row],[State]],\", \",tLists4[[#This Row],[County]])","v":"South_Dakota, Mellette County"},2]
[null,null,null,null,null,null,null,null,null,null,null,null,null,"South_Dakota","Miner County",{"$f":"CONCATENATE(tLists4[[#This Row],[State]],\", \",tLists4[[#This Row],[County]])","v":"South_Dakota, Miner County"},2]
[null,null,null,null,null,null,null,null,null,null,null,null,null,"South_Dakota","Minnehaha County",{"$f":"CONCATENATE(tLists4[[#This Row],[State]],\", \",tLists4[[#This Row],[County]])","v":"South_Dakota, Minnehaha County"},2]
[null,null,null,null,null,null,null,null,null,null,null,null,null,"South_Dakota","Moody County",{"$f":"CONCATENATE(tLists4[[#This Row],[State]],\", \",tLists4[[#This Row],[County]])","v":"South_Dakota, Moody County"},2]
[null,null,null,null,null,null,null,null,null,null,null,null,null,"South_Dakota","Oglala Lakota County",{"$f":"CONCATENATE(tLists4[[#This Row],[State]],\", \",tLists4[[#This Row],[County]])","v":"South_Dakota, Oglala Lakota County"},2]
[null,null,null,null,null,null,null,null,null,null,null,null,null,"South_Dakota","Pennington County",{"$f":"CONCATENATE(tLists4[[#This Row],[State]],\", \",tLists4[[#This Row],[County]])","v":"South_Dakota, Pennington County"},2]
[null,null,null,null,null,null,null,null,null,null,null,null,null,"South_Dakota","Perkins County",{"$f":"CONCATENATE(tLists4[[#This Row],[State]],\", \",tLists4[[#This Row],[County]])","v":"South_Dakota, Perkins County"},2]
[null,null,null,null,null,null,null,null,null,null,null,null,null,"South_Dakota","Potter County",{"$f":"CONCATENATE(tLists4[[#This Row],[State]],\", \",tLists4[[#This Row],[County]])","v":"South_Dakota, Potter County"},2]
[null,null,null,null,null,null,null,null,null,null,null,null,null,"South_Dakota","Roberts County",{"$f":"CONCATENATE(tLists4[[#This Row],[State]],\", \",tLists4[[#This Row],[County]])","v":"South_Dakota, Roberts County"},2]
[null,null,null,null,null,null,null,null,null,null,null,null,null,"South_Dakota","Sanborn County",{"$f":"CONCATENATE(tLists4[[#This Row],[State]],\", \",tLists4[[#This Row],[County]])","v":"South_Dakota, Sanborn County"},2]
[null,null,null,null,null,null,null,null,null,null,null,null,null,"South_Dakota","Spink County",{"$f":"CONCATENATE(tLists4[[#This Row],[State]],\", \",tLists4[[#This Row],[County]])","v":"South_Dakota, Spink County"},2]
[null,null,null,null,null,null,null,null,null,null,null,null,null,"South_Dakota","Stanley County",{"$f":"CONCATENATE(tLists4[[#This Row],[State]],\", \",tLists4[[#This Row],[County]])","v":"South_Dakota, Stanley County"},2]
[null,null,null,null,null,null,null,null,null,null,null,null,null,"South_Dakota","Sully County",{"$f":"CONCATENATE(tLists4[[#This Row],[State]],\", \",tLists4[[#This Row],[County]])","v":"South_Dakota, Sully County"},3]
[null,null,null,null,null,null,null,null,null,null,null,null,null,"South_Dakota","Todd County",{"$f":"CONCATENATE(tLists4[[#This Row],[State]],\", \",tLists4[[#This Row],[County]])","v":"South_Dakota, Todd County"},2]
[null,null,null,null,null,null,null,null,null,null,null,null,null,"South_Dakota","Tripp County",{"$f":"CONCATENATE(tLists4[[#This Row],[State]],\", \",tLists4[[#This Row],[County]])","v":"South_Dakota, Tripp County"},2]
[null,null,null,null,null,null,null,null,null,null,null,null,null,"South_Dakota","Turner County",{"$f":"CONCATENATE(tLists4[[#This Row],[State]],\", \",tLists4[[#This Row],[County]])","v":"South_Dakota, Turner County"},2]
[null,null,null,null,null,null,null,null,null,null,null,null,null,"South_Dakota","Union County",{"$f":"CONCATENATE(tLists4[[#This Row],[State]],\", \",tLists4[[#This Row],[County]])","v":"South_Dakota, Union County"},2]
[null,null,null,null,null,null,null,null,null,null,null,null,null,"South_Dakota","Walworth County",{"$f":"CONCATENATE(tLists4[[#This Row],[State]],\", \",tLists4[[#This Row],[County]])","v":"South_Dakota, Walworth County"},2]
[null,null,null,null,null,null,null,null,null,null,null,null,null,"South_Dakota","Yankton County",{"$f":"CONCATENATE(tLists4[[#This Row],[State]],\", \",tLists4[[#This Row],[County]])","v":"South_Dakota, Yankton County"},2]
[null,null,null,null,null,null,null,null,null,null,null,null,null,"South_Dakota","Ziebach County",{"$f":"CONCATENATE(tLists4[[#This Row],[State]],\", \",tLists4[[#This Row],[County]])","v":"South_Dakota, Ziebach County"},2]
[null,null,null,null,null,null,null,null,null,null,null,null,null,"Tennessee","Anderson County",{"$f":"CONCATENATE(tLists4[[#This Row],[State]],\", \",tLists4[[#This Row],[County]])","v":"Tennessee, Anderson County"},2]
[null,null,null,null,null,null,null,null,null,null,null,null,null,"Tennessee","Bedford County",{"$f":"CONCATENATE(tLists4[[#This Row],[State]],\", \",tLists4[[#This Row],[County]])","v":"Tennessee, Bedford County"},"Not Eligible for Credit"]
[null,null,null,null,null,null,null,null,null,null,null,null,null,"Tennessee","Benton County",{"$f":"CONCATENATE(tLists4[[#This Row],[State]],\", \",tLists4[[#This Row],[County]])","v":"Tennessee, Benton County"},"Not Eligible for Credit"]
[null,null,null,null,null,null,null,null,null,null,null,null,null,"Tennessee","Bledsoe County",{"$f":"CONCATENATE(tLists4[[#This Row],[State]],\", \",tLists4[[#This Row],[County]])","v":"Tennessee, Bledsoe County"},2]
[null,null,null,null,null,null,null,null,null,null,null,null,null,"Tennessee","Blount County",{"$f":"CONCATENATE(tLists4[[#This Row],[State]],\", \",tLists4[[#This Row],[County]])","v":"Tennessee, Blount County"},2]
[null,null,null,null,null,null,null,null,null,null,null,null,null,"Tennessee","Bradley County",{"$f":"CONCATENATE(tLists4[[#This Row],[State]],\", \",tLists4[[#This Row],[County]])","v":"Tennessee, Bradley County"},2]
[null,null,null,null,null,null,null,null,null,null,null,null,null,"Tennessee","Campbell County",{"$f":"CONCATENATE(tLists4[[#This Row],[State]],\", \",tLists4[[#This Row],[County]])","v":"Tennessee, Campbell County"},2]
[null,null,null,null,null,null,null,null,null,null,null,null,null,"Tennessee","Cannon County",{"$f":"CONCATENATE(tLists4[[#This Row],[State]],\", \",tLists4[[#This Row],[County]])","v":"Tennessee, Cannon County"},"Not Eligible for Credit"]
[null,null,null,null,null,null,null,null,null,null,null,null,null,"Tennessee","Carroll County",{"$f":"CONCATENATE(tLists4[[#This Row],[State]],\", \",tLists4[[#This Row],[County]])","v":"Tennessee, Carroll County"},"Not Eligible for Credit"]
[null,null,null,null,null,null,null,null,null,null,null,null,null,"Tennessee","Carter County",{"$f":"CONCATENATE(tLists4[[#This Row],[State]],\", \",tLists4[[#This Row],[County]])","v":"Tennessee, Carter County"},3]
[null,null,null,null,null,null,null,null,null,null,null,null,null,"Tennessee","Cheatham County",{"$f":"CONCATENATE(tLists4[[#This Row],[State]],\", \",tLists4[[#This Row],[County]])","v":"Tennessee, Cheatham County"},2]
[null,null,null,null,null,null,null,null,null,null,null,null,null,"Tennessee","Chester County",{"$f":"CONCATENATE(tLists4[[#This Row],[State]],\", \",tLists4[[#This Row],[County]])","v":"Tennessee, Chester County"},2]
[null,null,null,null,null,null,null,null,null,null,null,null,null,"Tennessee","Claiborne County",{"$f":"CONCATENATE(tLists4[[#This Row],[State]],\", \",tLists4[[#This Row],[County]])","v":"Tennessee, Claiborne County"},2]
[null,null,null,null,null,null,null,null,null,null,null,null,null,"Tennessee","Clay County",{"$f":"CONCATENATE(tLists4[[#This Row],[State]],\", \",tLists4[[#This Row],[County]])","v":"Tennessee, Clay County"},"Not Eligible for Credit"]
[null,null,null,null,null,null,null,null,null,null,null,null,null,"Tennessee","Cocke County",{"$f":"CONCATENATE(tLists4[[#This Row],[State]],\", \",tLists4[[#This Row],[County]])","v":"Tennessee, Cocke County"},2]
[null,null,null,null,null,null,null,null,null,null,null,null,null,"Tennessee","Coffee County",{"$f":"CONCATENATE(tLists4[[#This Row],[State]],\", \",tLists4[[#This Row],[County]])","v":"Tennessee, Coffee County"},"Not Eligible for Credit"]
[null,null,null,null,null,null,null,null,null,null,null,null,null,"Tennessee","Crockett County",{"$f":"CONCATENATE(tLists4[[#This Row],[State]],\", \",tLists4[[#This Row],[County]])","v":"Tennessee, Crockett County"},"Not Eligible for Credit"]
[null,null,null,null,null,null,null,null,null,null,null,null,null,"Tennessee","Cumberland County",{"$f":"CONCATENATE(tLists4[[#This Row],[State]],\", \",tLists4[[#This Row],[County]])","v":"Tennessee, Cumberland County"},2]
[null,null,null,null,null,null,null,null,null,null,null,null,null,"Tennessee","Davidson County",{"$f":"CONCATENATE(tLists4[[#This Row],[State]],\", \",tLists4[[#This Row],[County]])","v":"Tennessee, Davidson County"},2]
[null,null,null,null,null,null,null,null,null,null,null,null,null,"Tennessee","Decatur County",{"$f":"CONCATENATE(tLists4[[#This Row],[State]],\", \",tLists4[[#This Row],[County]])","v":"Tennessee, Decatur County"},"Not Eligible for Credit"]
[null,null,null,null,null,null,null,null,null,null,null,null,null,"Tennessee","DeKalb County",{"$f":"CONCATENATE(tLists4[[#This Row],[State]],\", \",tLists4[[#This Row],[County]])","v":"Tennessee, DeKalb County"},"Not Eligible for Credit"]
[null,null,null,null,null,null,null,null,null,null,null,null,null,"Tennessee","Dickson County",{"$f":"CONCATENATE(tLists4[[#This Row],[State]],\", \",tLists4[[#This Row],[County]])","v":"Tennessee, Dickson County"},2]
[null,null,null,null,null,null,null,null,null,null,null,null,null,"Tennessee","Dyer County",{"$f":"CONCATENATE(tLists4[[#This Row],[State]],\", \",tLists4[[#This Row],[County]])","v":"Tennessee, Dyer County"},"Not Eligible for Credit"]
[null,null,null,null,null,null,null,null,null,null,null,null,null,"Tennessee","Fayette County",{"$f":"CONCATENATE(tLists4[[#This Row],[State]],\", \",tLists4[[#This Row],[County]])","v":"Tennessee, Fayette County"},"Not Eligible for Credit"]
[null,null,null,null,null,null,null,null,null,null,null,null,null,"Tennessee","Fentress County",{"$f":"CONCATENATE(tLists4[[#This Row],[State]],\", \",tLists4[[#This Row],[County]])","v":"Tennessee, Fentress County"},3]
[null,null,null,null,null,null,null,null,null,null,null,null,null,"Tennessee","Franklin County",{"$f":"CONCATENATE(tLists4[[#This Row],[State]],\", \",tLists4[[#This Row],[County]])","v":"Tennessee, Franklin County"},"Not Eligible for Credit"]
[null,null,null,null,null,null,null,null,null,null,null,null,null,"Tennessee","Gibson County",{"$f":"CONCATENATE(tLists4[[#This Row],[State]],\", \",tLists4[[#This Row],[County]])","v":"Tennessee, Gibson County"},"Not Eligible for Credit"]
[null,null,null,null,null,null,null,null,null,null,null,null,null,"Tennessee","Giles County",{"$f":"CONCATENATE(tLists4[[#This Row],[State]],\", \",tLists4[[#This Row],[County]])","v":"Tennessee, Giles County"},"Not Eligible for Credit"]
[null,null,null,null,null,null,null,null,null,null,null,null,null,"Tennessee","Grainger County",{"$f":"CONCATENATE(tLists4[[#This Row],[State]],\", \",tLists4[[#This Row],[County]])","v":"Tennessee, Grainger County"},2]
[null,null,null,null,null,null,null,null,null,null,null,null,null,"Tennessee","Greene County",{"$f":"CONCATENATE(tLists4[[#This Row],[State]],\", \",tLists4[[#This Row],[County]])","v":"Tennessee, Greene County"},2]
[null,null,null,null,null,null,null,null,null,null,null,null,null,"Tennessee","Grundy County",{"$f":"CONCATENATE(tLists4[[#This Row],[State]],\", \",tLists4[[#This Row],[County]])","v":"Tennessee, Grundy County"},2]
[null,null,null,null,null,null,null,null,null,null,null,null,null,"Tennessee","Hamblen County",{"$f":"CONCATENATE(tLists4[[#This Row],[State]],\", \",tLists4[[#This Row],[County]])","v":"Tennessee, Hamblen County"},2]
[null,null,null,null,null,null,null,null,null,null,null,null,null,"Tennessee","Hamilton County",{"$f":"CONCATENATE(tLists4[[#This Row],[State]],\", \",tLists4[[#This Row],[County]])","v":"Tennessee, Hamilton County"},2]
[null,null,null,null,null,null,null,null,null,null,null,null,null,"Tennessee","Hancock County",{"$f":"CONCATENATE(tLists4[[#This Row],[State]],\", \",tLists4[[#This Row],[County]])","v":"Tennessee, Hancock County"},2]
[null,null,null,null,null,null,null,null,null,null,null,null,null,"Tennessee","Hardeman County",{"$f":"CONCATENATE(tLists4[[#This Row],[State]],\", \",tLists4[[#This Row],[County]])","v":"Tennessee, Hardeman County"},"Not Eligible for Credit"]
[null,null,null,null,null,null,null,null,null,null,null,null,null,"Tennessee","Hardin County",{"$f":"CONCATENATE(tLists4[[#This Row],[State]],\", \",tLists4[[#This Row],[County]])","v":"Tennessee, Hardin County"},"Not Eligible for Credit"]
[null,null,null,null,null,null,null,null,null,null,null,null,null,"Tennessee","Hawkins County",{"$f":"CONCATENATE(tLists4[[#This Row],[State]],\", \",tLists4[[#This Row],[County]])","v":"Tennessee, Hawkins County"},2]
[null,null,null,null,null,null,null,null,null,null,null,null,null,"Tennessee","Haywood County",{"$f":"CONCATENATE(tLists4[[#This Row],[State]],\", \",tLists4[[#This Row],[County]])","v":"Tennessee, Haywood County"},2]
[null,null,null,null,null,null,null,null,null,null,null,null,null,"Tennessee","Henderson County",{"$f":"CONCATENATE(tLists4[[#This Row],[State]],\", \",tLists4[[#This Row],[County]])","v":"Tennessee, Henderson County"},"Not Eligible for Credit"]
[null,null,null,null,null,null,null,null,null,null,null,null,null,"Tennessee","Henry County",{"$f":"CONCATENATE(tLists4[[#This Row],[State]],\", \",tLists4[[#This Row],[County]])","v":"Tennessee, Henry County"},"Not Eligible for Credit"]
[null,null,null,null,null,null,null,null,null,null,null,null,null,"Tennessee","Hickman County",{"$f":"CONCATENATE(tLists4[[#This Row],[State]],\", \",tLists4[[#This Row],[County]])","v":"Tennessee, Hickman County"},2]
[null,null,null,null,null,null,null,null,null,null,null,null,null,"Tennessee","Houston County",{"$f":"CONCATENATE(tLists4[[#This Row],[State]],\", \",tLists4[[#This Row],[County]])","v":"Tennessee, Houston County"},2]
[null,null,null,null,null,null,null,null,null,null,null,null,null,"Tennessee","Humphreys County",{"$f":"CONCATENATE(tLists4[[#This Row],[State]],\", \",tLists4[[#This Row],[County]])","v":"Tennessee, Humphreys County"},"Not Eligible for Credit"]
[null,null,null,null,null,null,null,null,null,null,null,null,null,"Tennessee","Jackson County",{"$f":"CONCATENATE(tLists4[[#This Row],[State]],\", \",tLists4[[#This Row],[County]])","v":"Tennessee, Jackson County"},2]
[null,null,null,null,null,null,null,null,null,null,null,null,null,"Tennessee","Jefferson County",{"$f":"CONCATENATE(tLists4[[#This Row],[State]],\", \",tLists4[[#This Row],[County]])","v":"Tennessee, Jefferson County"},2]
[null,null,null,null,null,null,null,null,null,null,null,null,null,"Tennessee","Johnson County",{"$f":"CONCATENATE(tLists4[[#This Row],[State]],\", \",tLists4[[#This Row],[County]])","v":"Tennessee, Johnson County"},2]
[null,null,null,null,null,null,null,null,null,null,null,null,null,"Tennessee","Knox County",{"$f":"CONCATENATE(tLists4[[#This Row],[State]],\", \",tLists4[[#This Row],[County]])","v":"Tennessee, Knox County"},2]
[null,null,null,null,null,null,null,null,null,null,null,null,null,"Tennessee","Lake County",{"$f":"CONCATENATE(tLists4[[#This Row],[State]],\", \",tLists4[[#This Row],[County]])","v":"Tennessee, Lake County"},"Not Eligible for Credit"]
[null,null,null,null,null,null,null,null,null,null,null,null,null,"Tennessee","Lauderdale County",{"$f":"CONCATENATE(tLists4[[#This Row],[State]],\", \",tLists4[[#This Row],[County]])","v":"Tennessee, Lauderdale County"},2]
[null,null,null,null,null,null,null,null,null,null,null,null,null,"Tennessee","Lawrence County",{"$f":"CONCATENATE(tLists4[[#This Row],[State]],\", \",tLists4[[#This Row],[County]])","v":"Tennessee, Lawrence County"},"Not Eligible for Credit"]
[null,null,null,null,null,null,null,null,null,null,null,null,null,"Tennessee","Lewis County",{"$f":"CONCATENATE(tLists4[[#This Row],[State]],\", \",tLists4[[#This Row],[County]])","v":"Tennessee, Lewis County"},2]
[null,null,null,null,null,null,null,null,null,null,null,null,null,"Tennessee","Lincoln County",{"$f":"CONCATENATE(tLists4[[#This Row],[State]],\", \",tLists4[[#This Row],[County]])","v":"Tennessee, Lincoln County"},"Not Eligible for Credit"]
[null,null,null,null,null,null,null,null,null,null,null,null,null,"Tennessee","Loudon County",{"$f":"CONCATENATE(tLists4[[#This Row],[State]],\", \",tLists4[[#This Row],[County]])","v":"Tennessee, Loudon County"},2]
[null,null,null,null,null,null,null,null,null,null,null,null,null,"Tennessee","Macon County",{"$f":"CONCATENATE(tLists4[[#This Row],[State]],\", \",tLists4[[#This Row],[County]])","v":"Tennessee, Macon County"},2]
[null,null,null,null,null,null,null,null,null,null,null,null,null,"Tennessee","Madison County",{"$f":"CONCATENATE(tLists4[[#This Row],[State]],\", \",tLists4[[#This Row],[County]])","v":"Tennessee, Madison County"},"Not Eligible for Credit"]
[null,null,null,null,null,null,null,null,null,null,null,null,null,"Tennessee","Marion County",{"$f":"CONCATENATE(tLists4[[#This Row],[State]],\", \",tLists4[[#This Row],[County]])","v":"Tennessee, Marion County"},"Not Eligible for Credit"]
[null,null,null,null,null,null,null,null,null,null,null,null,null,"Tennessee","Marshall County",{"$f":"CONCATENATE(tLists4[[#This Row],[State]],\", \",tLists4[[#This Row],[County]])","v":"Tennessee, Marshall County"},"Not Eligible for Credit"]
[null,null,null,null,null,null,null,null,null,null,null,null,null,"Tennessee","Maury County",{"$f":"CONCATENATE(tLists4[[#This Row],[State]],\", \",tLists4[[#This Row],[County]])","v":"Tennessee, Maury County"},"Not Eligible for Credit"]
[null,null,null,null,null,null,null,null,null,null,null,null,null,"Tennessee","McMinn County",{"$f":"CONCATENATE(tLists4[[#This Row],[State]],\", \",tLists4[[#This Row],[County]])","v":"Tennessee, McMinn County"},"Not Eligible for Credit"]
[null,null,null,null,null,null,null,null,null,null,null,null,null,"Tennessee","McNairy County",{"$f":"CONCATENATE(tLists4[[#This Row],[State]],\", \",tLists4[[#This Row],[County]])","v":"Tennessee, McNairy County"},"Not Eligible for Credit"]
[null,null,null,null,null,null,null,null,null,null,null,null,null,"Tennessee","Meigs County",{"$f":"CONCATENATE(tLists4[[#This Row],[State]],\", \",tLists4[[#This Row],[County]])","v":"Tennessee, Meigs County"},"Not Eligible for Credit"]
[null,null,null,null,null,null,null,null,null,null,null,null,null,"Tennessee","Monroe County",{"$f":"CONCATENATE(tLists4[[#This Row],[State]],\", \",tLists4[[#This Row],[County]])","v":"Tennessee, Monroe County"},2]
[null,null,null,null,null,null,null,null,null,null,null,null,null,"Tennessee","Montgomery County",{"$f":"CONCATENATE(tLists4[[#This Row],[State]],\", \",tLists4[[#This Row],[County]])","v":"Tennessee, Montgomery County"},2]
[null,null,null,null,null,null,null,null,null,null,null,null,null,"Tennessee","Moore County",{"$f":"CONCATENATE(tLists4[[#This Row],[State]],\", \",tLists4[[#This Row],[County]])","v":"Tennessee, Moore County"},"Not Eligible for Credit"]
[null,null,null,null,null,null,null,null,null,null,null,null,null,"Tennessee","Morgan County",{"$f":"CONCATENATE(tLists4[[#This Row],[State]],\", \",tLists4[[#This Row],[County]])","v":"Tennessee, Morgan County"},2]
[null,null,null,null,null,null,null,null,null,null,null,null,null,"Tennessee","Obion County",{"$f":"CONCATENATE(tLists4[[#This Row],[State]],\", \",tLists4[[#This Row],[County]])","v":"Tennessee, Obion County"},"Not Eligible for Credit"]
[null,null,null,null,null,null,null,null,null,null,null,null,null,"Tennessee","Overton County",{"$f":"CONCATENATE(tLists4[[#This Row],[State]],\", \",tLists4[[#This Row],[County]])","v":"Tennessee, Overton County"},2]
[null,null,null,null,null,null,null,null,null,null,null,null,null,"Tennessee","Perry County",{"$f":"CONCATENATE(tLists4[[#This Row],[State]],\", \",tLists4[[#This Row],[County]])","v":"Tennessee, Perry County"},"Not Eligible for Credit"]
[null,null,null,null,null,null,null,null,null,null,null,null,null,"Tennessee","Pickett County",{"$f":"CONCATENATE(tLists4[[#This Row],[State]],\", \",tLists4[[#This Row],[County]])","v":"Tennessee, Pickett County"},2]
[null,null,null,null,null,null,null,null,null,null,null,null,null,"Tennessee","Polk County",{"$f":"CONCATENATE(tLists4[[#This Row],[State]],\", \",tLists4[[#This Row],[County]])","v":"Tennessee, Polk County"},2]
[null,null,null,null,null,null,null,null,null,null,null,null,null,"Tennessee","Putnam County",{"$f":"CONCATENATE(tLists4[[#This Row],[State]],\", \",tLists4[[#This Row],[County]])","v":"Tennessee, Putnam County"},"Not Eligible for Credit"]
[null,null,null,null,null,null,null,null,null,null,null,null,null,"Tennessee","Rhea County",{"$f":"CONCATENATE(tLists4[[#This Row],[State]],\", \",tLists4[[#This Row],[County]])","v":"Tennessee, Rhea County"},"Not Eligible for Credit"]
[null,null,null,null,null,null,null,null,null,null,null,null,null,"Tennessee","Roane County",{"$f":"CONCATENATE(tLists4[[#This Row],[State]],\", \",tLists4[[#This Row],[County]])","v":"Tennessee, Roane County"},2]
[null,null,null,null,null,null,null,null,null,null,null,null,null,"Tennessee","Robertson County",{"$f":"CONCATENATE(tLists4[[#This Row],[State]],\", \",tLists4[[#This Row],[County]])","v":"Tennessee, Robertson County"},"Not Eligible for Credit"]
[null,null,null,null,null,null,null,null,null,null,null,null,null,"Tennessee","Rutherford County",{"$f":"CONCATENATE(tLists4[[#This Row],[State]],\", \",tLists4[[#This Row],[County]])","v":"Tennessee, Rutherford County"},"Not Eligible for Credit"]
[null,null,null,null,null,null,null,null,null,null,null,null,null,"Tennessee","Scott County",{"$f":"CONCATENATE(tLists4[[#This Row],[State]],\", \",tLists4[[#This Row],[County]])","v":"Tennessee, Scott County"},2]
[null,null,null,null,null,null,null,null,null,null,null,null,null,"Tennessee","Sequatchie County",{"$f":"CONCATENATE(tLists4[[#This Row],[State]],\", \",tLists4[[#This Row],[County]])","v":"Tennessee, Sequatchie County"},2]
[null,null,null,null,null,null,null,null,null,null,null,null,null,"Tennessee","Sevier County",{"$f":"CONCATENATE(tLists4[[#This Row],[State]],\", \",tLists4[[#This Row],[County]])","v":"Tennessee, Sevier County"},2]
[null,null,null,null,null,null,null,null,null,null,null,null,null,"Tennessee","Shelby County",{"$f":"CONCATENATE(tLists4[[#This Row],[State]],\", \",tLists4[[#This Row],[County]])","v":"Tennessee, Shelby County"},"Not Eligible for Credit"]
[null,null,null,null,null,null,null,null,null,null,null,null,null,"Tennessee","Smith County",{"$f":"CONCATENATE(tLists4[[#This Row],[State]],\", \",tLists4[[#This Row],[County]])","v":"Tennessee, Smith County"},2]
[null,null,null,null,null,null,null,null,null,null,null,null,null,"Tennessee","Stewart County",{"$f":"CONCATENATE(tLists4[[#This Row],[State]],\", \",tLists4[[#This Row],[County]])","v":"Tennessee, Stewart County"},"Not Eligible for Credit"]
[null,null,null,null,null,null,null,null,null,null,null,null,null,"Tennessee","Sullivan County",{"$f":"CONCATENATE(tLists4[[#This Row],[State]],\", \",tLists4[[#This Row],[County]])","v":"Tennessee, Sullivan County"},3]
[null,null,null,null,null,null,null,null,null,null,null,null,null,"Tennessee","Sumner County",{"$f":"CONCATENATE(tLists4[[#This Row],[State]],\", \",tLists4[[#This Row],[County]])","v":"Tennessee, Sumner County"},"Not Eligible for Credit"]
[null,null,null,null,null,null,null,null,null,null,null,null,null,"Tennessee","Tipton County",{"$f":"CONCATENATE(tLists4[[#This Row],[State]],\", \",tLists4[[#This Row],[County]])","v":"Tennessee, Tipton County"},"Not Eligible for Credit"]
[null,null,null,null,null,null,null,null,null,null,null,null,null,"Tennessee","Trousdale County",{"$f":"CONCATENATE(tLists4[[#This Row],[State]],\", \",tLists4[[#This Row],[County]])","v":"Tennessee, Trousdale County"},"Not Eligible for Credit"]
[null,null,null,null,null,null,null,null,null,null,null,null,null,"Tennessee","Unicoi County",{"$f":"CONCATENATE(tLists4[[#This Row],[State]],\", \",tLists4[[#This Row],[County]])","v":"Tennessee, Unicoi County"},3]
[null,null,null,null,null,null,null,null,null,null,null,null,null,"Tennessee","Union County",{"$f":"CONCATENATE(tLists4[[#This Row],[State]],\", \",tLists4[[#This Row],[County]])","v":"Tennessee, Union County"},2]
[null,null,null,null,null,null,null,null,null,null,null,null,null,"Tennessee","Van Buren County",{"$f":"CONCATENATE(tLists4[[#This Row],[State]],\", \",tLists4[[#This Row],[County]])","v":"Tennessee, Van Buren County"},2]
[null,null,null,null,null,null,null,null,null,null,null,null,null,"Tennessee","Warren County",{"$f":"CONCATENATE(tLists4[[#This Row],[State]],\", \",tLists4[[#This Row],[County]])","v":"Tennessee, Warren County"},"Not Eligible for Credit"]
[null,null,null,null,null,null,null,null,null,null,null,null,null,"Tennessee","Washington County",{"$f":"CONCATENATE(tLists4[[#This Row],[State]],\", \",tLists4[[#This Row],[County]])","v":"Tennessee, Washington County"},3]
[null,null,null,null,null,null,null,null,null,null,null,null,null,"Tennessee","Wayne County",{"$f":"CONCATENATE(tLists4[[#This Row],[State]],\", \",tLists4[[#This Row],[County]])","v":"Tennessee, Wayne County"},"Not Eligible for Credit"]
[null,null,null,null,null,null,null,null,null,null,null,null,null,"Tennessee","Weakley County",{"$f":"CONCATENATE(tLists4[[#This Row],[State]],\", \",tLists4[[#This Row],[County]])","v":"Tennessee, Weakley County"},"Not Eligible for Credit"]
[null,null,null,null,null,null,null,null,null,null,null,null,null,"Tennessee","White County",{"$f":"CONCATENATE(tLists4[[#This Row],[State]],\", \",tLists4[[#This Row],[County]])","v":"Tennessee, White County"},2]
[null,null,null,null,null,null,null,null,null,null,null,null,null,"Tennessee","Williamson County",{"$f":"CONCATENATE(tLists4[[#This Row],[State]],\", \",tLists4[[#This Row],[County]])","v":"Tennessee, Williamson County"},"Not Eligible for Credit"]
[null,null,null,null,null,null,null,null,null,null,null,null,null,"Tennessee","Wilson County",{"$f":"CONCATENATE(tLists4[[#This Row],[State]],\", \",tLists4[[#This Row],[County]])","v":"Tennessee, Wilson County"},2]
[null,null,null,null,null,null,null,null,null,null,null,null,null,"Texas","Anderson County",{"$f":"CONCATENATE(tLists4[[#This Row],[State]],\", \",tLists4[[#This Row],[County]])","v":"Texas, Anderson County"},2]
[null,null,null,null,null,null,null,null,null,null,null,null,null,"Texas","Andrews County",{"$f":"CONCATENATE(tLists4[[#This Row],[State]],\", \",tLists4[[#This Row],[County]])","v":"Texas, Andrews County"},3]
[null,null,null,null,null,null,null,null,null,null,null,null,null,"Texas","Angelina County",{"$f":"CONCATENATE(tLists4[[#This Row],[State]],\", \",tLists4[[#This Row],[County]])","v":"Texas, Angelina County"},2]
[null,null,null,null,null,null,null,null,null,null,null,null,null,"Texas","Aransas County",{"$f":"CONCATENATE(tLists4[[#This Row],[State]],\", \",tLists4[[#This Row],[County]])","v":"Texas, Aransas County"},"Not Eligible for Credit"]
[null,null,null,null,null,null,null,null,null,null,null,null,null,"Texas","Archer County",{"$f":"CONCATENATE(tLists4[[#This Row],[State]],\", \",tLists4[[#This Row],[County]])","v":"Texas, Archer County"},2]
[null,null,null,null,null,null,null,null,null,null,null,null,null,"Texas","Armstrong County",{"$f":"CONCATENATE(tLists4[[#This Row],[State]],\", \",tLists4[[#This Row],[County]])","v":"Texas, Armstrong County"},3]
[null,null,null,null,null,null,null,null,null,null,null,null,null,"Texas","Atascosa County",{"$f":"CONCATENATE(tLists4[[#This Row],[State]],\", \",tLists4[[#This Row],[County]])","v":"Texas, Atascosa County"},2]
[null,null,null,null,null,null,null,null,null,null,null,null,null,"Texas","Austin County",{"$f":"CONCATENATE(tLists4[[#This Row],[State]],\", \",tLists4[[#This Row],[County]])","v":"Texas, Austin County"},"Not Eligible for Credit"]
[null,null,null,null,null,null,null,null,null,null,null,null,null,"Texas","Bailey County",{"$f":"CONCATENATE(tLists4[[#This Row],[State]],\", \",tLists4[[#This Row],[County]])","v":"Texas, Bailey County"},3]
[null,null,null,null,null,null,null,null,null,null,null,null,null,"Texas","Bandera County",{"$f":"CONCATENATE(tLists4[[#This Row],[State]],\", \",tLists4[[#This Row],[County]])","v":"Texas, Bandera County"},2]
[null,null,null,null,null,null,null,null,null,null,null,null,null,"Texas","Bastrop County",{"$f":"CONCATENATE(tLists4[[#This Row],[State]],\", \",tLists4[[#This Row],[County]])","v":"Texas, Bastrop County"},"Not Eligible for Credit"]
[null,null,null,null,null,null,null,null,null,null,null,null,null,"Texas","Baylor County",{"$f":"CONCATENATE(tLists4[[#This Row],[State]],\", \",tLists4[[#This Row],[County]])","v":"Texas, Baylor County"},2]
[null,null,null,null,null,null,null,null,null,null,null,null,null,"Texas","Bee County",{"$f":"CONCATENATE(tLists4[[#This Row],[State]],\", \",tLists4[[#This Row],[County]])","v":"Texas, Bee County"},2]
[null,null,null,null,null,null,null,null,null,null,null,null,null,"Texas","Bell County",{"$f":"CONCATENATE(tLists4[[#This Row],[State]],\", \",tLists4[[#This Row],[County]])","v":"Texas, Bell County"},"Not Eligible for Credit"]
[null,null,null,null,null,null,null,null,null,null,null,null,null,"Texas","Bexar County",{"$f":"CONCATENATE(tLists4[[#This Row],[State]],\", \",tLists4[[#This Row],[County]])","v":"Texas, Bexar County"},2]
[null,null,null,null,null,null,null,null,null,null,null,null,null,"Texas","Blanco County",{"$f":"CONCATENATE(tLists4[[#This Row],[State]],\", \",tLists4[[#This Row],[County]])","v":"Texas, Blanco County"},2]
[null,null,null,null,null,null,null,null,null,null,null,null,null,"Texas","Borden County",{"$f":"CONCATENATE(tLists4[[#This Row],[State]],\", \",tLists4[[#This Row],[County]])","v":"Texas, Borden County"},3]
[null,null,null,null,null,null,null,null,null,null,null,null,null,"Texas","Bosque County",{"$f":"CONCATENATE(tLists4[[#This Row],[State]],\", \",tLists4[[#This Row],[County]])","v":"Texas, Bosque County"},2]
[null,null,null,null,null,null,null,null,null,null,null,null,null,"Texas","Bowie County",{"$f":"CONCATENATE(tLists4[[#This Row],[State]],\", \",tLists4[[#This Row],[County]])","v":"Texas, Bowie County"},"Not Eligible for Credit"]
[null,null,null,null,null,null,null,null,null,null,null,null,null,"Texas","Brazoria County",{"$f":"CONCATENATE(tLists4[[#This Row],[State]],\", \",tLists4[[#This Row],[County]])","v":"Texas, Brazoria County"},"Not Eligible for Credit"]
[null,null,null,null,null,null,null,null,null,null,null,null,null,"Texas","Brazos County",{"$f":"CONCATENATE(tLists4[[#This Row],[State]],\", \",tLists4[[#This Row],[County]])","v":"Texas, Brazos County"},"Not Eligible for Credit"]
[null,null,null,null,null,null,null,null,null,null,null,null,null,"Texas","Brewster County",{"$f":"CONCATENATE(tLists4[[#This Row],[State]],\", \",tLists4[[#This Row],[County]])","v":"Texas, Brewster County"},3]
[null,null,null,null,null,null,null,null,null,null,null,null,null,"Texas","Briscoe County",{"$f":"CONCATENATE(tLists4[[#This Row],[State]],\", \",tLists4[[#This Row],[County]])","v":"Texas, Briscoe County"},3]
[null,null,null,null,null,null,null,null,null,null,null,null,null,"Texas","Brooks County",{"$f":"CONCATENATE(tLists4[[#This Row],[State]],\", \",tLists4[[#This Row],[County]])","v":"Texas, Brooks County"},3]
[null,null,null,null,null,null,null,null,null,null,null,null,null,"Texas","Brown County",{"$f":"CONCATENATE(tLists4[[#This Row],[State]],\", \",tLists4[[#This Row],[County]])","v":"Texas, Brown County"},2]
[null,null,null,null,null,null,null,null,null,null,null,null,null,"Texas","Burleson County",{"$f":"CONCATENATE(tLists4[[#This Row],[State]],\", \",tLists4[[#This Row],[County]])","v":"Texas, Burleson County"},"Not Eligible for Credit"]
[null,null,null,null,null,null,null,null,null,null,null,null,null,"Texas","Burnet County",{"$f":"CONCATENATE(tLists4[[#This Row],[State]],\", \",tLists4[[#This Row],[County]])","v":"Texas, Burnet County"},2]
[null,null,null,null,null,null,null,null,null,null,null,null,null,"Texas","Caldwell County",{"$f":"CONCATENATE(tLists4[[#This Row],[State]],\", \",tLists4[[#This Row],[County]])","v":"Texas, Caldwell County"},"Not Eligible for Credit"]
[null,null,null,null,null,null,null,null,null,null,null,null,null,"Texas","Calhoun County",{"$f":"CONCATENATE(tLists4[[#This Row],[State]],\", \",tLists4[[#This Row],[County]])","v":"Texas, Calhoun County"},"Not Eligible for Credit"]
[null,null,null,null,null,null,null,null,null,null,null,null,null,"Texas","Callahan County",{"$f":"CONCATENATE(tLists4[[#This Row],[State]],\", \",tLists4[[#This Row],[County]])","v":"Texas, Callahan County"},2]
[null,null,null,null,null,null,null,null,null,null,null,null,null,"Texas","Cameron County",{"$f":"CONCATENATE(tLists4[[#This Row],[State]],\", \",tLists4[[#This Row],[County]])","v":"Texas, Cameron County"},2]
[null,null,null,null,null,null,null,null,null,null,null,null,null,"Texas","Camp County",{"$f":"CONCATENATE(tLists4[[#This Row],[State]],\", \",tLists4[[#This Row],[County]])","v":"Texas, Camp County"},"Not Eligible for Credit"]
[null,null,null,null,null,null,null,null,null,null,null,null,null,"Texas","Carson County",{"$f":"CONCATENATE(tLists4[[#This Row],[State]],\", \",tLists4[[#This Row],[County]])","v":"Texas, Carson County"},3]
[null,null,null,null,null,null,null,null,null,null,null,null,null,"Texas","Cass County",{"$f":"CONCATENATE(tLists4[[#This Row],[State]],\", \",tLists4[[#This Row],[County]])","v":"Texas, Cass County"},"Not Eligible for Credit"]
[null,null,null,null,null,null,null,null,null,null,null,null,null,"Texas","Castro County",{"$f":"CONCATENATE(tLists4[[#This Row],[State]],\", \",tLists4[[#This Row],[County]])","v":"Texas, Castro County"},3]
[null,null,null,null,null,null,null,null,null,null,null,null,null,"Texas","Chambers County",{"$f":"CONCATENATE(tLists4[[#This Row],[State]],\", \",tLists4[[#This Row],[County]])","v":"Texas, Chambers County"},"Not Eligible for Credit"]
[null,null,null,null,null,null,null,null,null,null,null,null,null,"Texas","Cherokee County",{"$f":"CONCATENATE(tLists4[[#This Row],[State]],\", \",tLists4[[#This Row],[County]])","v":"Texas, Cherokee County"},2]
[null,null,null,null,null,null,null,null,null,null,null,null,null,"Texas","Childress County",{"$f":"CONCATENATE(tLists4[[#This Row],[State]],\", \",tLists4[[#This Row],[County]])","v":"Texas, Childress County"},3]
[null,null,null,null,null,null,null,null,null,null,null,null,null,"Texas","Clay County",{"$f":"CONCATENATE(tLists4[[#This Row],[State]],\", \",tLists4[[#This Row],[County]])","v":"Texas, Clay County"},2]
[null,null,null,null,null,null,null,null,null,null,null,null,null,"Texas","Cochran County",{"$f":"CONCATENATE(tLists4[[#This Row],[State]],\", \",tLists4[[#This Row],[County]])","v":"Texas, Cochran County"},3]
[null,null,null,null,null,null,null,null,null,null,null,null,null,"Texas","Coke County",{"$f":"CONCATENATE(tLists4[[#This Row],[State]],\", \",tLists4[[#This Row],[County]])","v":"Texas, Coke County"},3]
[null,null,null,null,null,null,null,null,null,null,null,null,null,"Texas","Coleman County",{"$f":"CONCATENATE(tLists4[[#This Row],[State]],\", \",tLists4[[#This Row],[County]])","v":"Texas, Coleman County"},2]
[null,null,null,null,null,null,null,null,null,null,null,null,null,"Texas","Collin County",{"$f":"CONCATENATE(tLists4[[#This Row],[State]],\", \",tLists4[[#This Row],[County]])","v":"Texas, Collin County"},"Not Eligible for Credit"]
[null,null,null,null,null,null,null,null,null,null,null,null,null,"Texas","Collingsworth County",{"$f":"CONCATENATE(tLists4[[#This Row],[State]],\", \",tLists4[[#This Row],[County]])","v":"Texas, Collingsworth County"},3]
[null,null,null,null,null,null,null,null,null,null,null,null,null,"Texas","Colorado County",{"$f":"CONCATENATE(tLists4[[#This Row],[State]],\", \",tLists4[[#This Row],[County]])","v":"Texas, Colorado County"},"Not Eligible for Credit"]
[null,null,null,null,null,null,null,null,null,null,null,null,null,"Texas","Comal County",{"$f":"CONCATENATE(tLists4[[#This Row],[State]],\", \",tLists4[[#This Row],[County]])","v":"Texas, Comal County"},2]
[null,null,null,null,null,null,null,null,null,null,null,null,null,"Texas","Comanche County",{"$f":"CONCATENATE(tLists4[[#This Row],[State]],\", \",tLists4[[#This Row],[County]])","v":"Texas, Comanche County"},2]
[null,null,null,null,null,null,null,null,null,null,null,null,null,"Texas","Concho County",{"$f":"CONCATENATE(tLists4[[#This Row],[State]],\", \",tLists4[[#This Row],[County]])","v":"Texas, Concho County"},2]
[null,null,null,null,null,null,null,null,null,null,null,null,null,"Texas","Cooke County",{"$f":"CONCATENATE(tLists4[[#This Row],[State]],\", \",tLists4[[#This Row],[County]])","v":"Texas, Cooke County"},"Not Eligible for Credit"]
[null,null,null,null,null,null,null,null,null,null,null,null,null,"Texas","Coryell County",{"$f":"CONCATENATE(tLists4[[#This Row],[State]],\", \",tLists4[[#This Row],[County]])","v":"Texas, Coryell County"},2]
[null,null,null,null,null,null,null,null,null,null,null,null,null,"Texas","Cottle County",{"$f":"CONCATENATE(tLists4[[#This Row],[State]],\", \",tLists4[[#This Row],[County]])","v":"Texas, Cottle County"},3]
[null,null,null,null,null,null,null,null,null,null,null,null,null,"Texas","Crane County",{"$f":"CONCATENATE(tLists4[[#This Row],[State]],\", \",tLists4[[#This Row],[County]])","v":"Texas, Crane County"},3]
[null,null,null,null,null,null,null,null,null,null,null,null,null,"Texas","Crockett County",{"$f":"CONCATENATE(tLists4[[#This Row],[State]],\", \",tLists4[[#This Row],[County]])","v":"Texas, Crockett County"},3]
[null,null,null,null,null,null,null,null,null,null,null,null,null,"Texas","Crosby County",{"$f":"CONCATENATE(tLists4[[#This Row],[State]],\", \",tLists4[[#This Row],[County]])","v":"Texas, Crosby County"},3]
[null,null,null,null,null,null,null,null,null,null,null,null,null,"Texas","Culberson County",{"$f":"CONCATENATE(tLists4[[#This Row],[State]],\", \",tLists4[[#This Row],[County]])","v":"Texas, Culberson County"},3]
[null,null,null,null,null,null,null,null,null,null,null,null,null,"Texas","Dallam County",{"$f":"CONCATENATE(tLists4[[#This Row],[State]],\", \",tLists4[[#This Row],[County]])","v":"Texas, Dallam County"},3]
[null,null,null,null,null,null,null,null,null,null,null,null,null,"Texas","Dallas County",{"$f":"CONCATENATE(tLists4[[#This Row],[State]],\", \",tLists4[[#This Row],[County]])","v":"Texas, Dallas County"},2]
[null,null,null,null,null,null,null,null,null,null,null,null,null,"Texas","Dawson County",{"$f":"CONCATENATE(tLists4[[#This Row],[State]],\", \",tLists4[[#This Row],[County]])","v":"Texas, Dawson County"},3]
[null,null,null,null,null,null,null,null,null,null,null,null,null,"Texas","Deaf Smith County",{"$f":"CONCATENATE(tLists4[[#This Row],[State]],\", \",tLists4[[#This Row],[County]])","v":"Texas, Deaf Smith County"},3]
[null,null,null,null,null,null,null,null,null,null,null,null,null,"Texas","Delta County",{"$f":"CONCATENATE(tLists4[[#This Row],[State]],\", \",tLists4[[#This Row],[County]])","v":"Texas, Delta County"},"Not Eligible for Credit"]
[null,null,null,null,null,null,null,null,null,null,null,null,null,"Texas","Denton County",{"$f":"CONCATENATE(tLists4[[#This Row],[State]],\", \",tLists4[[#This Row],[County]])","v":"Texas, Denton County"},"Not Eligible for Credit"]
[null,null,null,null,null,null,null,null,null,null,null,null,null,"Texas","DeWitt County",{"$f":"CONCATENATE(tLists4[[#This Row],[State]],\", \",tLists4[[#This Row],[County]])","v":"Texas, DeWitt County"},2]
[null,null,null,null,null,null,null,null,null,null,null,null,null,"Texas","Dickens County",{"$f":"CONCATENATE(tLists4[[#This Row],[State]],\", \",tLists4[[#This Row],[County]])","v":"Texas, Dickens County"},3]
[null,null,null,null,null,null,null,null,null,null,null,null,null,"Texas","Dimmit County",{"$f":"CONCATENATE(tLists4[[#This Row],[State]],\", \",tLists4[[#This Row],[County]])","v":"Texas, Dimmit County"},3]
[null,null,null,null,null,null,null,null,null,null,null,null,null,"Texas","Donley County",{"$f":"CONCATENATE(tLists4[[#This Row],[State]],\", \",tLists4[[#This Row],[County]])","v":"Texas, Donley County"},3]
[null,null,null,null,null,null,null,null,null,null,null,null,null,"Texas","Duval County",{"$f":"CONCATENATE(tLists4[[#This Row],[State]],\", \",tLists4[[#This Row],[County]])","v":"Texas, Duval County"},3]
[null,null,null,null,null,null,null,null,null,null,null,null,null,"Texas","Eastland County",{"$f":"CONCATENATE(tLists4[[#This Row],[State]],\", \",tLists4[[#This Row],[County]])","v":"Texas, Eastland County"},2]
[null,null,null,null,null,null,null,null,null,null,null,null,null,"Texas","Ector County",{"$f":"CONCATENATE(tLists4[[#This Row],[State]],\", \",tLists4[[#This Row],[County]])","v":"Texas, Ector County"},3]
[null,null,null,null,null,null,null,null,null,null,null,null,null,"Texas","Edwards County",{"$f":"CONCATENATE(tLists4[[#This Row],[State]],\", \",tLists4[[#This Row],[County]])","v":"Texas, Edwards County"},3]
[null,null,null,null,null,null,null,null,null,null,null,null,null,"Texas","El Paso County",{"$f":"CONCATENATE(tLists4[[#This Row],[State]],\", \",tLists4[[#This Row],[County]])","v":"Texas, El Paso County"},6]
[null,null,null,null,null,null,null,null,null,null,null,null,null,"Texas","Ellis County",{"$f":"CONCATENATE(tLists4[[#This Row],[State]],\", \",tLists4[[#This Row],[County]])","v":"Texas, Ellis County"},"Not Eligible for Credit"]
[null,null,null,null,null,null,null,null,null,null,null,null,null,"Texas","Erath County",{"$f":"CONCATENATE(tLists4[[#This Row],[State]],\", \",tLists4[[#This Row],[County]])","v":"Texas, Erath County"},2]
[null,null,null,null,null,null,null,null,null,null,null,null,null,"Texas","Falls County",{"$f":"CONCATENATE(tLists4[[#This Row],[State]],\", \",tLists4[[#This Row],[County]])","v":"Texas, Falls County"},"Not Eligible for Credit"]
[null,null,null,null,null,null,null,null,null,null,null,null,null,"Texas","Fannin County",{"$f":"CONCATENATE(tLists4[[#This Row],[State]],\", \",tLists4[[#This Row],[County]])","v":"Texas, Fannin County"},"Not Eligible for Credit"]
[null,null,null,null,null,null,null,null,null,null,null,null,null,"Texas","Fayette County",{"$f":"CONCATENATE(tLists4[[#This Row],[State]],\", \",tLists4[[#This Row],[County]])","v":"Texas, Fayette County"},"Not Eligible for Credit"]
[null,null,null,null,null,null,null,null,null,null,null,null,null,"Texas","Fisher County",{"$f":"CONCATENATE(tLists4[[#This Row],[State]],\", \",tLists4[[#This Row],[County]])","v":"Texas, Fisher County"},3]
[null,null,null,null,null,null,null,null,null,null,null,null,null,"Texas","Floyd County",{"$f":"CONCATENATE(tLists4[[#This Row],[State]],\", \",tLists4[[#This Row],[County]])","v":"Texas, Floyd County"},3]
[null,null,null,null,null,null,null,null,null,null,null,null,null,"Texas","Foard County",{"$f":"CONCATENATE(tLists4[[#This Row],[State]],\", \",tLists4[[#This Row],[County]])","v":"Texas, Foard County"},2]
[null,null,null,null,null,null,null,null,null,null,null,null,null,"Texas","Fort Bend County",{"$f":"CONCATENATE(tLists4[[#This Row],[State]],\", \",tLists4[[#This Row],[County]])","v":"Texas, Fort Bend County"},"Not Eligible for Credit"]
[null,null,null,null,null,null,null,null,null,null,null,null,null,"Texas","Franklin County",{"$f":"CONCATENATE(tLists4[[#This Row],[State]],\", \",tLists4[[#This Row],[County]])","v":"Texas, Franklin County"},"Not Eligible for Credit"]
[null,null,null,null,null,null,null,null,null,null,null,null,null,"Texas","Freestone County",{"$f":"CONCATENATE(tLists4[[#This Row],[State]],\", \",tLists4[[#This Row],[County]])","v":"Texas, Freestone County"},"Not Eligible for Credit"]
[null,null,null,null,null,null,null,null,null,null,null,null,null,"Texas","Frio County",{"$f":"CONCATENATE(tLists4[[#This Row],[State]],\", \",tLists4[[#This Row],[County]])","v":"Texas, Frio County"},2]
[null,null,null,null,null,null,null,null,null,null,null,null,null,"Texas","Gaines County",{"$f":"CONCATENATE(tLists4[[#This Row],[State]],\", \",tLists4[[#This Row],[County]])","v":"Texas, Gaines County"},3]
[null,null,null,null,null,null,null,null,null,null,null,null,null,"Texas","Galveston County",{"$f":"CONCATENATE(tLists4[[#This Row],[State]],\", \",tLists4[[#This Row],[County]])","v":"Texas, Galveston County"},"Not Eligible for Credit"]
[null,null,null,null,null,null,null,null,null,null,null,null,null,"Texas","Garza County",{"$f":"CONCATENATE(tLists4[[#This Row],[State]],\", \",tLists4[[#This Row],[County]])","v":"Texas, Garza County"},3]
[null,null,null,null,null,null,null,null,null,null,null,null,null,"Texas","Gillespie County",{"$f":"CONCATENATE(tLists4[[#This Row],[State]],\", \",tLists4[[#This Row],[County]])","v":"Texas, Gillespie County"},2]
[null,null,null,null,null,null,null,null,null,null,null,null,null,"Texas","Glasscock County",{"$f":"CONCATENATE(tLists4[[#This Row],[State]],\", \",tLists4[[#This Row],[County]])","v":"Texas, Glasscock County"},3]
[null,null,null,null,null,null,null,null,null,null,null,null,null,"Texas","Goliad County",{"$f":"CONCATENATE(tLists4[[#This Row],[State]],\", \",tLists4[[#This Row],[County]])","v":"Texas, Goliad County"},2]
[null,null,null,null,null,null,null,null,null,null,null,null,null,"Texas","Gonzales County",{"$f":"CONCATENATE(tLists4[[#This Row],[State]],\", \",tLists4[[#This Row],[County]])","v":"Texas, Gonzales County"},2]
[null,null,null,null,null,null,null,null,null,null,null,null,null,"Texas","Gray County",{"$f":"CONCATENATE(tLists4[[#This Row],[State]],\", \",tLists4[[#This Row],[County]])","v":"Texas, Gray County"},3]
[null,null,null,null,null,null,null,null,null,null,null,null,null,"Texas","Grayson County",{"$f":"CONCATENATE(tLists4[[#This Row],[State]],\", \",tLists4[[#This Row],[County]])","v":"Texas, Grayson County"},"Not Eligible for Credit"]
[null,null,null,null,null,null,null,null,null,null,null,null,null,"Texas","Gregg County",{"$f":"CONCATENATE(tLists4[[#This Row],[State]],\", \",tLists4[[#This Row],[County]])","v":"Texas, Gregg County"},"Not Eligible for Credit"]
[null,null,null,null,null,null,null,null,null,null,null,null,null,"Texas","Grimes County",{"$f":"CONCATENATE(tLists4[[#This Row],[State]],\", \",tLists4[[#This Row],[County]])","v":"Texas, Grimes County"},"Not Eligible for Credit"]
[null,null,null,null,null,null,null,null,null,null,null,null,null,"Texas","Guadalupe County",{"$f":"CONCATENATE(tLists4[[#This Row],[State]],\", \",tLists4[[#This Row],[County]])","v":"Texas, Guadalupe County"},"Not Eligible for Credit"]
[null,null,null,null,null,null,null,null,null,null,null,null,null,"Texas","Hale County",{"$f":"CONCATENATE(tLists4[[#This Row],[State]],\", \",tLists4[[#This Row],[County]])","v":"Texas, Hale County"},3]
[null,null,null,null,null,null,null,null,null,null,null,null,null,"Texas","Hall County",{"$f":"CONCATENATE(tLists4[[#This Row],[State]],\", \",tLists4[[#This Row],[County]])","v":"Texas, Hall County"},3]
[null,null,null,null,null,null,null,null,null,null,null,null,null,"Texas","Hamilton County",{"$f":"CONCATENATE(tLists4[[#This Row],[State]],\", \",tLists4[[#This Row],[County]])","v":"Texas, Hamilton County"},2]
[null,null,null,null,null,null,null,null,null,null,null,null,null,"Texas","Hansford County",{"$f":"CONCATENATE(tLists4[[#This Row],[State]],\", \",tLists4[[#This Row],[County]])","v":"Texas, Hansford County"},3]
[null,null,null,null,null,null,null,null,null,null,null,null,null,"Texas","Hardeman County",{"$f":"CONCATENATE(tLists4[[#This Row],[State]],\", \",tLists4[[#This Row],[County]])","v":"Texas, Hardeman County"},3]
[null,null,null,null,null,null,null,null,null,null,null,null,null,"Texas","Hardin County",{"$f":"CONCATENATE(tLists4[[#This Row],[State]],\", \",tLists4[[#This Row],[County]])","v":"Texas, Hardin County"},"Not Eligible for Credit"]
[null,null,null,null,null,null,null,null,null,null,null,null,null,"Texas","Harris County",{"$f":"CONCATENATE(tLists4[[#This Row],[State]],\", \",tLists4[[#This Row],[County]])","v":"Texas, Harris County"},"Not Eligible for Credit"]
[null,null,null,null,null,null,null,null,null,null,null,null,null,"Texas","Harrison County",{"$f":"CONCATENATE(tLists4[[#This Row],[State]],\", \",tLists4[[#This Row],[County]])","v":"Texas, Harrison County"},"Not Eligible for Credit"]
[null,null,null,null,null,null,null,null,null,null,null,null,null,"Texas","Hartley County",{"$f":"CONCATENATE(tLists4[[#This Row],[State]],\", \",tLists4[[#This Row],[County]])","v":"Texas, Hartley County"},3]
[null,null,null,null,null,null,null,null,null,null,null,null,null,"Texas","Haskell County",{"$f":"CONCATENATE(tLists4[[#This Row],[State]],\", \",tLists4[[#This Row],[County]])","v":"Texas, Haskell County"},2]
[null,null,null,null,null,null,null,null,null,null,null,null,null,"Texas","Hays County",{"$f":"CONCATENATE(tLists4[[#This Row],[State]],\", \",tLists4[[#This Row],[County]])","v":"Texas, Hays County"},2]
[null,null,null,null,null,null,null,null,null,null,null,null,null,"Texas","Hemphill County",{"$f":"CONCATENATE(tLists4[[#This Row],[State]],\", \",tLists4[[#This Row],[County]])","v":"Texas, Hemphill County"},3]
[null,null,null,null,null,null,null,null,null,null,null,null,null,"Texas","Henderson County",{"$f":"CONCATENATE(tLists4[[#This Row],[State]],\", \",tLists4[[#This Row],[County]])","v":"Texas, Henderson County"},2]
[null,null,null,null,null,null,null,null,null,null,null,null,null,"Texas","Hidalgo County",{"$f":"CONCATENATE(tLists4[[#This Row],[State]],\", \",tLists4[[#This Row],[County]])","v":"Texas, Hidalgo County"},3]
[null,null,null,null,null,null,null,null,null,null,null,null,null,"Texas","Hill County",{"$f":"CONCATENATE(tLists4[[#This Row],[State]],\", \",tLists4[[#This Row],[County]])","v":"Texas, Hill County"},"Not Eligible for Credit"]
[null,null,null,null,null,null,null,null,null,null,null,null,null,"Texas","Hockley County",{"$f":"CONCATENATE(tLists4[[#This Row],[State]],\", \",tLists4[[#This Row],[County]])","v":"Texas, Hockley County"},3]
[null,null,null,null,null,null,null,null,null,null,null,null,null,"Texas","Hood County",{"$f":"CONCATENATE(tLists4[[#This Row],[State]],\", \",tLists4[[#This Row],[County]])","v":"Texas, Hood County"},2]
[null,null,null,null,null,null,null,null,null,null,null,null,null,"Texas","Hopkins County",{"$f":"CONCATENATE(tLists4[[#This Row],[State]],\", \",tLists4[[#This Row],[County]])","v":"Texas, Hopkins County"},"Not Eligible for Credit"]
[null,null,null,null,null,null,null,null,null,null,null,null,null,"Texas","Houston County",{"$f":"CONCATENATE(tLists4[[#This Row],[State]],\", \",tLists4[[#This Row],[County]])","v":"Texas, Houston County"},"Not Eligible for Credit"]
[null,null,null,null,null,null,null,null,null,null,null,null,null,"Texas","Howard County",{"$f":"CONCATENATE(tLists4[[#This Row],[State]],\", \",tLists4[[#This Row],[County]])","v":"Texas, Howard County"},3]
[null,null,null,null,null,null,null,null,null,null,null,null,null,"Texas","Hudspeth County",{"$f":"CONCATENATE(tLists4[[#This Row],[State]],\", \",tLists4[[#This Row],[County]])","v":"Texas, Hudspeth County"},3]
[null,null,null,null,null,null,null,null,null,null,null,null,null,"Texas","Hunt County",{"$f":"CONCATENATE(tLists4[[#This Row],[State]],\", \",tLists4[[#This Row],[County]])","v":"Texas, Hunt County"},"Not Eligible for Credit"]
[null,null,null,null,null,null,null,null,null,null,null,null,null,"Texas","Hutchinson County",{"$f":"CONCATENATE(tLists4[[#This Row],[State]],\", \",tLists4[[#This Row],[County]])","v":"Texas, Hutchinson County"},3]
[null,null,null,null,null,null,null,null,null,null,null,null,null,"Texas","Irion County",{"$f":"CONCATENATE(tLists4[[#This Row],[State]],\", \",tLists4[[#This Row],[County]])","v":"Texas, Irion County"},3]
[null,null,null,null,null,null,null,null,null,null,null,null,null,"Texas","Jack County",{"$f":"CONCATENATE(tLists4[[#This Row],[State]],\", \",tLists4[[#This Row],[County]])","v":"Texas, Jack County"},2]
[null,null,null,null,null,null,null,null,null,null,null,null,null,"Texas","Jackson County",{"$f":"CONCATENATE(tLists4[[#This Row],[State]],\", \",tLists4[[#This Row],[County]])","v":"Texas, Jackson County"},"Not Eligible for Credit"]
[null,null,null,null,null,null,null,null,null,null,null,null,null,"Texas","Jasper County",{"$f":"CONCATENATE(tLists4[[#This Row],[State]],\", \",tLists4[[#This Row],[County]])","v":"Texas, Jasper County"},"Not Eligible for Credit"]
[null,null,null,null,null,null,null,null,null,null,null,null,null,"Texas","Jeff Davis County",{"$f":"CONCATENATE(tLists4[[#This Row],[State]],\", \",tLists4[[#This Row],[County]])","v":"Texas, Jeff Davis County"},3]
[null,null,null,null,null,null,null,null,null,null,null,null,null,"Texas","Jefferson County",{"$f":"CONCATENATE(tLists4[[#This Row],[State]],\", \",tLists4[[#This Row],[County]])","v":"Texas, Jefferson County"},"Not Eligible for Credit"]
[null,null,null,null,null,null,null,null,null,null,null,null,null,"Texas","Jim Hogg County",{"$f":"CONCATENATE(tLists4[[#This Row],[State]],\", \",tLists4[[#This Row],[County]])","v":"Texas, Jim Hogg County"},3]
[null,null,null,null,null,null,null,null,null,null,null,null,null,"Texas","Jim Wells County",{"$f":"CONCATENATE(tLists4[[#This Row],[State]],\", \",tLists4[[#This Row],[County]])","v":"Texas, Jim Wells County"},2]
[null,null,null,null,null,null,null,null,null,null,null,null,null,"Texas","Johnson County",{"$f":"CONCATENATE(tLists4[[#This Row],[State]],\", \",tLists4[[#This Row],[County]])","v":"Texas, Johnson County"},"Not Eligible for Credit"]
[null,null,null,null,null,null,null,null,null,null,null,null,null,"Texas","Jones County",{"$f":"CONCATENATE(tLists4[[#This Row],[State]],\", \",tLists4[[#This Row],[County]])","v":"Texas, Jones County"},3]
[null,null,null,null,null,null,null,null,null,null,null,null,null,"Texas","Karnes County",{"$f":"CONCATENATE(tLists4[[#This Row],[State]],\", \",tLists4[[#This Row],[County]])","v":"Texas, Karnes County"},2]
[null,null,null,null,null,null,null,null,null,null,null,null,null,"Texas","Kaufman County",{"$f":"CONCATENATE(tLists4[[#This Row],[State]],\", \",tLists4[[#This Row],[County]])","v":"Texas, Kaufman County"},"Not Eligible for Credit"]
[null,null,null,null,null,null,null,null,null,null,null,null,null,"Texas","Kendall County",{"$f":"CONCATENATE(tLists4[[#This Row],[State]],\", \",tLists4[[#This Row],[County]])","v":"Texas, Kendall County"},2]
[null,null,null,null,null,null,null,null,null,null,null,null,null,"Texas","Kenedy County",{"$f":"CONCATENATE(tLists4[[#This Row],[State]],\", \",tLists4[[#This Row],[County]])","v":"Texas, Kenedy County"},3]
[null,null,null,null,null,null,null,null,null,null,null,null,null,"Texas","Kent County",{"$f":"CONCATENATE(tLists4[[#This Row],[State]],\", \",tLists4[[#This Row],[County]])","v":"Texas, Kent County"},3]
[null,null,null,null,null,null,null,null,null,null,null,null,null,"Texas","Kerr County",{"$f":"CONCATENATE(tLists4[[#This Row],[State]],\", \",tLists4[[#This Row],[County]])","v":"Texas, Kerr County"},2]
[null,null,null,null,null,null,null,null,null,null,null,null,null,"Texas","Kimble County",{"$f":"CONCATENATE(tLists4[[#This Row],[State]],\", \",tLists4[[#This Row],[County]])","v":"Texas, Kimble County"},2]
[null,null,null,null,null,null,null,null,null,null,null,null,null,"Texas","King County",{"$f":"CONCATENATE(tLists4[[#This Row],[State]],\", \",tLists4[[#This Row],[County]])","v":"Texas, King County"},3]
[null,null,null,null,null,null,null,null,null,null,null,null,null,"Texas","Kinney County",{"$f":"CONCATENATE(tLists4[[#This Row],[State]],\", \",tLists4[[#This Row],[County]])","v":"Texas, Kinney County"},2]
[null,null,null,null,null,null,null,null,null,null,null,null,null,"Texas","Kleberg County",{"$f":"CONCATENATE(tLists4[[#This Row],[State]],\", \",tLists4[[#This Row],[County]])","v":"Texas, Kleberg County"},2]
[null,null,null,null,null,null,null,null,null,null,null,null,null,"Texas","Knox County",{"$f":"CONCATENATE(tLists4[[#This Row],[State]],\", \",tLists4[[#This Row],[County]])","v":"Texas, Knox County"},3]
[null,null,null,null,null,null,null,null,null,null,null,null,null,"Texas","La Salle County",{"$f":"CONCATENATE(tLists4[[#This Row],[State]],\", \",tLists4[[#This Row],[County]])","v":"Texas, La Salle County"},3]
[null,null,null,null,null,null,null,null,null,null,null,null,null,"Texas","Lamar County",{"$f":"CONCATENATE(tLists4[[#This Row],[State]],\", \",tLists4[[#This Row],[County]])","v":"Texas, Lamar County"},"Not Eligible for Credit"]
[null,null,null,null,null,null,null,null,null,null,null,null,null,"Texas","Lamb County",{"$f":"CONCATENATE(tLists4[[#This Row],[State]],\", \",tLists4[[#This Row],[County]])","v":"Texas, Lamb County"},3]
[null,null,null,null,null,null,null,null,null,null,null,null,null,"Texas","Lampasas County",{"$f":"CONCATENATE(tLists4[[#This Row],[State]],\", \",tLists4[[#This Row],[County]])","v":"Texas, Lampasas County"},2]
[null,null,null,null,null,null,null,null,null,null,null,null,null,"Texas","Lavaca County",{"$f":"CONCATENATE(tLists4[[#This Row],[State]],\", \",tLists4[[#This Row],[County]])","v":"Texas, Lavaca County"},"Not Eligible for Credit"]
[null,null,null,null,null,null,null,null,null,null,null,null,null,"Texas","Lee County",{"$f":"CONCATENATE(tLists4[[#This Row],[State]],\", \",tLists4[[#This Row],[County]])","v":"Texas, Lee County"},"Not Eligible for Credit"]
[null,null,null,null,null,null,null,null,null,null,null,null,null,"Texas","Leon County",{"$f":"CONCATENATE(tLists4[[#This Row],[State]],\", \",tLists4[[#This Row],[County]])","v":"Texas, Leon County"},"Not Eligible for Credit"]
[null,null,null,null,null,null,null,null,null,null,null,null,null,"Texas","Liberty County",{"$f":"CONCATENATE(tLists4[[#This Row],[State]],\", \",tLists4[[#This Row],[County]])","v":"Texas, Liberty County"},"Not Eligible for Credit"]
[null,null,null,null,null,null,null,null,null,null,null,null,null,"Texas","Limestone County",{"$f":"CONCATENATE(tLists4[[#This Row],[State]],\", \",tLists4[[#This Row],[County]])","v":"Texas, Limestone County"},"Not Eligible for Credit"]
[null,null,null,null,null,null,null,null,null,null,null,null,null,"Texas","Lipscomb County",{"$f":"CONCATENATE(tLists4[[#This Row],[State]],\", \",tLists4[[#This Row],[County]])","v":"Texas, Lipscomb County"},3]
[null,null,null,null,null,null,null,null,null,null,null,null,null,"Texas","Live Oak County",{"$f":"CONCATENATE(tLists4[[#This Row],[State]],\", \",tLists4[[#This Row],[County]])","v":"Texas, Live Oak County"},2]
[null,null,null,null,null,null,null,null,null,null,null,null,null,"Texas","Llano County",{"$f":"CONCATENATE(tLists4[[#This Row],[State]],\", \",tLists4[[#This Row],[County]])","v":"Texas, Llano County"},2]
[null,null,null,null,null,null,null,null,null,null,null,null,null,"Texas","Loving County",{"$f":"CONCATENATE(tLists4[[#This Row],[State]],\", \",tLists4[[#This Row],[County]])","v":"Texas, Loving County"},6]
[null,null,null,null,null,null,null,null,null,null,null,null,null,"Texas","Lubbock County",{"$f":"CONCATENATE(tLists4[[#This Row],[State]],\", \",tLists4[[#This Row],[County]])","v":"Texas, Lubbock County"},3]
[null,null,null,null,null,null,null,null,null,null,null,null,null,"Texas","Lynn County",{"$f":"CONCATENATE(tLists4[[#This Row],[State]],\", \",tLists4[[#This Row],[County]])","v":"Texas, Lynn County"},3]
[null,null,null,null,null,null,null,null,null,null,null,null,null,"Texas","Madison County",{"$f":"CONCATENATE(tLists4[[#This Row],[State]],\", \",tLists4[[#This Row],[County]])","v":"Texas, Madison County"},"Not Eligible for Credit"]
[null,null,null,null,null,null,null,null,null,null,null,null,null,"Texas","Marion County",{"$f":"CONCATENATE(tLists4[[#This Row],[State]],\", \",tLists4[[#This Row],[County]])","v":"Texas, Marion County"},"Not Eligible for Credit"]
[null,null,null,null,null,null,null,null,null,null,null,null,null,"Texas","Martin County",{"$f":"CONCATENATE(tLists4[[#This Row],[State]],\", \",tLists4[[#This Row],[County]])","v":"Texas, Martin County"},3]
[null,null,null,null,null,null,null,null,null,null,null,null,null,"Texas","Mason County",{"$f":"CONCATENATE(tLists4[[#This Row],[State]],\", \",tLists4[[#This Row],[County]])","v":"Texas, Mason County"},3]
[null,null,null,null,null,null,null,null,null,null,null,null,null,"Texas","Matagorda County",{"$f":"CONCATENATE(tLists4[[#This Row],[State]],\", \",tLists4[[#This Row],[County]])","v":"Texas, Matagorda County"},"Not Eligible for Credit"]
[null,null,null,null,null,null,null,null,null,null,null,null,null,"Texas","Maverick County",{"$f":"CONCATENATE(tLists4[[#This Row],[State]],\", \",tLists4[[#This Row],[County]])","v":"Texas, Maverick County"},3]
[null,null,null,null,null,null,null,null,null,null,null,null,null,"Texas","McCulloch County",{"$f":"CONCATENATE(tLists4[[#This Row],[State]],\", \",tLists4[[#This Row],[County]])","v":"Texas, McCulloch County"},2]
[null,null,null,null,null,null,null,null,null,null,null,null,null,"Texas","McLennan County",{"$f":"CONCATENATE(tLists4[[#This Row],[State]],\", \",tLists4[[#This Row],[County]])","v":"Texas, McLennan County"},"Not Eligible for Credit"]
[null,null,null,null,null,null,null,null,null,null,null,null,null,"Texas","McMullen County",{"$f":"CONCATENATE(tLists4[[#This Row],[State]],\", \",tLists4[[#This Row],[County]])","v":"Texas, McMullen County"},2]
[null,null,null,null,null,null,null,null,null,null,null,null,null,"Texas","Medina County",{"$f":"CONCATENATE(tLists4[[#This Row],[State]],\", \",tLists4[[#This Row],[County]])","v":"Texas, Medina County"},2]
[null,null,null,null,null,null,null,null,null,null,null,null,null,"Texas","Menard County",{"$f":"CONCATENATE(tLists4[[#This Row],[State]],\", \",tLists4[[#This Row],[County]])","v":"Texas, Menard County"},3]
[null,null,null,null,null,null,null,null,null,null,null,null,null,"Texas","Midland County",{"$f":"CONCATENATE(tLists4[[#This Row],[State]],\", \",tLists4[[#This Row],[County]])","v":"Texas, Midland County"},3]
[null,null,null,null,null,null,null,null,null,null,null,null,null,"Texas","Milam County",{"$f":"CONCATENATE(tLists4[[#This Row],[State]],\", \",tLists4[[#This Row],[County]])","v":"Texas, Milam County"},"Not Eligible for Credit"]
[null,null,null,null,null,null,null,null,null,null,null,null,null,"Texas","Mills County",{"$f":"CONCATENATE(tLists4[[#This Row],[State]],\", \",tLists4[[#This Row],[County]])","v":"Texas, Mills County"},2]
[null,null,null,null,null,null,null,null,null,null,null,null,null,"Texas","Mitchell County",{"$f":"CONCATENATE(tLists4[[#This Row],[State]],\", \",tLists4[[#This Row],[County]])","v":"Texas, Mitchell County"},3]
[null,null,null,null,null,null,null,null,null,null,null,null,null,"Texas","Montague County",{"$f":"CONCATENATE(tLists4[[#This Row],[State]],\", \",tLists4[[#This Row],[County]])","v":"Texas, Montague County"},2]
[null,null,null,null,null,null,null,null,null,null,null,null,null,"Texas","Montgomery County",{"$f":"CONCATENATE(tLists4[[#This Row],[State]],\", \",tLists4[[#This Row],[County]])","v":"Texas, Montgomery County"},"Not Eligible for Credit"]
[null,null,null,null,null,null,null,null,null,null,null,null,null,"Texas","Moore County",{"$f":"CONCATENATE(tLists4[[#This Row],[State]],\", \",tLists4[[#This Row],[County]])","v":"Texas, Moore County"},3]
[null,null,null,null,null,null,null,null,null,null,null,null,null,"Texas","Morris County",{"$f":"CONCATENATE(tLists4[[#This Row],[State]],\", \",tLists4[[#This Row],[County]])","v":"Texas, Morris County"},"Not Eligible for Credit"]
[null,null,null,null,null,null,null,null,null,null,null,null,null,"Texas","Motley County",{"$f":"CONCATENATE(tLists4[[#This Row],[State]],\", \",tLists4[[#This Row],[County]])","v":"Texas, Motley County"},3]
[null,null,null,null,null,null,null,null,null,null,null,null,null,"Texas","Nacogdoches County",{"$f":"CONCATENATE(tLists4[[#This Row],[State]],\", \",tLists4[[#This Row],[County]])","v":"Texas, Nacogdoches County"},2]
[null,null,null,null,null,null,null,null,null,null,null,null,null,"Texas","Navarro County",{"$f":"CONCATENATE(tLists4[[#This Row],[State]],\", \",tLists4[[#This Row],[County]])","v":"Texas, Navarro County"},"Not Eligible for Credit"]
[null,null,null,null,null,null,null,null,null,null,null,null,null,"Texas","Newton County",{"$f":"CONCATENATE(tLists4[[#This Row],[State]],\", \",tLists4[[#This Row],[County]])","v":"Texas, Newton County"},"Not Eligible for Credit"]
[null,null,null,null,null,null,null,null,null,null,null,null,null,"Texas","Nolan County",{"$f":"CONCATENATE(tLists4[[#This Row],[State]],\", \",tLists4[[#This Row],[County]])","v":"Texas, Nolan County"},2]
[null,null,null,null,null,null,null,null,null,null,null,null,null,"Texas","Nueces County",{"$f":"CONCATENATE(tLists4[[#This Row],[State]],\", \",tLists4[[#This Row],[County]])","v":"Texas, Nueces County"},2]
[null,null,null,null,null,null,null,null,null,null,null,null,null,"Texas","Ochiltree County",{"$f":"CONCATENATE(tLists4[[#This Row],[State]],\", \",tLists4[[#This Row],[County]])","v":"Texas, Ochiltree County"},3]
[null,null,null,null,null,null,null,null,null,null,null,null,null,"Texas","Oldham County",{"$f":"CONCATENATE(tLists4[[#This Row],[State]],\", \",tLists4[[#This Row],[County]])","v":"Texas, Oldham County"},3]
[null,null,null,null,null,null,null,null,null,null,null,null,null,"Texas","Orange County",{"$f":"CONCATENATE(tLists4[[#This Row],[State]],\", \",tLists4[[#This Row],[County]])","v":"Texas, Orange County"},"Not Eligible for Credit"]
[null,null,null,null,null,null,null,null,null,null,null,null,null,"Texas","Palo Pinto County",{"$f":"CONCATENATE(tLists4[[#This Row],[State]],\", \",tLists4[[#This Row],[County]])","v":"Texas, Palo Pinto County"},2]
[null,null,null,null,null,null,null,null,null,null,null,null,null,"Texas","Panola County",{"$f":"CONCATENATE(tLists4[[#This Row],[State]],\", \",tLists4[[#This Row],[County]])","v":"Texas, Panola County"},"Not Eligible for Credit"]
[null,null,null,null,null,null,null,null,null,null,null,null,null,"Texas","Parker County",{"$f":"CONCATENATE(tLists4[[#This Row],[State]],\", \",tLists4[[#This Row],[County]])","v":"Texas, Parker County"},2]
[null,null,null,null,null,null,null,null,null,null,null,null,null,"Texas","Parmer County",{"$f":"CONCATENATE(tLists4[[#This Row],[State]],\", \",tLists4[[#This Row],[County]])","v":"Texas, Parmer County"},3]
[null,null,null,null,null,null,null,null,null,null,null,null,null,"Texas","Pecos County",{"$f":"CONCATENATE(tLists4[[#This Row],[State]],\", \",tLists4[[#This Row],[County]])","v":"Texas, Pecos County"},3]
[null,null,null,null,null,null,null,null,null,null,null,null,null,"Texas","Polk County",{"$f":"CONCATENATE(tLists4[[#This Row],[State]],\", \",tLists4[[#This Row],[County]])","v":"Texas, Polk County"},"Not Eligible for Credit"]
[null,null,null,null,null,null,null,null,null,null,null,null,null,"Texas","Potter County",{"$f":"CONCATENATE(tLists4[[#This Row],[State]],\", \",tLists4[[#This Row],[County]])","v":"Texas, Potter County"},3]
[null,null,null,null,null,null,null,null,null,null,null,null,null,"Texas","Presidio County",{"$f":"CONCATENATE(tLists4[[#This Row],[State]],\", \",tLists4[[#This Row],[County]])","v":"Texas, Presidio County"},3]
[null,null,null,null,null,null,null,null,null,null,null,null,null,"Texas","Rains County",{"$f":"CONCATENATE(tLists4[[#This Row],[State]],\", \",tLists4[[#This Row],[County]])","v":"Texas, Rains County"},"Not Eligible for Credit"]
[null,null,null,null,null,null,null,null,null,null,null,null,null,"Texas","Randall County",{"$f":"CONCATENATE(tLists4[[#This Row],[State]],\", \",tLists4[[#This Row],[County]])","v":"Texas, Randall County"},3]
[null,null,null,null,null,null,null,null,null,null,null,null,null,"Texas","Reagan County",{"$f":"CONCATENATE(tLists4[[#This Row],[State]],\", \",tLists4[[#This Row],[County]])","v":"Texas, Reagan County"},3]
[null,null,null,null,null,null,null,null,null,null,null,null,null,"Texas","Real County",{"$f":"CONCATENATE(tLists4[[#This Row],[State]],\", \",tLists4[[#This Row],[County]])","v":"Texas, Real County"},2]
[null,null,null,null,null,null,null,null,null,null,null,null,null,"Texas","Red River County",{"$f":"CONCATENATE(tLists4[[#This Row],[State]],\", \",tLists4[[#This Row],[County]])","v":"Texas, Red River County"},"Not Eligible for Credit"]
[null,null,null,null,null,null,null,null,null,null,null,null,null,"Texas","Reeves County",{"$f":"CONCATENATE(tLists4[[#This Row],[State]],\", \",tLists4[[#This Row],[County]])","v":"Texas, Reeves County"},3]
[null,null,null,null,null,null,null,null,null,null,null,null,null,"Texas","Refugio County",{"$f":"CONCATENATE(tLists4[[#This Row],[State]],\", \",tLists4[[#This Row],[County]])","v":"Texas, Refugio County"},"Not Eligible for Credit"]
[null,null,null,null,null,null,null,null,null,null,null,null,null,"Texas","Roberts County",{"$f":"CONCATENATE(tLists4[[#This Row],[State]],\", \",tLists4[[#This Row],[County]])","v":"Texas, Roberts County"},3]
[null,null,null,null,null,null,null,null,null,null,null,null,null,"Texas","Robertson County",{"$f":"CONCATENATE(tLists4[[#This Row],[State]],\", \",tLists4[[#This Row],[County]])","v":"Texas, Robertson County"},"Not Eligible for Credit"]
[null,null,null,null,null,null,null,null,null,null,null,null,null,"Texas","Rockwall County",{"$f":"CONCATENATE(tLists4[[#This Row],[State]],\", \",tLists4[[#This Row],[County]])","v":"Texas, Rockwall County"},"Not Eligible for Credit"]
[null,null,null,null,null,null,null,null,null,null,null,null,null,"Texas","Runnels County",{"$f":"CONCATENATE(tLists4[[#This Row],[State]],\", \",tLists4[[#This Row],[County]])","v":"Texas, Runnels County"},2]
[null,null,null,null,null,null,null,null,null,null,null,null,null,"Texas","Rusk County",{"$f":"CONCATENATE(tLists4[[#This Row],[State]],\", \",tLists4[[#This Row],[County]])","v":"Texas, Rusk County"},"Not Eligible for Credit"]
[null,null,null,null,null,null,null,null,null,null,null,null,null,"Texas","Sabine County",{"$f":"CONCATENATE(tLists4[[#This Row],[State]],\", \",tLists4[[#This Row],[County]])","v":"Texas, Sabine County"},"Not Eligible for Credit"]
[null,null,null,null,null,null,null,null,null,null,null,null,null,"Texas","San Augustine County",{"$f":"CONCATENATE(tLists4[[#This Row],[State]],\", \",tLists4[[#This Row],[County]])","v":"Texas, San Augustine County"},"Not Eligible for Credit"]
[null,null,null,null,null,null,null,null,null,null,null,null,null,"Texas","San Jacinto County",{"$f":"CONCATENATE(tLists4[[#This Row],[State]],\", \",tLists4[[#This Row],[County]])","v":"Texas, San Jacinto County"},"Not Eligible for Credit"]
[null,null,null,null,null,null,null,null,null,null,null,null,null,"Texas","San Patricio County",{"$f":"CONCATENATE(tLists4[[#This Row],[State]],\", \",tLists4[[#This Row],[County]])","v":"Texas, San Patricio County"},2]
[null,null,null,null,null,null,null,null,null,null,null,null,null,"Texas","San Saba County",{"$f":"CONCATENATE(tLists4[[#This Row],[State]],\", \",tLists4[[#This Row],[County]])","v":"Texas, San Saba County"},2]
[null,null,null,null,null,null,null,null,null,null,null,null,null,"Texas","Schleicher County",{"$f":"CONCATENATE(tLists4[[#This Row],[State]],\", \",tLists4[[#This Row],[County]])","v":"Texas, Schleicher County"},3]
[null,null,null,null,null,null,null,null,null,null,null,null,null,"Texas","Scurry County",{"$f":"CONCATENATE(tLists4[[#This Row],[State]],\", \",tLists4[[#This Row],[County]])","v":"Texas, Scurry County"},3]
[null,null,null,null,null,null,null,null,null,null,null,null,null,"Texas","Shackelford County",{"$f":"CONCATENATE(tLists4[[#This Row],[State]],\", \",tLists4[[#This Row],[County]])","v":"Texas, Shackelford County"},2]
[null,null,null,null,null,null,null,null,null,null,null,null,null,"Texas","Shelby County",{"$f":"CONCATENATE(tLists4[[#This Row],[State]],\", \",tLists4[[#This Row],[County]])","v":"Texas, Shelby County"},"Not Eligible for Credit"]
[null,null,null,null,null,null,null,null,null,null,null,null,null,"Texas","Sherman County",{"$f":"CONCATENATE(tLists4[[#This Row],[State]],\", \",tLists4[[#This Row],[County]])","v":"Texas, Sherman County"},3]
[null,null,null,null,null,null,null,null,null,null,null,null,null,"Texas","Smith County",{"$f":"CONCATENATE(tLists4[[#This Row],[State]],\", \",tLists4[[#This Row],[County]])","v":"Texas, Smith County"},2]
[null,null,null,null,null,null,null,null,null,null,null,null,null,"Texas","Somervell County",{"$f":"CONCATENATE(tLists4[[#This Row],[State]],\", \",tLists4[[#This Row],[County]])","v":"Texas, Somervell County"},2]
[null,null,null,null,null,null,null,null,null,null,null,null,null,"Texas","Starr County",{"$f":"CONCATENATE(tLists4[[#This Row],[State]],\", \",tLists4[[#This Row],[County]])","v":"Texas, Starr County"},2]
[null,null,null,null,null,null,null,null,null,null,null,null,null,"Texas","Stephens County",{"$f":"CONCATENATE(tLists4[[#This Row],[State]],\", \",tLists4[[#This Row],[County]])","v":"Texas, Stephens County"},2]
[null,null,null,null,null,null,null,null,null,null,null,null,null,"Texas","Sterling County",{"$f":"CONCATENATE(tLists4[[#This Row],[State]],\", \",tLists4[[#This Row],[County]])","v":"Texas, Sterling County"},3]
[null,null,null,null,null,null,null,null,null,null,null,null,null,"Texas","Stonewall County",{"$f":"CONCATENATE(tLists4[[#This Row],[State]],\", \",tLists4[[#This Row],[County]])","v":"Texas, Stonewall County"},3]
[null,null,null,null,null,null,null,null,null,null,null,null,null,"Texas","Sutton County",{"$f":"CONCATENATE(tLists4[[#This Row],[State]],\", \",tLists4[[#This Row],[County]])","v":"Texas, Sutton County"},3]
[null,null,null,null,null,null,null,null,null,null,null,null,null,"Texas","Swisher County",{"$f":"CONCATENATE(tLists4[[#This Row],[State]],\", \",tLists4[[#This Row],[County]])","v":"Texas, Swisher County"},3]
[null,null,null,null,null,null,null,null,null,null,null,null,null,"Texas","Tarrant County",{"$f":"CONCATENATE(tLists4[[#This Row],[State]],\", \",tLists4[[#This Row],[County]])","v":"Texas, Tarrant County"},"Not Eligible for Credit"]
[null,null,null,null,null,null,null,null,null,null,null,null,null,"Texas","Taylor County",{"$f":"CONCATENATE(tLists4[[#This Row],[State]],\", \",tLists4[[#This Row],[County]])","v":"Texas, Taylor County"},3]
[null,null,null,null,null,null,null,null,null,null,null,null,null,"Texas","Terrell County",{"$f":"CONCATENATE(tLists4[[#This Row],[State]],\", \",tLists4[[#This Row],[County]])","v":"Texas, Terrell County"},3]
[null,null,null,null,null,null,null,null,null,null,null,null,null,"Texas","Terry County",{"$f":"CONCATENATE(tLists4[[#This Row],[State]],\", \",tLists4[[#This Row],[County]])","v":"Texas, Terry County"},3]
[null,null,null,null,null,null,null,null,null,null,null,null,null,"Texas","Throckmorton County",{"$f":"CONCATENATE(tLists4[[#This Row],[State]],\", \",tLists4[[#This Row],[County]])","v":"Texas, Throckmorton County"},2]
[null,null,null,null,null,null,null,null,null,null,null,null,null,"Texas","Titus County",{"$f":"CONCATENATE(tLists4[[#This Row],[State]],\", \",tLists4[[#This Row],[County]])","v":"Texas, Titus County"},"Not Eligible for Credit"]
[null,null,null,null,null,null,null,null,null,null,null,null,null,"Texas","Tom Green County",{"$f":"CONCATENATE(tLists4[[#This Row],[State]],\", \",tLists4[[#This Row],[County]])","v":"Texas, Tom Green County"},3]
[null,null,null,null,null,null,null,null,null,null,null,null,null,"Texas","Travis County",{"$f":"CONCATENATE(tLists4[[#This Row],[State]],\", \",tLists4[[#This Row],[County]])","v":"Texas, Travis County"},2]
[null,null,null,null,null,null,null,null,null,null,null,null,null,"Texas","Trinity County",{"$f":"CONCATENATE(tLists4[[#This Row],[State]],\", \",tLists4[[#This Row],[County]])","v":"Texas, Trinity County"},"Not Eligible for Credit"]
[null,null,null,null,null,null,null,null,null,null,null,null,null,"Texas","Tyler County",{"$f":"CONCATENATE(tLists4[[#This Row],[State]],\", \",tLists4[[#This Row],[County]])","v":"Texas, Tyler County"},"Not Eligible for Credit"]
[null,null,null,null,null,null,null,null,null,null,null,null,null,"Texas","Upshur County",{"$f":"CONCATENATE(tLists4[[#This Row],[State]],\", \",tLists4[[#This Row],[County]])","v":"Texas, Upshur County"},2]
[null,null,null,null,null,null,null,null,null,null,null,null,null,"Texas","Upton County",{"$f":"CONCATENATE(tLists4[[#This Row],[State]],\", \",tLists4[[#This Row],[County]])","v":"Texas, Upton County"},3]
[null,null,null,null,null,null,null,null,null,null,null,null,null,"Texas","Uvalde County",{"$f":"CONCATENATE(tLists4[[#This Row],[State]],\", \",tLists4[[#This Row],[County]])","v":"Texas, Uvalde County"},2]
[null,null,null,null,null,null,null,null,null,null,null,null,null,"Texas","Val Verde County",{"$f":"CONCATENATE(tLists4[[#This Row],[State]],\", \",tLists4[[#This Row],[County]])","v":"Texas, Val Verde County"},3]
[null,null,null,null,null,null,null,null,null,null,null,null,null,"Texas","Van Zandt County",{"$f":"CONCATENATE(tLists4[[#This Row],[State]],\", \",tLists4[[#This Row],[County]])","v":"Texas, Van Zandt County"},"Not Eligible for Credit"]
[null,null,null,null,null,null,null,null,null,null,null,null,null,"Texas","Victoria County",{"$f":"CONCATENATE(tLists4[[#This Row],[State]],\", \",tLists4[[#This Row],[County]])","v":"Texas, Victoria County"},"Not Eligible for Credit"]
[null,null,null,null,null,null,null,null,null,null,null,null,null,"Texas","Walker County",{"$f":"CONCATENATE(tLists4[[#This Row],[State]],\", \",tLists4[[#This Row],[County]])","v":"Texas, Walker County"},"Not Eligible for Credit"]
[null,null,null,null,null,null,null,null,null,null,null,null,null,"Texas","Waller County",{"$f":"CONCATENATE(tLists4[[#This Row],[State]],\", \",tLists4[[#This Row],[County]])","v":"Texas, Waller County"},"Not Eligible for Credit"]
[null,null,null,null,null,null,null,null,null,null,null,null,null,"Texas","Ward County",{"$f":"CONCATENATE(tLists4[[#This Row],[State]],\", \",tLists4[[#This Row],[County]])","v":"Texas, Ward County"},3]
[null,null,null,null,null,null,null,null,null,null,null,null,null,"Texas","Washington County",{"$f":"CONCATENATE(tLists4[[#This Row],[State]],\", \",tLists4[[#This Row],[County]])","v":"Texas, Washington County"},"Not Eligible for Credit"]
[null,null,null,null,null,null,null,null,null,null,null,null,null,"Texas","Webb County",{"$f":"CONCATENATE(tLists4[[#This Row],[State]],\", \",tLists4[[#This Row],[County]])","v":"Texas, Webb County"},3]
[null,null,null,null,null,null,null,null,null,null,null,null,null,"Texas","Wharton County",{"$f":"CONCATENATE(tLists4[[#This Row],[State]],\", \",tLists4[[#This Row],[County]])","v":"Texas, Wharton County"},"Not Eligible for Credit"]
[null,null,null,null,null,null,null,null,null,null,null,null,null,"Texas","Wheeler County",{"$f":"CONCATENATE(tLists4[[#This Row],[State]],\", \",tLists4[[#This Row],[County]])","v":"Texas, Wheeler County"},3]
[null,null,null,null,null,null,null,null,null,null,null,null,null,"Texas","Wichita County",{"$f":"CONCATENATE(tLists4[[#This Row],[State]],\", \",tLists4[[#This Row],[County]])","v":"Texas, Wichita County"},2]
[null,null,null,null,null,null,null,null,null,null,null,null,null,"Texas","Wilbarger County",{"$f":"CONCATENATE(tLists4[[#This Row],[State]],\", \",tLists4[[#This Row],[County]])","v":"Texas, Wilbarger County"},2]
[null,null,null,null,null,null,null,null,null,null,null,null,null,"Texas","Willacy County",{"$f":"CONCATENATE(tLists4[[#This Row],[State]],\", \",tLists4[[#This Row],[County]])","v":"Texas, Willacy County"},2]
[null,null,null,null,null,null,null,null,null,null,null,null,null,"Texas","Williamson County",{"$f":"CONCATENATE(tLists4[[#This Row],[State]],\", \",tLists4[[#This Row],[County]])","v":"Texas, Williamson County"},"Not Eligible for Credit"]
[null,null,null,null,null,null,null,null,null,null,null,null,null,"Texas","Wilson County",{"$f":"CONCATENATE(tLists4[[#This Row],[State]],\", \",tLists4[[#This Row],[County]])","v":"Texas, Wilson County"},2]
[null,null,null,null,null,null,null,null,null,null,null,null,null,"Texas","Winkler County",{"$f":"CONCATENATE(tLists4[[#This Row],[State]],\", \",tLists4[[#This Row],[County]])","v":"Texas, Winkler County"},6]
[null,null,null,null,null,null,null,null,null,null,null,null,null,"Texas","Wise County",{"$f":"CONCATENATE(tLists4[[#This Row],[State]],\", \",tLists4[[#This Row],[County]])","v":"Texas, Wise County"},2]
[null,null,null,null,null,null,null,null,null,null,null,null,null,"Texas","Wood County",{"$f":"CONCATENATE(tLists4[[#This Row],[State]],\", \",tLists4[[#This Row],[County]])","v":"Texas, Wood County"},"Not Eligible for Credit"]
[null,null,null,null,null,null,null,null,null,null,null,null,null,"Texas","Yoakum County",{"$f":"CONCATENATE(tLists4[[#This Row],[State]],\", \",tLists4[[#This Row],[County]])","v":"Texas, Yoakum County"},3]
[null,null,null,null,null,null,null,null,null,null,null,null,null,"Texas","Young County",{"$f":"CONCATENATE(tLists4[[#This Row],[State]],\", \",tLists4[[#This Row],[County]])","v":"Texas, Young County"},2]
[null,null,null,null,null,null,null,null,null,null,null,null,null,"Texas","Zapata County",{"$f":"CONCATENATE(tLists4[[#This Row],[State]],\", \",tLists4[[#This Row],[County]])","v":"Texas, Zapata County"},2]
[null,null,null,null,null,null,null,null,null,null,null,null,null,"Texas","Zavala County",{"$f":"CONCATENATE(tLists4[[#This Row],[State]],\", \",tLists4[[#This Row],[County]])","v":"Texas, Zavala County"},2]
[null,null,null,null,null,null,null,null,null,null,null,null,null,"Utah","Beaver County",{"$f":"CONCATENATE(tLists4[[#This Row],[State]],\", \",tLists4[[#This Row],[County]])","v":"Utah, Beaver County"},6]
[null,null,null,null,null,null,null,null,null,null,null,null,null,"Utah","Box Elder County",{"$f":"CONCATENATE(tLists4[[#This Row],[State]],\", \",tLists4[[#This Row],[County]])","v":"Utah, Box Elder County"},3]
[null,null,null,null,null,null,null,null,null,null,null,null,null,"Utah","Cache County",{"$f":"CONCATENATE(tLists4[[#This Row],[State]],\", \",tLists4[[#This Row],[County]])","v":"Utah, Cache County"},3]
[null,null,null,null,null,null,null,null,null,null,null,null,null,"Utah","Carbon County",{"$f":"CONCATENATE(tLists4[[#This Row],[State]],\", \",tLists4[[#This Row],[County]])","v":"Utah, Carbon County"},3]
[null,null,null,null,null,null,null,null,null,null,null,null,null,"Utah","Daggett County",{"$f":"CONCATENATE(tLists4[[#This Row],[State]],\", \",tLists4[[#This Row],[County]])","v":"Utah, Daggett County"},3]
[null,null,null,null,null,null,null,null,null,null,null,null,null,"Utah","Davis County",{"$f":"CONCATENATE(tLists4[[#This Row],[State]],\", \",tLists4[[#This Row],[County]])","v":"Utah, Davis County"},2]
[null,null,null,null,null,null,null,null,null,null,null,null,null,"Utah","Duchesne County",{"$f":"CONCATENATE(tLists4[[#This Row],[State]],\", \",tLists4[[#This Row],[County]])","v":"Utah, Duchesne County"},3]
[null,null,null,null,null,null,null,null,null,null,null,null,null,"Utah","Emery County",{"$f":"CONCATENATE(tLists4[[#This Row],[State]],\", \",tLists4[[#This Row],[County]])","v":"Utah, Emery County"},6]
[null,null,null,null,null,null,null,null,null,null,null,null,null,"Utah","Garfield County",{"$f":"CONCATENATE(tLists4[[#This Row],[State]],\", \",tLists4[[#This Row],[County]])","v":"Utah, Garfield County"},6]
[null,null,null,null,null,null,null,null,null,null,null,null,null,"Utah","Grand County",{"$f":"CONCATENATE(tLists4[[#This Row],[State]],\", \",tLists4[[#This Row],[County]])","v":"Utah, Grand County"},3]
[null,null,null,null,null,null,null,null,null,null,null,null,null,"Utah","Iron County",{"$f":"CONCATENATE(tLists4[[#This Row],[State]],\", \",tLists4[[#This Row],[County]])","v":"Utah, Iron County"},6]
[null,null,null,null,null,null,null,null,null,null,null,null,null,"Utah","Juab County",{"$f":"CONCATENATE(tLists4[[#This Row],[State]],\", \",tLists4[[#This Row],[County]])","v":"Utah, Juab County"},3]
[null,null,null,null,null,null,null,null,null,null,null,null,null,"Utah","Kane County",{"$f":"CONCATENATE(tLists4[[#This Row],[State]],\", \",tLists4[[#This Row],[County]])","v":"Utah, Kane County"},6]
[null,null,null,null,null,null,null,null,null,null,null,null,null,"Utah","Millard County",{"$f":"CONCATENATE(tLists4[[#This Row],[State]],\", \",tLists4[[#This Row],[County]])","v":"Utah, Millard County"},3]
[null,null,null,null,null,null,null,null,null,null,null,null,null,"Utah","Morgan County",{"$f":"CONCATENATE(tLists4[[#This Row],[State]],\", \",tLists4[[#This Row],[County]])","v":"Utah, Morgan County"},3]
[null,null,null,null,null,null,null,null,null,null,null,null,null,"Utah","Piute County",{"$f":"CONCATENATE(tLists4[[#This Row],[State]],\", \",tLists4[[#This Row],[County]])","v":"Utah, Piute County"},6]
[null,null,null,null,null,null,null,null,null,null,null,null,null,"Utah","Rich County",{"$f":"CONCATENATE(tLists4[[#This Row],[State]],\", \",tLists4[[#This Row],[County]])","v":"Utah, Rich County"},3]
[null,null,null,null,null,null,null,null,null,null,null,null,null,"Utah","Salt Lake County",{"$f":"CONCATENATE(tLists4[[#This Row],[State]],\", \",tLists4[[#This Row],[County]])","v":"Utah, Salt Lake County"},3]
[null,null,null,null,null,null,null,null,null,null,null,null,null,"Utah","San Juan County",{"$f":"CONCATENATE(tLists4[[#This Row],[State]],\", \",tLists4[[#This Row],[County]])","v":"Utah, San Juan County"},6]
[null,null,null,null,null,null,null,null,null,null,null,null,null,"Utah","Sanpete County",{"$f":"CONCATENATE(tLists4[[#This Row],[State]],\", \",tLists4[[#This Row],[County]])","v":"Utah, Sanpete County"},3]
[null,null,null,null,null,null,null,null,null,null,null,null,null,"Utah","Sevier County",{"$f":"CONCATENATE(tLists4[[#This Row],[State]],\", \",tLists4[[#This Row],[County]])","v":"Utah, Sevier County"},3]
[null,null,null,null,null,null,null,null,null,null,null,null,null,"Utah","Summit County",{"$f":"CONCATENATE(tLists4[[#This Row],[State]],\", \",tLists4[[#This Row],[County]])","v":"Utah, Summit County"},3]
[null,null,null,null,null,null,null,null,null,null,null,null,null,"Utah","Tooele County",{"$f":"CONCATENATE(tLists4[[#This Row],[State]],\", \",tLists4[[#This Row],[County]])","v":"Utah, Tooele County"},3]
[null,null,null,null,null,null,null,null,null,null,null,null,null,"Utah","Uintah County",{"$f":"CONCATENATE(tLists4[[#This Row],[State]],\", \",tLists4[[#This Row],[County]])","v":"Utah, Uintah County"},3]
[null,null,null,null,null,null,null,null,null,null,null,null,null,"Utah","Utah County",{"$f":"CONCATENATE(tLists4[[#This Row],[State]],\", \",tLists4[[#This Row],[County]])","v":"Utah, Utah County"},3]
[null,null,null,null,null,null,null,null,null,null,null,null,null,"Utah","Wasatch County",{"$f":"CONCATENATE(tLists4[[#This Row],[State]],\", \",tLists4[[#This Row],[County]])","v":"Utah, Wasatch County"},3]
[null,null,null,null,null,null,null,null,null,null,null,null,null,"Utah","Washington County",{"$f":"CONCATENATE(tLists4[[#This Row],[State]],\", \",tLists4[[#This Row],[County]])","v":"Utah, Washington County"},6]
[null,null,null,null,null,null,null,null,null,null,null,null,null,"Utah","Wayne County",{"$f":"CONCATENATE(tLists4[[#This Row],[State]],\", \",tLists4[[#This Row],[County]])","v":"Utah, Wayne County"},6]
[null,null,null,null,null,null,null,null,null,null,null,null,null,"Utah","Weber County",{"$f":"CONCATENATE(tLists4[[#This Row],[State]],\", \",tLists4[[#This Row],[County]])","v":"Utah, Weber County"},2]
[null,null,null,null,null,null,null,null,null,null,null,null,null,"Vermont","Addison County",{"$f":"CONCATENATE(tLists4[[#This Row],[State]],\", \",tLists4[[#This Row],[County]])","v":"Vermont, Addison County"},2]
[null,null,null,null,null,null,null,null,null,null,null,null,null,"Vermont","Bennington County",{"$f":"CONCATENATE(tLists4[[#This Row],[State]],\", \",tLists4[[#This Row],[County]])","v":"Vermont, Bennington County"},"Not Eligible for Credit"]
[null,null,null,null,null,null,null,null,null,null,null,null,null,"Vermont","Caledonia County",{"$f":"CONCATENATE(tLists4[[#This Row],[State]],\", \",tLists4[[#This Row],[County]])","v":"Vermont, Caledonia County"},"Not Eligible for Credit"]
[null,null,null,null,null,null,null,null,null,null,null,null,null,"Vermont","Chittenden County",{"$f":"CONCATENATE(tLists4[[#This Row],[State]],\", \",tLists4[[#This Row],[County]])","v":"Vermont, Chittenden County"},2]
[null,null,null,null,null,null,null,null,null,null,null,null,null,"Vermont","Essex County",{"$f":"CONCATENATE(tLists4[[#This Row],[State]],\", \",tLists4[[#This Row],[County]])","v":"Vermont, Essex County"},"Not Eligible for Credit"]
[null,null,null,null,null,null,null,null,null,null,null,null,null,"Vermont","Franklin County",{"$f":"CONCATENATE(tLists4[[#This Row],[State]],\", \",tLists4[[#This Row],[County]])","v":"Vermont, Franklin County"},2]
[null,null,null,null,null,null,null,null,null,null,null,null,null,"Vermont","Grand Isle County",{"$f":"CONCATENATE(tLists4[[#This Row],[State]],\", \",tLists4[[#This Row],[County]])","v":"Vermont, Grand Isle County"},2]
[null,null,null,null,null,null,null,null,null,null,null,null,null,"Vermont","Lamoille County",{"$f":"CONCATENATE(tLists4[[#This Row],[State]],\", \",tLists4[[#This Row],[County]])","v":"Vermont, Lamoille County"},"Not Eligible for Credit"]
[null,null,null,null,null,null,null,null,null,null,null,null,null,"Vermont","Orange County",{"$f":"CONCATENATE(tLists4[[#This Row],[State]],\", \",tLists4[[#This Row],[County]])","v":"Vermont, Orange County"},3]
[null,null,null,null,null,null,null,null,null,null,null,null,null,"Vermont","Orleans County",{"$f":"CONCATENATE(tLists4[[#This Row],[State]],\", \",tLists4[[#This Row],[County]])","v":"Vermont, Orleans County"},"Not Eligible for Credit"]
[null,null,null,null,null,null,null,null,null,null,null,null,null,"Vermont","Rutland County",{"$f":"CONCATENATE(tLists4[[#This Row],[State]],\", \",tLists4[[#This Row],[County]])","v":"Vermont, Rutland County"},2]
[null,null,null,null,null,null,null,null,null,null,null,null,null,"Vermont","Washington County",{"$f":"CONCATENATE(tLists4[[#This Row],[State]],\", \",tLists4[[#This Row],[County]])","v":"Vermont, Washington County"},"Not Eligible for Credit"]
[null,null,null,null,null,null,null,null,null,null,null,null,null,"Vermont","Windham County",{"$f":"CONCATENATE(tLists4[[#This Row],[State]],\", \",tLists4[[#This Row],[County]])","v":"Vermont, Windham County"},2]
[null,null,null,null,null,null,null,null,null,null,null,null,null,"Vermont","Windsor County",{"$f":"CONCATENATE(tLists4[[#This Row],[State]],\", \",tLists4[[#This Row],[County]])","v":"Vermont, Windsor County"},"Not Eligible for Credit"]
[null,null,null,null,null,null,null,null,null,null,null,null,null,"Virginia","Accomack County",{"$f":"CONCATENATE(tLists4[[#This Row],[State]],\", \",tLists4[[#This Row],[County]])","v":"Virginia, Accomack County"},3]
[null,null,null,null,null,null,null,null,null,null,null,null,null,"Virginia","Albemarle County",{"$f":"CONCATENATE(tLists4[[#This Row],[State]],\", \",tLists4[[#This Row],[County]])","v":"Virginia, Albemarle County"},2]
[null,null,null,null,null,null,null,null,null,null,null,null,null,"Virginia","Alexandria City",{"$f":"CONCATENATE(tLists4[[#This Row],[State]],\", \",tLists4[[#This Row],[County]])","v":"Virginia, Alexandria City"},2]
[null,null,null,null,null,null,null,null,null,null,null,null,null,"Virginia","Alleghany County",{"$f":"CONCATENATE(tLists4[[#This Row],[State]],\", \",tLists4[[#This Row],[County]])","v":"Virginia, Alleghany County"},3]
[null,null,null,null,null,null,null,null,null,null,null,null,null,"Virginia","Amelia County",{"$f":"CONCATENATE(tLists4[[#This Row],[State]],\", \",tLists4[[#This Row],[County]])","v":"Virginia, Amelia County"},2]
[null,null,null,null,null,null,null,null,null,null,null,null,null,"Virginia","Amherst County",{"$f":"CONCATENATE(tLists4[[#This Row],[State]],\", \",tLists4[[#This Row],[County]])","v":"Virginia, Amherst County"},2]
[null,null,null,null,null,null,null,null,null,null,null,null,null,"Virginia","Appomattox County",{"$f":"CONCATENATE(tLists4[[#This Row],[State]],\", \",tLists4[[#This Row],[County]])","v":"Virginia, Appomattox County"},2]
[null,null,null,null,null,null,null,null,null,null,null,null,null,"Virginia","Arlington County",{"$f":"CONCATENATE(tLists4[[#This Row],[State]],\", \",tLists4[[#This Row],[County]])","v":"Virginia, Arlington County"},2]
[null,null,null,null,null,null,null,null,null,null,null,null,null,"Virginia","Augusta County",{"$f":"CONCATENATE(tLists4[[#This Row],[State]],\", \",tLists4[[#This Row],[County]])","v":"Virginia, Augusta County"},2]
[null,null,null,null,null,null,null,null,null,null,null,null,null,"Virginia","Bath County",{"$f":"CONCATENATE(tLists4[[#This Row],[State]],\", \",tLists4[[#This Row],[County]])","v":"Virginia, Bath County"},3]
[null,null,null,null,null,null,null,null,null,null,null,null,null,"Virginia","Bedford County",{"$f":"CONCATENATE(tLists4[[#This Row],[State]],\", \",tLists4[[#This Row],[County]])","v":"Virginia, Bedford County"},3]
[null,null,null,null,null,null,null,null,null,null,null,null,null,"Virginia","Bland County",{"$f":"CONCATENATE(tLists4[[#This Row],[State]],\", \",tLists4[[#This Row],[County]])","v":"Virginia, Bland County"},3]
[null,null,null,null,null,null,null,null,null,null,null,null,null,"Virginia","Botetourt County",{"$f":"CONCATENATE(tLists4[[#This Row],[State]],\", \",tLists4[[#This Row],[County]])","v":"Virginia, Botetourt County"},2]
[null,null,null,null,null,null,null,null,null,null,null,null,null,"Virginia","Bristol City",{"$f":"CONCATENATE(tLists4[[#This Row],[State]],\", \",tLists4[[#This Row],[County]])","v":"Virginia, Bristol City"},3]
[null,null,null,null,null,null,null,null,null,null,null,null,null,"Virginia","Brunswick County",{"$f":"CONCATENATE(tLists4[[#This Row],[State]],\", \",tLists4[[#This Row],[County]])","v":"Virginia, Brunswick County"},2]
[null,null,null,null,null,null,null,null,null,null,null,null,null,"Virginia","Buchanan County",{"$f":"CONCATENATE(tLists4[[#This Row],[State]],\", \",tLists4[[#This Row],[County]])","v":"Virginia, Buchanan County"},3]
[null,null,null,null,null,null,null,null,null,null,null,null,null,"Virginia","Buckingham County",{"$f":"CONCATENATE(tLists4[[#This Row],[State]],\", \",tLists4[[#This Row],[County]])","v":"Virginia, Buckingham County"},2]
[null,null,null,null,null,null,null,null,null,null,null,null,null,"Virginia","Buena Vista City",{"$f":"CONCATENATE(tLists4[[#This Row],[State]],\", \",tLists4[[#This Row],[County]])","v":"Virginia, Buena Vista City"},2]
[null,null,null,null,null,null,null,null,null,null,null,null,null,"Virginia","Campbell County",{"$f":"CONCATENATE(tLists4[[#This Row],[State]],\", \",tLists4[[#This Row],[County]])","v":"Virginia, Campbell County"},2]
[null,null,null,null,null,null,null,null,null,null,null,null,null,"Virginia","Caroline County",{"$f":"CONCATENATE(tLists4[[#This Row],[State]],\", \",tLists4[[#This Row],[County]])","v":"Virginia, Caroline County"},2]
[null,null,null,null,null,null,null,null,null,null,null,null,null,"Virginia","Carroll County",{"$f":"CONCATENATE(tLists4[[#This Row],[State]],\", \",tLists4[[#This Row],[County]])","v":"Virginia, Carroll County"},2]
[null,null,null,null,null,null,null,null,null,null,null,null,null,"Virginia","Charles City County",{"$f":"CONCATENATE(tLists4[[#This Row],[State]],\", \",tLists4[[#This Row],[County]])","v":"Virginia, Charles City County"},"Not Eligible for Credit"]
[null,null,null,null,null,null,null,null,null,null,null,null,null,"Virginia","Charlotte County",{"$f":"CONCATENATE(tLists4[[#This Row],[State]],\", \",tLists4[[#This Row],[County]])","v":"Virginia, Charlotte County"},2]
[null,null,null,null,null,null,null,null,null,null,null,null,null,"Virginia","Charlottesville City",{"$f":"CONCATENATE(tLists4[[#This Row],[State]],\", \",tLists4[[#This Row],[County]])","v":"Virginia, Charlottesville City"},2]
[null,null,null,null,null,null,null,null,null,null,null,null,null,"Virginia","Chesapeake City",{"$f":"CONCATENATE(tLists4[[#This Row],[State]],\", \",tLists4[[#This Row],[County]])","v":"Virginia, Chesapeake City"},2]
[null,null,null,null,null,null,null,null,null,null,null,null,null,"Virginia","Chesterfield County",{"$f":"CONCATENATE(tLists4[[#This Row],[State]],\", \",tLists4[[#This Row],[County]])","v":"Virginia, Chesterfield County"},2]
[null,null,null,null,null,null,null,null,null,null,null,null,null,"Virginia","Clarke County",{"$f":"CONCATENATE(tLists4[[#This Row],[State]],\", \",tLists4[[#This Row],[County]])","v":"Virginia, Clarke County"},2]
[null,null,null,null,null,null,null,null,null,null,null,null,null,"Virginia","Colonial Heights City",{"$f":"CONCATENATE(tLists4[[#This Row],[State]],\", \",tLists4[[#This Row],[County]])","v":"Virginia, Colonial Heights City"},2]
[null,null,null,null,null,null,null,null,null,null,null,null,null,"Virginia","Covington City",{"$f":"CONCATENATE(tLists4[[#This Row],[State]],\", \",tLists4[[#This Row],[County]])","v":"Virginia, Covington City"},3]
[null,null,null,null,null,null,null,null,null,null,null,null,null,"Virginia","Craig County",{"$f":"CONCATENATE(tLists4[[#This Row],[State]],\", \",tLists4[[#This Row],[County]])","v":"Virginia, Craig County"},2]
[null,null,null,null,null,null,null,null,null,null,null,null,null,"Virginia","Culpeper County",{"$f":"CONCATENATE(tLists4[[#This Row],[State]],\", \",tLists4[[#This Row],[County]])","v":"Virginia, Culpeper County"},"Not Eligible for Credit"]
[null,null,null,null,null,null,null,null,null,null,null,null,null,"Virginia","Cumberland County",{"$f":"CONCATENATE(tLists4[[#This Row],[State]],\", \",tLists4[[#This Row],[County]])","v":"Virginia, Cumberland County"},2]
[null,null,null,null,null,null,null,null,null,null,null,null,null,"Virginia","Danville City",{"$f":"CONCATENATE(tLists4[[#This Row],[State]],\", \",tLists4[[#This Row],[County]])","v":"Virginia, Danville City"},2]
[null,null,null,null,null,null,null,null,null,null,null,null,null,"Virginia","Dickenson County",{"$f":"CONCATENATE(tLists4[[#This Row],[State]],\", \",tLists4[[#This Row],[County]])","v":"Virginia, Dickenson County"},3]
[null,null,null,null,null,null,null,null,null,null,null,null,null,"Virginia","Dinwiddie County",{"$f":"CONCATENATE(tLists4[[#This Row],[State]],\", \",tLists4[[#This Row],[County]])","v":"Virginia, Dinwiddie County"},2]
[null,null,null,null,null,null,null,null,null,null,null,null,null,"Virginia","Emporia City",{"$f":"CONCATENATE(tLists4[[#This Row],[State]],\", \",tLists4[[#This Row],[County]])","v":"Virginia, Emporia City"},"Not Eligible for Credit"]
[null,null,null,null,null,null,null,null,null,null,null,null,null,"Virginia","Essex County",{"$f":"CONCATENATE(tLists4[[#This Row],[State]],\", \",tLists4[[#This Row],[County]])","v":"Virginia, Essex County"},"Not Eligible for Credit"]
[null,null,null,null,null,null,null,null,null,null,null,null,null,"Virginia","Fairfax City",{"$f":"CONCATENATE(tLists4[[#This Row],[State]],\", \",tLists4[[#This Row],[County]])","v":"Virginia, Fairfax City"},2]
[null,null,null,null,null,null,null,null,null,null,null,null,null,"Virginia","Fairfax County",{"$f":"CONCATENATE(tLists4[[#This Row],[State]],\", \",tLists4[[#This Row],[County]])","v":"Virginia, Fairfax County"},2]
[null,null,null,null,null,null,null,null,null,null,null,null,null,"Virginia","Falls Church City",{"$f":"CONCATENATE(tLists4[[#This Row],[State]],\", \",tLists4[[#This Row],[County]])","v":"Virginia, Falls Church City"},2]
[null,null,null,null,null,null,null,null,null,null,null,null,null,"Virginia","Fauquier County",{"$f":"CONCATENATE(tLists4[[#This Row],[State]],\", \",tLists4[[#This Row],[County]])","v":"Virginia, Fauquier County"},2]
[null,null,null,null,null,null,null,null,null,null,null,null,null,"Virginia","Floyd County",{"$f":"CONCATENATE(tLists4[[#This Row],[State]],\", \",tLists4[[#This Row],[County]])","v":"Virginia, Floyd County"},3]
[null,null,null,null,null,null,null,null,null,null,null,null,null,"Virginia","Fluvanna County",{"$f":"CONCATENATE(tLists4[[#This Row],[State]],\", \",tLists4[[#This Row],[County]])","v":"Virginia, Fluvanna County"},2]
[null,null,null,null,null,null,null,null,null,null,null,null,null,"Virginia","Franklin City",{"$f":"CONCATENATE(tLists4[[#This Row],[State]],\", \",tLists4[[#This Row],[County]])","v":"Virginia, Franklin City"},"Not Eligible for Credit"]
[null,null,null,null,null,null,null,null,null,null,null,null,null,"Virginia","Franklin County",{"$f":"CONCATENATE(tLists4[[#This Row],[State]],\", \",tLists4[[#This Row],[County]])","v":"Virginia, Franklin County"},3]
[null,null,null,null,null,null,null,null,null,null,null,null,null,"Virginia","Frederick County",{"$f":"CONCATENATE(tLists4[[#This Row],[State]],\", \",tLists4[[#This Row],[County]])","v":"Virginia, Frederick County"},2]
[null,null,null,null,null,null,null,null,null,null,null,null,null,"Virginia","Fredericksburg City",{"$f":"CONCATENATE(tLists4[[#This Row],[State]],\", \",tLists4[[#This Row],[County]])","v":"Virginia, Fredericksburg City"},2]
[null,null,null,null,null,null,null,null,null,null,null,null,null,"Virginia","Galax City",{"$f":"CONCATENATE(tLists4[[#This Row],[State]],\", \",tLists4[[#This Row],[County]])","v":"Virginia, Galax City"},3]
[null,null,null,null,null,null,null,null,null,null,null,null,null,"Virginia","Giles County",{"$f":"CONCATENATE(tLists4[[#This Row],[State]],\", \",tLists4[[#This Row],[County]])","v":"Virginia, Giles County"},3]
[null,null,null,null,null,null,null,null,null,null,null,null,null,"Virginia","Gloucester County",{"$f":"CONCATENATE(tLists4[[#This Row],[State]],\", \",tLists4[[#This Row],[County]])","v":"Virginia, Gloucester County"},2]
[null,null,null,null,null,null,null,null,null,null,null,null,null,"Virginia","Goochland County",{"$f":"CONCATENATE(tLists4[[#This Row],[State]],\", \",tLists4[[#This Row],[County]])","v":"Virginia, Goochland County"},2]
[null,null,null,null,null,null,null,null,null,null,null,null,null,"Virginia","Grayson County",{"$f":"CONCATENATE(tLists4[[#This Row],[State]],\", \",tLists4[[#This Row],[County]])","v":"Virginia, Grayson County"},3]
[null,null,null,null,null,null,null,null,null,null,null,null,null,"Virginia","Greene County",{"$f":"CONCATENATE(tLists4[[#This Row],[State]],\", \",tLists4[[#This Row],[County]])","v":"Virginia, Greene County"},2]
[null,null,null,null,null,null,null,null,null,null,null,null,null,"Virginia","Greensville County",{"$f":"CONCATENATE(tLists4[[#This Row],[State]],\", \",tLists4[[#This Row],[County]])","v":"Virginia, Greensville County"},2]
[null,null,null,null,null,null,null,null,null,null,null,null,null,"Virginia","Halifax County",{"$f":"CONCATENATE(tLists4[[#This Row],[State]],\", \",tLists4[[#This Row],[County]])","v":"Virginia, Halifax County"},2]
[null,null,null,null,null,null,null,null,null,null,null,null,null,"Virginia","Hampton City",{"$f":"CONCATENATE(tLists4[[#This Row],[State]],\", \",tLists4[[#This Row],[County]])","v":"Virginia, Hampton City"},2]
[null,null,null,null,null,null,null,null,null,null,null,null,null,"Virginia","Hanover County",{"$f":"CONCATENATE(tLists4[[#This Row],[State]],\", \",tLists4[[#This Row],[County]])","v":"Virginia, Hanover County"},2]
[null,null,null,null,null,null,null,null,null,null,null,null,null,"Virginia","Harrisonburg City",{"$f":"CONCATENATE(tLists4[[#This Row],[State]],\", \",tLists4[[#This Row],[County]])","v":"Virginia, Harrisonburg City"},2]
[null,null,null,null,null,null,null,null,null,null,null,null,null,"Virginia","Henrico County",{"$f":"CONCATENATE(tLists4[[#This Row],[State]],\", \",tLists4[[#This Row],[County]])","v":"Virginia, Henrico County"},"Not Eligible for Credit"]
[null,null,null,null,null,null,null,null,null,null,null,null,null,"Virginia","Henry County",{"$f":"CONCATENATE(tLists4[[#This Row],[State]],\", \",tLists4[[#This Row],[County]])","v":"Virginia, Henry County"},3]
[null,null,null,null,null,null,null,null,null,null,null,null,null,"Virginia","Highland County",{"$f":"CONCATENATE(tLists4[[#This Row],[State]],\", \",tLists4[[#This Row],[County]])","v":"Virginia, Highland County"},3]
[null,null,null,null,null,null,null,null,null,null,null,null,null,"Virginia","Hopewell City",{"$f":"CONCATENATE(tLists4[[#This Row],[State]],\", \",tLists4[[#This Row],[County]])","v":"Virginia, Hopewell City"},"Not Eligible for Credit"]
[null,null,null,null,null,null,null,null,null,null,null,null,null,"Virginia","Isle of Wight County",{"$f":"CONCATENATE(tLists4[[#This Row],[State]],\", \",tLists4[[#This Row],[County]])","v":"Virginia, Isle of Wight County"},"Not Eligible for Credit"]
[null,null,null,null,null,null,null,null,null,null,null,null,null,"Virginia","James City County",{"$f":"CONCATENATE(tLists4[[#This Row],[State]],\", \",tLists4[[#This Row],[County]])","v":"Virginia, James City County"},"Not Eligible for Credit"]
[null,null,null,null,null,null,null,null,null,null,null,null,null,"Virginia","King and Queen County",{"$f":"CONCATENATE(tLists4[[#This Row],[State]],\", \",tLists4[[#This Row],[County]])","v":"Virginia, King and Queen County"},2]
[null,null,null,null,null,null,null,null,null,null,null,null,null,"Virginia","King George County",{"$f":"CONCATENATE(tLists4[[#This Row],[State]],\", \",tLists4[[#This Row],[County]])","v":"Virginia, King George County"},2]
[null,null,null,null,null,null,null,null,null,null,null,null,null,"Virginia","King William County",{"$f":"CONCATENATE(tLists4[[#This Row],[State]],\", \",tLists4[[#This Row],[County]])","v":"Virginia, King William County"},2]
[null,null,null,null,null,null,null,null,null,null,null,null,null,"Virginia","Lancaster County",{"$f":"CONCATENATE(tLists4[[#This Row],[State]],\", \",tLists4[[#This Row],[County]])","v":"Virginia, Lancaster County"},"Not Eligible for Credit"]
[null,null,null,null,null,null,null,null,null,null,null,null,null,"Virginia","Lee County",{"$f":"CONCATENATE(tLists4[[#This Row],[State]],\", \",tLists4[[#This Row],[County]])","v":"Virginia, Lee County"},3]
[null,null,null,null,null,null,null,null,null,null,null,null,null,"Virginia","Lexington City",{"$f":"CONCATENATE(tLists4[[#This Row],[State]],\", \",tLists4[[#This Row],[County]])","v":"Virginia, Lexington City"},3]
[null,null,null,null,null,null,null,null,null,null,null,null,null,"Virginia","Loudoun County",{"$f":"CONCATENATE(tLists4[[#This Row],[State]],\", \",tLists4[[#This Row],[County]])","v":"Virginia, Loudoun County"},2]
[null,null,null,null,null,null,null,null,null,null,null,null,null,"Virginia","Louisa County",{"$f":"CONCATENATE(tLists4[[#This Row],[State]],\", \",tLists4[[#This Row],[County]])","v":"Virginia, Louisa County"},2]
[null,null,null,null,null,null,null,null,null,null,null,null,null,"Virginia","Lunenburg County",{"$f":"CONCATENATE(tLists4[[#This Row],[State]],\", \",tLists4[[#This Row],[County]])","v":"Virginia, Lunenburg County"},2]
[null,null,null,null,null,null,null,null,null,null,null,null,null,"Virginia","Lynchburg City",{"$f":"CONCATENATE(tLists4[[#This Row],[State]],\", \",tLists4[[#This Row],[County]])","v":"Virginia, Lynchburg City"},2]
[null,null,null,null,null,null,null,null,null,null,null,null,null,"Virginia","Madison County",{"$f":"CONCATENATE(tLists4[[#This Row],[State]],\", \",tLists4[[#This Row],[County]])","v":"Virginia, Madison County"},2]
[null,null,null,null,null,null,null,null,null,null,null,null,null,"Virginia","Manassas City",{"$f":"CONCATENATE(tLists4[[#This Row],[State]],\", \",tLists4[[#This Row],[County]])","v":"Virginia, Manassas City"},2]
[null,null,null,null,null,null,null,null,null,null,null,null,null,"Virginia","Manassas Park City",{"$f":"CONCATENATE(tLists4[[#This Row],[State]],\", \",tLists4[[#This Row],[County]])","v":"Virginia, Manassas Park City"},2]
[null,null,null,null,null,null,null,null,null,null,null,null,null,"Virginia","Martinsville City",{"$f":"CONCATENATE(tLists4[[#This Row],[State]],\", \",tLists4[[#This Row],[County]])","v":"Virginia, Martinsville City"},3]
[null,null,null,null,null,null,null,null,null,null,null,null,null,"Virginia","Mathews County",{"$f":"CONCATENATE(tLists4[[#This Row],[State]],\", \",tLists4[[#This Row],[County]])","v":"Virginia, Mathews County"},2]
[null,null,null,null,null,null,null,null,null,null,null,null,null,"Virginia","Mecklenburg County",{"$f":"CONCATENATE(tLists4[[#This Row],[State]],\", \",tLists4[[#This Row],[County]])","v":"Virginia, Mecklenburg County"},2]
[null,null,null,null,null,null,null,null,null,null,null,null,null,"Virginia","Middlesex County",{"$f":"CONCATENATE(tLists4[[#This Row],[State]],\", \",tLists4[[#This Row],[County]])","v":"Virginia, Middlesex County"},2]
[null,null,null,null,null,null,null,null,null,null,null,null,null,"Virginia","Montgomery County",{"$f":"CONCATENATE(tLists4[[#This Row],[State]],\", \",tLists4[[#This Row],[County]])","v":"Virginia, Montgomery County"},3]
[null,null,null,null,null,null,null,null,null,null,null,null,null,"Virginia","Nelson County",{"$f":"CONCATENATE(tLists4[[#This Row],[State]],\", \",tLists4[[#This Row],[County]])","v":"Virginia, Nelson County"},2]
[null,null,null,null,null,null,null,null,null,null,null,null,null,"Virginia","New Kent County",{"$f":"CONCATENATE(tLists4[[#This Row],[State]],\", \",tLists4[[#This Row],[County]])","v":"Virginia, New Kent County"},"Not Eligible for Credit"]
[null,null,null,null,null,null,null,null,null,null,null,null,null,"Virginia","Newport News City",{"$f":"CONCATENATE(tLists4[[#This Row],[State]],\", \",tLists4[[#This Row],[County]])","v":"Virginia, Newport News City"},"Not Eligible for Credit"]
[null,null,null,null,null,null,null,null,null,null,null,null,null,"Virginia","Norfolk City",{"$f":"CONCATENATE(tLists4[[#This Row],[State]],\", \",tLists4[[#This Row],[County]])","v":"Virginia, Norfolk City"},2]
[null,null,null,null,null,null,null,null,null,null,null,null,null,"Virginia","Northampton County",{"$f":"CONCATENATE(tLists4[[#This Row],[State]],\", \",tLists4[[#This Row],[County]])","v":"Virginia, Northampton County"},3]
[null,null,null,null,null,null,null,null,null,null,null,null,null,"Virginia","Northumberland County",{"$f":"CONCATENATE(tLists4[[#This Row],[State]],\", \",tLists4[[#This Row],[County]])","v":"Virginia, Northumberland County"},"Not Eligible for Credit"]
[null,null,null,null,null,null,null,null,null,null,null,null,null,"Virginia","Norton City",{"$f":"CONCATENATE(tLists4[[#This Row],[State]],\", \",tLists4[[#This Row],[County]])","v":"Virginia, Norton City"},3]
[null,null,null,null,null,null,null,null,null,null,null,null,null,"Virginia","Nottoway County",{"$f":"CONCATENATE(tLists4[[#This Row],[State]],\", \",tLists4[[#This Row],[County]])","v":"Virginia, Nottoway County"},2]
[null,null,null,null,null,null,null,null,null,null,null,null,null,"Virginia","Orange County",{"$f":"CONCATENATE(tLists4[[#This Row],[State]],\", \",tLists4[[#This Row],[County]])","v":"Virginia, Orange County"},"Not Eligible for Credit"]
[null,null,null,null,null,null,null,null,null,null,null,null,null,"Virginia","Page County",{"$f":"CONCATENATE(tLists4[[#This Row],[State]],\", \",tLists4[[#This Row],[County]])","v":"Virginia, Page County"},2]
[null,null,null,null,null,null,null,null,null,null,null,null,null,"Virginia","Patrick County",{"$f":"CONCATENATE(tLists4[[#This Row],[State]],\", \",tLists4[[#This Row],[County]])","v":"Virginia, Patrick County"},2]
[null,null,null,null,null,null,null,null,null,null,null,null,null,"Virginia","Petersburg City",{"$f":"CONCATENATE(tLists4[[#This Row],[State]],\", \",tLists4[[#This Row],[County]])","v":"Virginia, Petersburg City"},2]
[null,null,null,null,null,null,null,null,null,null,null,null,null,"Virginia","Pittsylvania County",{"$f":"CONCATENATE(tLists4[[#This Row],[State]],\", \",tLists4[[#This Row],[County]])","v":"Virginia, Pittsylvania County"},2]
[null,null,null,null,null,null,null,null,null,null,null,null,null,"Virginia","Poquoson City",{"$f":"CONCATENATE(tLists4[[#This Row],[State]],\", \",tLists4[[#This Row],[County]])","v":"Virginia, Poquoson City"},2]
[null,null,null,null,null,null,null,null,null,null,null,null,null,"Virginia","Portsmouth City",{"$f":"CONCATENATE(tLists4[[#This Row],[State]],\", \",tLists4[[#This Row],[County]])","v":"Virginia, Portsmouth City"},2]
[null,null,null,null,null,null,null,null,null,null,null,null,null,"Virginia","Powhatan County",{"$f":"CONCATENATE(tLists4[[#This Row],[State]],\", \",tLists4[[#This Row],[County]])","v":"Virginia, Powhatan County"},"Not Eligible for Credit"]
[null,null,null,null,null,null,null,null,null,null,null,null,null,"Virginia","Prince Edward County",{"$f":"CONCATENATE(tLists4[[#This Row],[State]],\", \",tLists4[[#This Row],[County]])","v":"Virginia, Prince Edward County"},2]
[null,null,null,null,null,null,null,null,null,null,null,null,null,"Virginia","Prince George County",{"$f":"CONCATENATE(tLists4[[#This Row],[State]],\", \",tLists4[[#This Row],[County]])","v":"Virginia, Prince George County"},2]
[null,null,null,null,null,null,null,null,null,null,null,null,null,"Virginia","Prince William County",{"$f":"CONCATENATE(tLists4[[#This Row],[State]],\", \",tLists4[[#This Row],[County]])","v":"Virginia, Prince William County"},2]
[null,null,null,null,null,null,null,null,null,null,null,null,null,"Virginia","Pulaski County",{"$f":"CONCATENATE(tLists4[[#This Row],[State]],\", \",tLists4[[#This Row],[County]])","v":"Virginia, Pulaski County"},3]
[null,null,null,null,null,null,null,null,null,null,null,null,null,"Virginia","Radford City",{"$f":"CONCATENATE(tLists4[[#This Row],[State]],\", \",tLists4[[#This Row],[County]])","v":"Virginia, Radford City"},3]
[null,null,null,null,null,null,null,null,null,null,null,null,null,"Virginia","Rappahannock County",{"$f":"CONCATENATE(tLists4[[#This Row],[State]],\", \",tLists4[[#This Row],[County]])","v":"Virginia, Rappahannock County"},2]
[null,null,null,null,null,null,null,null,null,null,null,null,null,"Virginia","Richmond City",{"$f":"CONCATENATE(tLists4[[#This Row],[State]],\", \",tLists4[[#This Row],[County]])","v":"Virginia, Richmond City"},2]
[null,null,null,null,null,null,null,null,null,null,null,null,null,"Virginia","Richmond County",{"$f":"CONCATENATE(tLists4[[#This Row],[State]],\", \",tLists4[[#This Row],[County]])","v":"Virginia, Richmond County"},"Not Eligible for Credit"]
[null,null,null,null,null,null,null,null,null,null,null,null,null,"Virginia","Roanoke City",{"$f":"CONCATENATE(tLists4[[#This Row],[State]],\", \",tLists4[[#This Row],[County]])","v":"Virginia, Roanoke City"},3]
[null,null,null,null,null,null,null,null,null,null,null,null,null,"Virginia","Roanoke County",{"$f":"CONCATENATE(tLists4[[#This Row],[State]],\", \",tLists4[[#This Row],[County]])","v":"Virginia, Roanoke County"},3]
[null,null,null,null,null,null,null,null,null,null,null,null,null,"Virginia","Rockbridge County",{"$f":"CONCATENATE(tLists4[[#This Row],[State]],\", \",tLists4[[#This Row],[County]])","v":"Virginia, Rockbridge County"},3]
[null,null,null,null,null,null,null,null,null,null,null,null,null,"Virginia","Rockingham County",{"$f":"CONCATENATE(tLists4[[#This Row],[State]],\", \",tLists4[[#This Row],[County]])","v":"Virginia, Rockingham County"},2]
[null,null,null,null,null,null,null,null,null,null,null,null,null,"Virginia","Russell County",{"$f":"CONCATENATE(tLists4[[#This Row],[State]],\", \",tLists4[[#This Row],[County]])","v":"Virginia, Russell County"},3]
[null,null,null,null,null,null,null,null,null,null,null,null,null,"Virginia","Salem City",{"$f":"CONCATENATE(tLists4[[#This Row],[State]],\", \",tLists4[[#This Row],[County]])","v":"Virginia, Salem City"},3]
[null,null,null,null,null,null,null,null,null,null,null,null,null,"Virginia","Scott County",{"$f":"CONCATENATE(tLists4[[#This Row],[State]],\", \",tLists4[[#This Row],[County]])","v":"Virginia, Scott County"},3]
[null,null,null,null,null,null,null,null,null,null,null,null,null,"Virginia","Shenandoah County",{"$f":"CONCATENATE(tLists4[[#This Row],[State]],\", \",tLists4[[#This Row],[County]])","v":"Virginia, Shenandoah County"},2]
[null,null,null,null,null,null,null,null,null,null,null,null,null,"Virginia","Smyth County",{"$f":"CONCATENATE(tLists4[[#This Row],[State]],\", \",tLists4[[#This Row],[County]])","v":"Virginia, Smyth County"},3]
[null,null,null,null,null,null,null,null,null,null,null,null,null,"Virginia","Southampton County",{"$f":"CONCATENATE(tLists4[[#This Row],[State]],\", \",tLists4[[#This Row],[County]])","v":"Virginia, Southampton County"},"Not Eligible for Credit"]
[null,null,null,null,null,null,null,null,null,null,null,null,null,"Virginia","Spotsylvania County",{"$f":"CONCATENATE(tLists4[[#This Row],[State]],\", \",tLists4[[#This Row],[County]])","v":"Virginia, Spotsylvania County"},2]
[null,null,null,null,null,null,null,null,null,null,null,null,null,"Virginia","Stafford County",{"$f":"CONCATENATE(tLists4[[#This Row],[State]],\", \",tLists4[[#This Row],[County]])","v":"Virginia, Stafford County"},2]
[null,null,null,null,null,null,null,null,null,null,null,null,null,"Virginia","Staunton City",{"$f":"CONCATENATE(tLists4[[#This Row],[State]],\", \",tLists4[[#This Row],[County]])","v":"Virginia, Staunton City"},2]
[null,null,null,null,null,null,null,null,null,null,null,null,null,"Virginia","Suffolk City",{"$f":"CONCATENATE(tLists4[[#This Row],[State]],\", \",tLists4[[#This Row],[County]])","v":"Virginia, Suffolk City"},2]
[null,null,null,null,null,null,null,null,null,null,null,null,null,"Virginia","Surry County",{"$f":"CONCATENATE(tLists4[[#This Row],[State]],\", \",tLists4[[#This Row],[County]])","v":"Virginia, Surry County"},"Not Eligible for Credit"]
[null,null,null,null,null,null,null,null,null,null,null,null,null,"Virginia","Sussex County",{"$f":"CONCATENATE(tLists4[[#This Row],[State]],\", \",tLists4[[#This Row],[County]])","v":"Virginia, Sussex County"},"Not Eligible for Credit"]
[null,null,null,null,null,null,null,null,null,null,null,null,null,"Virginia","Tazewell County",{"$f":"CONCATENATE(tLists4[[#This Row],[State]],\", \",tLists4[[#This Row],[County]])","v":"Virginia, Tazewell County"},2]
[null,null,null,null,null,null,null,null,null,null,null,null,null,"Virginia","Virginia Beach City",{"$f":"CONCATENATE(tLists4[[#This Row],[State]],\", \",tLists4[[#This Row],[County]])","v":"Virginia, Virginia Beach City"},2]
[null,null,null,null,null,null,null,null,null,null,null,null,null,"Virginia","Warren County",{"$f":"CONCATENATE(tLists4[[#This Row],[State]],\", \",tLists4[[#This Row],[County]])","v":"Virginia, Warren County"},2]
[null,null,null,null,null,null,null,null,null,null,null,null,null,"Virginia","Washington County",{"$f":"CONCATENATE(tLists4[[#This Row],[State]],\", \",tLists4[[#This Row],[County]])","v":"Virginia, Washington County"},3]
[null,null,null,null,null,null,null,null,null,null,null,null,null,"Virginia","Waynesboro City",{"$f":"CONCATENATE(tLists4[[#This Row],[State]],\", \",tLists4[[#This Row],[County]])","v":"Virginia, Waynesboro City"},2]
[null,null,null,null,null,null,null,null,null,null,null,null,null,"Virginia","Westmoreland County",{"$f":"CONCATENATE(tLists4[[#This Row],[State]],\", \",tLists4[[#This Row],[County]])","v":"Virginia, Westmoreland County"},"Not Eligible for Credit"]
[null,null,null,null,null,null,null,null,null,null,null,null,null,"Virginia","Williamsburg City",{"$f":"CONCATENATE(tLists4[[#This Row],[State]],\", \",tLists4[[#This Row],[County]])","v":"Virginia, Williamsburg City"},"Not Eligible for Credit"]
[null,null,null,null,null,null,null,null,null,null,null,null,null,"Virginia","Winchester City",{"$f":"CONCATENATE(tLists4[[#This Row],[State]],\", \",tLists4[[#This Row],[County]])","v":"Virginia, Winchester City"},2]
[null,null,null,null,null,null,null,null,null,null,null,null,null,"Virginia","Wise County",{"$f":"CONCATENATE(tLists4[[#This Row],[State]],\", \",tLists4[[#This Row],[County]])","v":"Virginia, Wise County"},3]
[null,null,null,null,null,null,null,null,null,null,null,null,null,"Virginia","Wythe County",{"$f":"CONCATENATE(tLists4[[#This Row],[State]],\", \",tLists4[[#This Row],[County]])","v":"Virginia, Wythe County"},3]
[null,null,null,null,null,null,null,null,null,null,null,null,null,"Virginia","York County",{"$f":"CONCATENATE(tLists4[[#This Row],[State]],\", \",tLists4[[#This Row],[County]])","v":"Virginia, York County"},"Not Eligible for Credit"]
[null,null,null,null,null,null,null,null,null,null,null,null,null,"Washington","Adams County",{"$f":"CONCATENATE(tLists4[[#This Row],[State]],\", \",tLists4[[#This Row],[County]])","v":"Washington, Adams County"},6]
[null,null,null,null,null,null,null,null,null,null,null,null,null,"Washington","Asotin County",{"$f":"CONCATENATE(tLists4[[#This Row],[State]],\", \",tLists4[[#This Row],[County]])","v":"Washington, Asotin County"},3]
[null,null,null,null,null,null,null,null,null,null,null,null,null,"Washington","Benton County",{"$f":"CONCATENATE(tLists4[[#This Row],[State]],\", \",tLists4[[#This Row],[County]])","v":"Washington, Benton County"},6]
[null,null,null,null,null,null,null,null,null,null,null,null,null,"Washington","Chelan County",{"$f":"CONCATENATE(tLists4[[#This Row],[State]],\", \",tLists4[[#This Row],[County]])","v":"Washington, Chelan County"},6]
[null,null,null,null,null,null,null,null,null,null,null,null,null,"Washington","Clallam County",{"$f":"CONCATENATE(tLists4[[#This Row],[State]],\", \",tLists4[[#This Row],[County]])","v":"Washington, Clallam County"},3]
[null,null,null,null,null,null,null,null,null,null,null,null,null,"Washington","Clark County",{"$f":"CONCATENATE(tLists4[[#This Row],[State]],\", \",tLists4[[#This Row],[County]])","v":"Washington, Clark County"},3]
[null,null,null,null,null,null,null,null,null,null,null,null,null,"Washington","Columbia County",{"$f":"CONCATENATE(tLists4[[#This Row],[State]],\", \",tLists4[[#This Row],[County]])","v":"Washington, Columbia County"},3]
[null,null,null,null,null,null,null,null,null,null,null,null,null,"Washington","Cowlitz County",{"$f":"CONCATENATE(tLists4[[#This Row],[State]],\", \",tLists4[[#This Row],[County]])","v":"Washington, Cowlitz County"},3]
[null,null,null,null,null,null,null,null,null,null,null,null,null,"Washington","Douglas County",{"$f":"CONCATENATE(tLists4[[#This Row],[State]],\", \",tLists4[[#This Row],[County]])","v":"Washington, Douglas County"},6]
[null,null,null,null,null,null,null,null,null,null,null,null,null,"Washington","Ferry County",{"$f":"CONCATENATE(tLists4[[#This Row],[State]],\", \",tLists4[[#This Row],[County]])","v":"Washington, Ferry County"},6]
[null,null,null,null,null,null,null,null,null,null,null,null,null,"Washington","Franklin County",{"$f":"CONCATENATE(tLists4[[#This Row],[State]],\", \",tLists4[[#This Row],[County]])","v":"Washington, Franklin County"},3]
[null,null,null,null,null,null,null,null,null,null,null,null,null,"Washington","Garfield County",{"$f":"CONCATENATE(tLists4[[#This Row],[State]],\", \",tLists4[[#This Row],[County]])","v":"Washington, Garfield County"},3]
[null,null,null,null,null,null,null,null,null,null,null,null,null,"Washington","Grant County",{"$f":"CONCATENATE(tLists4[[#This Row],[State]],\", \",tLists4[[#This Row],[County]])","v":"Washington, Grant County"},6]
[null,null,null,null,null,null,null,null,null,null,null,null,null,"Washington","Grays Harbor County",{"$f":"CONCATENATE(tLists4[[#This Row],[State]],\", \",tLists4[[#This Row],[County]])","v":"Washington, Grays Harbor County"},3]
[null,null,null,null,null,null,null,null,null,null,null,null,null,"Washington","Island County",{"$f":"CONCATENATE(tLists4[[#This Row],[State]],\", \",tLists4[[#This Row],[County]])","v":"Washington, Island County"},3]
[null,null,null,null,null,null,null,null,null,null,null,null,null,"Washington","Jefferson County",{"$f":"CONCATENATE(tLists4[[#This Row],[State]],\", \",tLists4[[#This Row],[County]])","v":"Washington, Jefferson County"},3]
[null,null,null,null,null,null,null,null,null,null,null,null,null,"Washington","King County",{"$f":"CONCATENATE(tLists4[[#This Row],[State]],\", \",tLists4[[#This Row],[County]])","v":"Washington, King County"},3]
[null,null,null,null,null,null,null,null,null,null,null,null,null,"Washington","Kitsap County",{"$f":"CONCATENATE(tLists4[[#This Row],[State]],\", \",tLists4[[#This Row],[County]])","v":"Washington, Kitsap County"},3]
[null,null,null,null,null,null,null,null,null,null,null,null,null,"Washington","Kittitas County",{"$f":"CONCATENATE(tLists4[[#This Row],[State]],\", \",tLists4[[#This Row],[County]])","v":"Washington, Kittitas County"},6]
[null,null,null,null,null,null,null,null,null,null,null,null,null,"Washington","Klickitat County",{"$f":"CONCATENATE(tLists4[[#This Row],[State]],\", \",tLists4[[#This Row],[County]])","v":"Washington, Klickitat County"},6]
[null,null,null,null,null,null,null,null,null,null,null,null,null,"Washington","Lewis County",{"$f":"CONCATENATE(tLists4[[#This Row],[State]],\", \",tLists4[[#This Row],[County]])","v":"Washington, Lewis County"},3]
[null,null,null,null,null,null,null,null,null,null,null,null,null,"Washington","Lincoln County",{"$f":"CONCATENATE(tLists4[[#This Row],[State]],\", \",tLists4[[#This Row],[County]])","v":"Washington, Lincoln County"},6]
[null,null,null,null,null,null,null,null,null,null,null,null,null,"Washington","Mason County",{"$f":"CONCATENATE(tLists4[[#This Row],[State]],\", \",tLists4[[#This Row],[County]])","v":"Washington, Mason County"},2]
[null,null,null,null,null,null,null,null,null,null,null,null,null,"Washington","Okanogan County",{"$f":"CONCATENATE(tLists4[[#This Row],[State]],\", \",tLists4[[#This Row],[County]])","v":"Washington, Okanogan County"},6]
[null,null,null,null,null,null,null,null,null,null,null,null,null,"Washington","Pacific County",{"$f":"CONCATENATE(tLists4[[#This Row],[State]],\", \",tLists4[[#This Row],[County]])","v":"Washington, Pacific County"},2]
[null,null,null,null,null,null,null,null,null,null,null,null,null,"Washington","Pend Oreille County",{"$f":"CONCATENATE(tLists4[[#This Row],[State]],\", \",tLists4[[#This Row],[County]])","v":"Washington, Pend Oreille County"},3]
[null,null,null,null,null,null,null,null,null,null,null,null,null,"Washington","Pierce County",{"$f":"CONCATENATE(tLists4[[#This Row],[State]],\", \",tLists4[[#This Row],[County]])","v":"Washington, Pierce County"},3]
[null,null,null,null,null,null,null,null,null,null,null,null,null,"Washington","San Juan County",{"$f":"CONCATENATE(tLists4[[#This Row],[State]],\", \",tLists4[[#This Row],[County]])","v":"Washington, San Juan County"},3]
[null,null,null,null,null,null,null,null,null,null,null,null,null,"Washington","Skagit County",{"$f":"CONCATENATE(tLists4[[#This Row],[State]],\", \",tLists4[[#This Row],[County]])","v":"Washington, Skagit County"},3]
[null,null,null,null,null,null,null,null,null,null,null,null,null,"Washington","Skamania County",{"$f":"CONCATENATE(tLists4[[#This Row],[State]],\", \",tLists4[[#This Row],[County]])","v":"Washington, Skamania County"},3]
[null,null,null,null,null,null,null,null,null,null,null,null,null,"Washington","Snohomish County",{"$f":"CONCATENATE(tLists4[[#This Row],[State]],\", \",tLists4[[#This Row],[County]])","v":"Washington, Snohomish County"},3]
[null,null,null,null,null,null,null,null,null,null,null,null,null,"Washington","Spokane County",{"$f":"CONCATENATE(tLists4[[#This Row],[State]],\", \",tLists4[[#This Row],[County]])","v":"Washington, Spokane County"},3]
[null,null,null,null,null,null,null,null,null,null,null,null,null,"Washington","Stevens County",{"$f":"CONCATENATE(tLists4[[#This Row],[State]],\", \",tLists4[[#This Row],[County]])","v":"Washington, Stevens County"},3]
[null,null,null,null,null,null,null,null,null,null,null,null,null,"Washington","Thurston County",{"$f":"CONCATENATE(tLists4[[#This Row],[State]],\", \",tLists4[[#This Row],[County]])","v":"Washington, Thurston County"},3]
[null,null,null,null,null,null,null,null,null,null,null,null,null,"Washington","Wahkiakum County",{"$f":"CONCATENATE(tLists4[[#This Row],[State]],\", \",tLists4[[#This Row],[County]])","v":"Washington, Wahkiakum County"},2]
[null,null,null,null,null,null,null,null,null,null,null,null,null,"Washington","Walla Walla County",{"$f":"CONCATENATE(tLists4[[#This Row],[State]],\", \",tLists4[[#This Row],[County]])","v":"Washington, Walla Walla County"},6]
[null,null,null,null,null,null,null,null,null,null,null,null,null,"Washington","Whatcom County",{"$f":"CONCATENATE(tLists4[[#This Row],[State]],\", \",tLists4[[#This Row],[County]])","v":"Washington, Whatcom County"},3]
[null,null,null,null,null,null,null,null,null,null,null,null,null,"Washington","Whitman County",{"$f":"CONCATENATE(tLists4[[#This Row],[State]],\", \",tLists4[[#This Row],[County]])","v":"Washington, Whitman County"},3]
[null,null,null,null,null,null,null,null,null,null,null,null,null,"Washington","Yakima County",{"$f":"CONCATENATE(tLists4[[#This Row],[State]],\", \",tLists4[[#This Row],[County]])","v":"Washington, Yakima County"},3]
[null,null,null,null,null,null,null,null,null,null,null,null,null,"West_Virginia","Barbour County",{"$f":"CONCATENATE(tLists4[[#This Row],[State]],\", \",tLists4[[#This Row],[County]])","v":"West_Virginia, Barbour County"},2]
[null,null,null,null,null,null,null,null,null,null,null,null,null,"West_Virginia","Berkeley County",{"$f":"CONCATENATE(tLists4[[#This Row],[State]],\", \",tLists4[[#This Row],[County]])","v":"West_Virginia, Berkeley County"},2]
[null,null,null,null,null,null,null,null,null,null,null,null,null,"West_Virginia","Boone County",{"$f":"CONCATENATE(tLists4[[#This Row],[State]],\", \",tLists4[[#This Row],[County]])","v":"West_Virginia, Boone County"},3]
[null,null,null,null,null,null,null,null,null,null,null,null,null,"West_Virginia","Braxton County",{"$f":"CONCATENATE(tLists4[[#This Row],[State]],\", \",tLists4[[#This Row],[County]])","v":"West_Virginia, Braxton County"},2]
[null,null,null,null,null,null,null,null,null,null,null,null,null,"West_Virginia","Brooke County",{"$f":"CONCATENATE(tLists4[[#This Row],[State]],\", \",tLists4[[#This Row],[County]])","v":"West_Virginia, Brooke County"},2]
[null,null,null,null,null,null,null,null,null,null,null,null,null,"West_Virginia","Cabell County",{"$f":"CONCATENATE(tLists4[[#This Row],[State]],\", \",tLists4[[#This Row],[County]])","v":"West_Virginia, Cabell County"},3]
[null,null,null,null,null,null,null,null,null,null,null,null,null,"West_Virginia","Calhoun County",{"$f":"CONCATENATE(tLists4[[#This Row],[State]],\", \",tLists4[[#This Row],[County]])","v":"West_Virginia, Calhoun County"},3]
[null,null,null,null,null,null,null,null,null,null,null,null,null,"West_Virginia","Clay County",{"$f":"CONCATENATE(tLists4[[#This Row],[State]],\", \",tLists4[[#This Row],[County]])","v":"West_Virginia, Clay County"},3]
[null,null,null,null,null,null,null,null,null,null,null,null,null,"West_Virginia","Doddridge County",{"$f":"CONCATENATE(tLists4[[#This Row],[State]],\", \",tLists4[[#This Row],[County]])","v":"West_Virginia, Doddridge County"},3]
[null,null,null,null,null,null,null,null,null,null,null,null,null,"West_Virginia","Fayette County",{"$f":"CONCATENATE(tLists4[[#This Row],[State]],\", \",tLists4[[#This Row],[County]])","v":"West_Virginia, Fayette County"},3]
[null,null,null,null,null,null,null,null,null,null,null,null,null,"West_Virginia","Gilmer County",{"$f":"CONCATENATE(tLists4[[#This Row],[State]],\", \",tLists4[[#This Row],[County]])","v":"West_Virginia, Gilmer County"},3]
[null,null,null,null,null,null,null,null,null,null,null,null,null,"West_Virginia","Grant County",{"$f":"CONCATENATE(tLists4[[#This Row],[State]],\", \",tLists4[[#This Row],[County]])","v":"West_Virginia, Grant County"},2]
[null,null,null,null,null,null,null,null,null,null,null,null,null,"West_Virginia","Greenbrier County",{"$f":"CONCATENATE(tLists4[[#This Row],[State]],\", \",tLists4[[#This Row],[County]])","v":"West_Virginia, Greenbrier County"},3]
[null,null,null,null,null,null,null,null,null,null,null,null,null,"West_Virginia","Hampshire County",{"$f":"CONCATENATE(tLists4[[#This Row],[State]],\", \",tLists4[[#This Row],[County]])","v":"West_Virginia, Hampshire County"},2]
[null,null,null,null,null,null,null,null,null,null,null,null,null,"West_Virginia","Hancock County",{"$f":"CONCATENATE(tLists4[[#This Row],[State]],\", \",tLists4[[#This Row],[County]])","v":"West_Virginia, Hancock County"},2]
[null,null,null,null,null,null,null,null,null,null,null,null,null,"West_Virginia","Hardy County",{"$f":"CONCATENATE(tLists4[[#This Row],[State]],\", \",tLists4[[#This Row],[County]])","v":"West_Virginia, Hardy County"},2]
[null,null,null,null,null,null,null,null,null,null,null,null,null,"West_Virginia","Harrison County",{"$f":"CONCATENATE(tLists4[[#This Row],[State]],\", \",tLists4[[#This Row],[County]])","v":"West_Virginia, Harrison County"},3]
[null,null,null,null,null,null,null,null,null,null,null,null,null,"West_Virginia","Jackson County",{"$f":"CONCATENATE(tLists4[[#This Row],[State]],\", \",tLists4[[#This Row],[County]])","v":"West_Virginia, Jackson County"},3]
[null,null,null,null,null,null,null,null,null,null,null,null,null,"West_Virginia","Jefferson County",{"$f":"CONCATENATE(tLists4[[#This Row],[State]],\", \",tLists4[[#This Row],[County]])","v":"West_Virginia, Jefferson County"},2]
[null,null,null,null,null,null,null,null,null,null,null,null,null,"West_Virginia","Kanawha County",{"$f":"CONCATENATE(tLists4[[#This Row],[State]],\", \",tLists4[[#This Row],[County]])","v":"West_Virginia, Kanawha County"},3]
[null,null,null,null,null,null,null,null,null,null,null,null,null,"West_Virginia","Lewis County",{"$f":"CONCATENATE(tLists4[[#This Row],[State]],\", \",tLists4[[#This Row],[County]])","v":"West_Virginia, Lewis County"},3]
[null,null,null,null,null,null,null,null,null,null,null,null,null,"West_Virginia","Lincoln County",{"$f":"CONCATENATE(tLists4[[#This Row],[State]],\", \",tLists4[[#This Row],[County]])","v":"West_Virginia, Lincoln County"},6]
[null,null,null,null,null,null,null,null,null,null,null,null,null,"West_Virginia","Logan County",{"$f":"CONCATENATE(tLists4[[#This Row],[State]],\", \",tLists4[[#This Row],[County]])","v":"West_Virginia, Logan County"},6]
[null,null,null,null,null,null,null,null,null,null,null,null,null,"West_Virginia","Marion County",{"$f":"CONCATENATE(tLists4[[#This Row],[State]],\", \",tLists4[[#This Row],[County]])","v":"West_Virginia, Marion County"},2]
[null,null,null,null,null,null,null,null,null,null,null,null,null,"West_Virginia","Marshall County",{"$f":"CONCATENATE(tLists4[[#This Row],[State]],\", \",tLists4[[#This Row],[County]])","v":"West_Virginia, Marshall County"},2]
[null,null,null,null,null,null,null,null,null,null,null,null,null,"West_Virginia","Mason County",{"$f":"CONCATENATE(tLists4[[#This Row],[State]],\", \",tLists4[[#This Row],[County]])","v":"West_Virginia, Mason County"},2]
[null,null,null,null,null,null,null,null,null,null,null,null,null,"West_Virginia","McDowell County",{"$f":"CONCATENATE(tLists4[[#This Row],[State]],\", \",tLists4[[#This Row],[County]])","v":"West_Virginia, McDowell County"},3]
[null,null,null,null,null,null,null,null,null,null,null,null,null,"West_Virginia","Mercer County",{"$f":"CONCATENATE(tLists4[[#This Row],[State]],\", \",tLists4[[#This Row],[County]])","v":"West_Virginia, Mercer County"},3]
[null,null,null,null,null,null,null,null,null,null,null,null,null,"West_Virginia","Mineral County",{"$f":"CONCATENATE(tLists4[[#This Row],[State]],\", \",tLists4[[#This Row],[County]])","v":"West_Virginia, Mineral County"},2]
[null,null,null,null,null,null,null,null,null,null,null,null,null,"West_Virginia","Mingo County",{"$f":"CONCATENATE(tLists4[[#This Row],[State]],\", \",tLists4[[#This Row],[County]])","v":"West_Virginia, Mingo County"},6]
[null,null,null,null,null,null,null,null,null,null,null,null,null,"West_Virginia","Monongalia County",{"$f":"CONCATENATE(tLists4[[#This Row],[State]],\", \",tLists4[[#This Row],[County]])","v":"West_Virginia, Monongalia County"},3]
[null,null,null,null,null,null,null,null,null,null,null,null,null,"West_Virginia","Monroe County",{"$f":"CONCATENATE(tLists4[[#This Row],[State]],\", \",tLists4[[#This Row],[County]])","v":"West_Virginia, Monroe County"},3]
[null,null,null,null,null,null,null,null,null,null,null,null,null,"West_Virginia","Morgan County",{"$f":"CONCATENATE(tLists4[[#This Row],[State]],\", \",tLists4[[#This Row],[County]])","v":"West_Virginia, Morgan County"},2]
[null,null,null,null,null,null,null,null,null,null,null,null,null,"West_Virginia","Nicholas County",{"$f":"CONCATENATE(tLists4[[#This Row],[State]],\", \",tLists4[[#This Row],[County]])","v":"West_Virginia, Nicholas County"},3]
[null,null,null,null,null,null,null,null,null,null,null,null,null,"West_Virginia","Ohio County",{"$f":"CONCATENATE(tLists4[[#This Row],[State]],\", \",tLists4[[#This Row],[County]])","v":"West_Virginia, Ohio County"},3]
[null,null,null,null,null,null,null,null,null,null,null,null,null,"West_Virginia","Pendleton County",{"$f":"CONCATENATE(tLists4[[#This Row],[State]],\", \",tLists4[[#This Row],[County]])","v":"West_Virginia, Pendleton County"},2]
[null,null,null,null,null,null,null,null,null,null,null,null,null,"West_Virginia","Pleasants County",{"$f":"CONCATENATE(tLists4[[#This Row],[State]],\", \",tLists4[[#This Row],[County]])","v":"West_Virginia, Pleasants County"},3]
[null,null,null,null,null,null,null,null,null,null,null,null,null,"West_Virginia","Pocahontas County",{"$f":"CONCATENATE(tLists4[[#This Row],[State]],\", \",tLists4[[#This Row],[County]])","v":"West_Virginia, Pocahontas County"},3]
[null,null,null,null,null,null,null,null,null,null,null,null,null,"West_Virginia","Preston County",{"$f":"CONCATENATE(tLists4[[#This Row],[State]],\", \",tLists4[[#This Row],[County]])","v":"West_Virginia, Preston County"},2]
[null,null,null,null,null,null,null,null,null,null,null,null,null,"West_Virginia","Putnam County",{"$f":"CONCATENATE(tLists4[[#This Row],[State]],\", \",tLists4[[#This Row],[County]])","v":"West_Virginia, Putnam County"},3]
[null,null,null,null,null,null,null,null,null,null,null,null,null,"West_Virginia","Raleigh County",{"$f":"CONCATENATE(tLists4[[#This Row],[State]],\", \",tLists4[[#This Row],[County]])","v":"West_Virginia, Raleigh County"},3]
[null,null,null,null,null,null,null,null,null,null,null,null,null,"West_Virginia","Randolph County",{"$f":"CONCATENATE(tLists4[[#This Row],[State]],\", \",tLists4[[#This Row],[County]])","v":"West_Virginia, Randolph County"},3]
[null,null,null,null,null,null,null,null,null,null,null,null,null,"West_Virginia","Ritchie County",{"$f":"CONCATENATE(tLists4[[#This Row],[State]],\", \",tLists4[[#This Row],[County]])","v":"West_Virginia, Ritchie County"},2]
[null,null,null,null,null,null,null,null,null,null,null,null,null,"West_Virginia","Roane County",{"$f":"CONCATENATE(tLists4[[#This Row],[State]],\", \",tLists4[[#This Row],[County]])","v":"West_Virginia, Roane County"},3]
[null,null,null,null,null,null,null,null,null,null,null,null,null,"West_Virginia","Summers County",{"$f":"CONCATENATE(tLists4[[#This Row],[State]],\", \",tLists4[[#This Row],[County]])","v":"West_Virginia, Summers County"},3]
[null,null,null,null,null,null,null,null,null,null,null,null,null,"West_Virginia","Taylor County",{"$f":"CONCATENATE(tLists4[[#This Row],[State]],\", \",tLists4[[#This Row],[County]])","v":"West_Virginia, Taylor County"},2]
[null,null,null,null,null,null,null,null,null,null,null,null,null,"West_Virginia","Tucker County",{"$f":"CONCATENATE(tLists4[[#This Row],[State]],\", \",tLists4[[#This Row],[County]])","v":"West_Virginia, Tucker County"},2]
[null,null,null,null,null,null,null,null,null,null,null,null,null,"West_Virginia","Tyler County",{"$f":"CONCATENATE(tLists4[[#This Row],[State]],\", \",tLists4[[#This Row],[County]])","v":"West_Virginia, Tyler County"},2]
[null,null,null,null,null,null,null,null,null,null,null,null,null,"West_Virginia","Upshur County",{"$f":"CONCATENATE(tLists4[[#This Row],[State]],\", \",tLists4[[#This Row],[County]])","v":"West_Virginia, Upshur County"},3]
[null,null,null,null,null,null,null,null,null,null,null,null,null,"West_Virginia","Wayne County",{"$f":"CONCATENATE(tLists4[[#This Row],[State]],\", \",tLists4[[#This Row],[County]])","v":"West_Virginia, Wayne County"},3]
[null,null,null,null,null,null,null,null,null,null,null,null,null,"West_Virginia","Webster County",{"$f":"CONCATENATE(tLists4[[#This Row],[State]],\", \",tLists4[[#This Row],[County]])","v":"West_Virginia, Webster County"},3]
[null,null,null,null,null,null,null,null,null,null,null,null,null,"West_Virginia","Wetzel County",{"$f":"CONCATENATE(tLists4[[#This Row],[State]],\", \",tLists4[[#This Row],[County]])","v":"West_Virginia, Wetzel County"},3]
[null,null,null,null,null,null,null,null,null,null,null,null,null,"West_Virginia","Wirt County",{"$f":"CONCATENATE(tLists4[[#This Row],[State]],\", \",tLists4[[#This Row],[County]])","v":"West_Virginia, Wirt County"},2]
[null,null,null,null,null,null,null,null,null,null,null,null,null,"West_Virginia","Wood County",{"$f":"CONCATENATE(tLists4[[#This Row],[State]],\", \",tLists4[[#This Row],[County]])","v":"West_Virginia, Wood County"},2]
[null,null,null,null,null,null,null,null,null,null,null,null,null,"West_Virginia","Wyoming County",{"$f":"CONCATENATE(tLists4[[#This Row],[State]],\", \",tLists4[[#This Row],[County]])","v":"West_Virginia, Wyoming County"},3]
[null,null,null,null,null,null,null,null,null,null,null,null,null,"Wisconsin","Adams County",{"$f":"CONCATENATE(tLists4[[#This Row],[State]],\", \",tLists4[[#This Row],[County]])","v":"Wisconsin, Adams County"},3]
[null,null,null,null,null,null,null,null,null,null,null,null,null,"Wisconsin","Ashland County",{"$f":"CONCATENATE(tLists4[[#This Row],[State]],\", \",tLists4[[#This Row],[County]])","v":"Wisconsin, Ashland County"},3]
[null,null,null,null,null,null,null,null,null,null,null,null,null,"Wisconsin","Barron County",{"$f":"CONCATENATE(tLists4[[#This Row],[State]],\", \",tLists4[[#This Row],[County]])","v":"Wisconsin, Barron County"},2]
[null,null,null,null,null,null,null,null,null,null,null,null,null,"Wisconsin","Bayfield County",{"$f":"CONCATENATE(tLists4[[#This Row],[State]],\", \",tLists4[[#This Row],[County]])","v":"Wisconsin, Bayfield County"},2]
[null,null,null,null,null,null,null,null,null,null,null,null,null,"Wisconsin","Brown County",{"$f":"CONCATENATE(tLists4[[#This Row],[State]],\", \",tLists4[[#This Row],[County]])","v":"Wisconsin, Brown County"},2]
[null,null,null,null,null,null,null,null,null,null,null,null,null,"Wisconsin","Buffalo County",{"$f":"CONCATENATE(tLists4[[#This Row],[State]],\", \",tLists4[[#This Row],[County]])","v":"Wisconsin, Buffalo County"},2]
[null,null,null,null,null,null,null,null,null,null,null,null,null,"Wisconsin","Burnett County",{"$f":"CONCATENATE(tLists4[[#This Row],[State]],\", \",tLists4[[#This Row],[County]])","v":"Wisconsin, Burnett County"},2]
[null,null,null,null,null,null,null,null,null,null,null,null,null,"Wisconsin","Calumet County",{"$f":"CONCATENATE(tLists4[[#This Row],[State]],\", \",tLists4[[#This Row],[County]])","v":"Wisconsin, Calumet County"},2]
[null,null,null,null,null,null,null,null,null,null,null,null,null,"Wisconsin","Chippewa County",{"$f":"CONCATENATE(tLists4[[#This Row],[State]],\", \",tLists4[[#This Row],[County]])","v":"Wisconsin, Chippewa County"},2]
[null,null,null,null,null,null,null,null,null,null,null,null,null,"Wisconsin","Clark County",{"$f":"CONCATENATE(tLists4[[#This Row],[State]],\", \",tLists4[[#This Row],[County]])","v":"Wisconsin, Clark County"},2]
[null,null,null,null,null,null,null,null,null,null,null,null,null,"Wisconsin","Columbia County",{"$f":"CONCATENATE(tLists4[[#This Row],[State]],\", \",tLists4[[#This Row],[County]])","v":"Wisconsin, Columbia County"},2]
[null,null,null,null,null,null,null,null,null,null,null,null,null,"Wisconsin","Crawford County",{"$f":"CONCATENATE(tLists4[[#This Row],[State]],\", \",tLists4[[#This Row],[County]])","v":"Wisconsin, Crawford County"},3]
[null,null,null,null,null,null,null,null,null,null,null,null,null,"Wisconsin","Dane County",{"$f":"CONCATENATE(tLists4[[#This Row],[State]],\", \",tLists4[[#This Row],[County]])","v":"Wisconsin, Dane County"},2]
[null,null,null,null,null,null,null,null,null,null,null,null,null,"Wisconsin","Dodge County",{"$f":"CONCATENATE(tLists4[[#This Row],[State]],\", \",tLists4[[#This Row],[County]])","v":"Wisconsin, Dodge County"},2]
[null,null,null,null,null,null,null,null,null,null,null,null,null,"Wisconsin","Door County",{"$f":"CONCATENATE(tLists4[[#This Row],[State]],\", \",tLists4[[#This Row],[County]])","v":"Wisconsin, Door County"},2]
[null,null,null,null,null,null,null,null,null,null,null,null,null,"Wisconsin","Douglas County",{"$f":"CONCATENATE(tLists4[[#This Row],[State]],\", \",tLists4[[#This Row],[County]])","v":"Wisconsin, Douglas County"},3]
[null,null,null,null,null,null,null,null,null,null,null,null,null,"Wisconsin","Dunn County",{"$f":"CONCATENATE(tLists4[[#This Row],[State]],\", \",tLists4[[#This Row],[County]])","v":"Wisconsin, Dunn County"},2]
[null,null,null,null,null,null,null,null,null,null,null,null,null,"Wisconsin","Eau Claire County",{"$f":"CONCATENATE(tLists4[[#This Row],[State]],\", \",tLists4[[#This Row],[County]])","v":"Wisconsin, Eau Claire County"},2]
[null,null,null,null,null,null,null,null,null,null,null,null,null,"Wisconsin","Florence County",{"$f":"CONCATENATE(tLists4[[#This Row],[State]],\", \",tLists4[[#This Row],[County]])","v":"Wisconsin, Florence County"},3]
[null,null,null,null,null,null,null,null,null,null,null,null,null,"Wisconsin","Fond du Lac County",{"$f":"CONCATENATE(tLists4[[#This Row],[State]],\", \",tLists4[[#This Row],[County]])","v":"Wisconsin, Fond du Lac County"},2]
[null,null,null,null,null,null,null,null,null,null,null,null,null,"Wisconsin","Forest County",{"$f":"CONCATENATE(tLists4[[#This Row],[State]],\", \",tLists4[[#This Row],[County]])","v":"Wisconsin, Forest County"},3]
[null,null,null,null,null,null,null,null,null,null,null,null,null,"Wisconsin","Grant County",{"$f":"CONCATENATE(tLists4[[#This Row],[State]],\", \",tLists4[[#This Row],[County]])","v":"Wisconsin, Grant County"},2]
[null,null,null,null,null,null,null,null,null,null,null,null,null,"Wisconsin","Green County",{"$f":"CONCATENATE(tLists4[[#This Row],[State]],\", \",tLists4[[#This Row],[County]])","v":"Wisconsin, Green County"},2]
[null,null,null,null,null,null,null,null,null,null,null,null,null,"Wisconsin","Green Lake County",{"$f":"CONCATENATE(tLists4[[#This Row],[State]],\", \",tLists4[[#This Row],[County]])","v":"Wisconsin, Green Lake County"},2]
[null,null,null,null,null,null,null,null,null,null,null,null,null,"Wisconsin","Iowa County",{"$f":"CONCATENATE(tLists4[[#This Row],[State]],\", \",tLists4[[#This Row],[County]])","v":"Wisconsin, Iowa County"},2]
[null,null,null,null,null,null,null,null,null,null,null,null,null,"Wisconsin","Iron County",{"$f":"CONCATENATE(tLists4[[#This Row],[State]],\", \",tLists4[[#This Row],[County]])","v":"Wisconsin, Iron County"},3]
[null,null,null,null,null,null,null,null,null,null,null,null,null,"Wisconsin","Jackson County",{"$f":"CONCATENATE(tLists4[[#This Row],[State]],\", \",tLists4[[#This Row],[County]])","v":"Wisconsin, Jackson County"},2]
[null,null,null,null,null,null,null,null,null,null,null,null,null,"Wisconsin","Jefferson County",{"$f":"CONCATENATE(tLists4[[#This Row],[State]],\", \",tLists4[[#This Row],[County]])","v":"Wisconsin, Jefferson County"},2]
[null,null,null,null,null,null,null,null,null,null,null,null,null,"Wisconsin","Juneau County",{"$f":"CONCATENATE(tLists4[[#This Row],[State]],\", \",tLists4[[#This Row],[County]])","v":"Wisconsin, Juneau County"},3]
[null,null,null,null,null,null,null,null,null,null,null,null,null,"Wisconsin","Kenosha County",{"$f":"CONCATENATE(tLists4[[#This Row],[State]],\", \",tLists4[[#This Row],[County]])","v":"Wisconsin, Kenosha County"},2]
[null,null,null,null,null,null,null,null,null,null,null,null,null,"Wisconsin","Kewaunee County",{"$f":"CONCATENATE(tLists4[[#This Row],[State]],\", \",tLists4[[#This Row],[County]])","v":"Wisconsin, Kewaunee County"},2]
[null,null,null,null,null,null,null,null,null,null,null,null,null,"Wisconsin","La Crosse County",{"$f":"CONCATENATE(tLists4[[#This Row],[State]],\", \",tLists4[[#This Row],[County]])","v":"Wisconsin, La Crosse County"},3]
[null,null,null,null,null,null,null,null,null,null,null,null,null,"Wisconsin","Lafayette County",{"$f":"CONCATENATE(tLists4[[#This Row],[State]],\", \",tLists4[[#This Row],[County]])","v":"Wisconsin, Lafayette County"},2]
[null,null,null,null,null,null,null,null,null,null,null,null,null,"Wisconsin","Langlade County",{"$f":"CONCATENATE(tLists4[[#This Row],[State]],\", \",tLists4[[#This Row],[County]])","v":"Wisconsin, Langlade County"},3]
[null,null,null,null,null,null,null,null,null,null,null,null,null,"Wisconsin","Lincoln County",{"$f":"CONCATENATE(tLists4[[#This Row],[State]],\", \",tLists4[[#This Row],[County]])","v":"Wisconsin, Lincoln County"},3]
[null,null,null,null,null,null,null,null,null,null,null,null,null,"Wisconsin","Manitowoc County",{"$f":"CONCATENATE(tLists4[[#This Row],[State]],\", \",tLists4[[#This Row],[County]])","v":"Wisconsin, Manitowoc County"},2]
[null,null,null,null,null,null,null,null,null,null,null,null,null,"Wisconsin","Marathon County",{"$f":"CONCATENATE(tLists4[[#This Row],[State]],\", \",tLists4[[#This Row],[County]])","v":"Wisconsin, Marathon County"},2]
[null,null,null,null,null,null,null,null,null,null,null,null,null,"Wisconsin","Marinette County",{"$f":"CONCATENATE(tLists4[[#This Row],[State]],\", \",tLists4[[#This Row],[County]])","v":"Wisconsin, Marinette County"},3]
[null,null,null,null,null,null,null,null,null,null,null,null,null,"Wisconsin","Marquette County",{"$f":"CONCATENATE(tLists4[[#This Row],[State]],\", \",tLists4[[#This Row],[County]])","v":"Wisconsin, Marquette County"},3]
[null,null,null,null,null,null,null,null,null,null,null,null,null,"Wisconsin","Menominee County",{"$f":"CONCATENATE(tLists4[[#This Row],[State]],\", \",tLists4[[#This Row],[County]])","v":"Wisconsin, Menominee County"},2]
[null,null,null,null,null,null,null,null,null,null,null,null,null,"Wisconsin","Milwaukee County",{"$f":"CONCATENATE(tLists4[[#This Row],[State]],\", \",tLists4[[#This Row],[County]])","v":"Wisconsin, Milwaukee County"},2]
[null,null,null,null,null,null,null,null,null,null,null,null,null,"Wisconsin","Monroe County",{"$f":"CONCATENATE(tLists4[[#This Row],[State]],\", \",tLists4[[#This Row],[County]])","v":"Wisconsin, Monroe County"},3]
[null,null,null,null,null,null,null,null,null,null,null,null,null,"Wisconsin","Oconto County",{"$f":"CONCATENATE(tLists4[[#This Row],[State]],\", \",tLists4[[#This Row],[County]])","v":"Wisconsin, Oconto County"},3]
[null,null,null,null,null,null,null,null,null,null,null,null,null,"Wisconsin","Oneida County",{"$f":"CONCATENATE(tLists4[[#This Row],[State]],\", \",tLists4[[#This Row],[County]])","v":"Wisconsin, Oneida County"},3]
[null,null,null,null,null,null,null,null,null,null,null,null,null,"Wisconsin","Outagamie County",{"$f":"CONCATENATE(tLists4[[#This Row],[State]],\", \",tLists4[[#This Row],[County]])","v":"Wisconsin, Outagamie County"},2]
[null,null,null,null,null,null,null,null,null,null,null,null,null,"Wisconsin","Ozaukee County",{"$f":"CONCATENATE(tLists4[[#This Row],[State]],\", \",tLists4[[#This Row],[County]])","v":"Wisconsin, Ozaukee County"},2]
[null,null,null,null,null,null,null,null,null,null,null,null,null,"Wisconsin","Pepin County",{"$f":"CONCATENATE(tLists4[[#This Row],[State]],\", \",tLists4[[#This Row],[County]])","v":"Wisconsin, Pepin County"},2]
[null,null,null,null,null,null,null,null,null,null,null,null,null,"Wisconsin","Pierce County",{"$f":"CONCATENATE(tLists4[[#This Row],[State]],\", \",tLists4[[#This Row],[County]])","v":"Wisconsin, Pierce County"},2]
[null,null,null,null,null,null,null,null,null,null,null,null,null,"Wisconsin","Polk County",{"$f":"CONCATENATE(tLists4[[#This Row],[State]],\", \",tLists4[[#This Row],[County]])","v":"Wisconsin, Polk County"},2]
[null,null,null,null,null,null,null,null,null,null,null,null,null,"Wisconsin","Portage County",{"$f":"CONCATENATE(tLists4[[#This Row],[State]],\", \",tLists4[[#This Row],[County]])","v":"Wisconsin, Portage County"},3]
[null,null,null,null,null,null,null,null,null,null,null,null,null,"Wisconsin","Price County",{"$f":"CONCATENATE(tLists4[[#This Row],[State]],\", \",tLists4[[#This Row],[County]])","v":"Wisconsin, Price County"},2]
[null,null,null,null,null,null,null,null,null,null,null,null,null,"Wisconsin","Racine County",{"$f":"CONCATENATE(tLists4[[#This Row],[State]],\", \",tLists4[[#This Row],[County]])","v":"Wisconsin, Racine County"},2]
[null,null,null,null,null,null,null,null,null,null,null,null,null,"Wisconsin","Richland County",{"$f":"CONCATENATE(tLists4[[#This Row],[State]],\", \",tLists4[[#This Row],[County]])","v":"Wisconsin, Richland County"},2]
[null,null,null,null,null,null,null,null,null,null,null,null,null,"Wisconsin","Rock County",{"$f":"CONCATENATE(tLists4[[#This Row],[State]],\", \",tLists4[[#This Row],[County]])","v":"Wisconsin, Rock County"},2]
[null,null,null,null,null,null,null,null,null,null,null,null,null,"Wisconsin","Rusk County",{"$f":"CONCATENATE(tLists4[[#This Row],[State]],\", \",tLists4[[#This Row],[County]])","v":"Wisconsin, Rusk County"},2]
[null,null,null,null,null,null,null,null,null,null,null,null,null,"Wisconsin","Sauk County",{"$f":"CONCATENATE(tLists4[[#This Row],[State]],\", \",tLists4[[#This Row],[County]])","v":"Wisconsin, Sauk County"},2]
[null,null,null,null,null,null,null,null,null,null,null,null,null,"Wisconsin","Sawyer County",{"$f":"CONCATENATE(tLists4[[#This Row],[State]],\", \",tLists4[[#This Row],[County]])","v":"Wisconsin, Sawyer County"},3]
[null,null,null,null,null,null,null,null,null,null,null,null,null,"Wisconsin","Shawano County",{"$f":"CONCATENATE(tLists4[[#This Row],[State]],\", \",tLists4[[#This Row],[County]])","v":"Wisconsin, Shawano County"},2]
[null,null,null,null,null,null,null,null,null,null,null,null,null,"Wisconsin","Sheboygan County",{"$f":"CONCATENATE(tLists4[[#This Row],[State]],\", \",tLists4[[#This Row],[County]])","v":"Wisconsin, Sheboygan County"},2]
[null,null,null,null,null,null,null,null,null,null,null,null,null,"Wisconsin","St. Croix County",{"$f":"CONCATENATE(tLists4[[#This Row],[State]],\", \",tLists4[[#This Row],[County]])","v":"Wisconsin, St. Croix County"},2]
[null,null,null,null,null,null,null,null,null,null,null,null,null,"Wisconsin","Taylor County",{"$f":"CONCATENATE(tLists4[[#This Row],[State]],\", \",tLists4[[#This Row],[County]])","v":"Wisconsin, Taylor County"},2]
[null,null,null,null,null,null,null,null,null,null,null,null,null,"Wisconsin","Trempealeau County",{"$f":"CONCATENATE(tLists4[[#This Row],[State]],\", \",tLists4[[#This Row],[County]])","v":"Wisconsin, Trempealeau County"},2]
[null,null,null,null,null,null,null,null,null,null,null,null,null,"Wisconsin","Vernon County",{"$f":"CONCATENATE(tLists4[[#This Row],[State]],\", \",tLists4[[#This Row],[County]])","v":"Wisconsin, Vernon County"},2]
[null,null,null,null,null,null,null,null,null,null,null,null,null,"Wisconsin","Vilas County",{"$f":"CONCATENATE(tLists4[[#This Row],[State]],\", \",tLists4[[#This Row],[County]])","v":"Wisconsin, Vilas County"},3]
[null,null,null,null,null,null,null,null,null,null,null,null,null,"Wisconsin","Walworth County",{"$f":"CONCATENATE(tLists4[[#This Row],[State]],\", \",tLists4[[#This Row],[County]])","v":"Wisconsin, Walworth County"},2]
[null,null,null,null,null,null,null,null,null,null,null,null,null,"Wisconsin","Washburn County",{"$f":"CONCATENATE(tLists4[[#This Row],[State]],\", \",tLists4[[#This Row],[County]])","v":"Wisconsin, Washburn County"},2]
[null,null,null,null,null,null,null,null,null,null,null,null,null,"Wisconsin","Washington County",{"$f":"CONCATENATE(tLists4[[#This Row],[State]],\", \",tLists4[[#This Row],[County]])","v":"Wisconsin, Washington County"},2]
[null,null,null,null,null,null,null,null,null,null,null,null,null,"Wisconsin","Waukesha County",{"$f":"CONCATENATE(tLists4[[#This Row],[State]],\", \",tLists4[[#This Row],[County]])","v":"Wisconsin, Waukesha County"},2]
[null,null,null,null,null,null,null,null,null,null,null,null,null,"Wisconsin","Waupaca County",{"$f":"CONCATENATE(tLists4[[#This Row],[State]],\", \",tLists4[[#This Row],[County]])","v":"Wisconsin, Waupaca County"},3]
[null,null,null,null,null,null,null,null,null,null,null,null,null,"Wisconsin","Waushara County",{"$f":"CONCATENATE(tLists4[[#This Row],[State]],\", \",tLists4[[#This Row],[County]])","v":"Wisconsin, Waushara County"},3]
[null,null,null,null,null,null,null,null,null,null,null,null,null,"Wisconsin","Winnebago County",{"$f":"CONCATENATE(tLists4[[#This Row],[State]],\", \",tLists4[[#This Row],[County]])","v":"Wisconsin, Winnebago County"},2]
[null,null,null,null,null,null,null,null,null,null,null,null,null,"Wisconsin","Wood County",{"$f":"CONCATENATE(tLists4[[#This Row],[State]],\", \",tLists4[[#This Row],[County]])","v":"Wisconsin, Wood County"},2]
[null,null,null,null,null,null,null,null,null,null,null,null,null,"Wyoming","Albany County",{"$f":"CONCATENATE(tLists4[[#This Row],[State]],\", \",tLists4[[#This Row],[County]])","v":"Wyoming, Albany County"},3]
[null,null,null,null,null,null,null,null,null,null,null,null,null,"Wyoming","Big Horn County",{"$f":"CONCATENATE(tLists4[[#This Row],[State]],\", \",tLists4[[#This Row],[County]])","v":"Wyoming, Big Horn County"},3]
[null,null,null,null,null,null,null,null,null,null,null,null,null,"Wyoming","Campbell County",{"$f":"CONCATENATE(tLists4[[#This Row],[State]],\", \",tLists4[[#This Row],[County]])","v":"Wyoming, Campbell County"},3]
[null,null,null,null,null,null,null,null,null,null,null,null,null,"Wyoming","Carbon County",{"$f":"CONCATENATE(tLists4[[#This Row],[State]],\", \",tLists4[[#This Row],[County]])","v":"Wyoming, Carbon County"},3]
[null,null,null,null,null,null,null,null,null,null,null,null,null,"Wyoming","Converse County",{"$f":"CONCATENATE(tLists4[[#This Row],[State]],\", \",tLists4[[#This Row],[County]])","v":"Wyoming, Converse County"},3]
[null,null,null,null,null,null,null,null,null,null,null,null,null,"Wyoming","Crook County",{"$f":"CONCATENATE(tLists4[[#This Row],[State]],\", \",tLists4[[#This Row],[County]])","v":"Wyoming, Crook County"},3]
[null,null,null,null,null,null,null,null,null,null,null,null,null,"Wyoming","Fremont County",{"$f":"CONCATENATE(tLists4[[#This Row],[State]],\", \",tLists4[[#This Row],[County]])","v":"Wyoming, Fremont County"},3]
[null,null,null,null,null,null,null,null,null,null,null,null,null,"Wyoming","Goshen County",{"$f":"CONCATENATE(tLists4[[#This Row],[State]],\", \",tLists4[[#This Row],[County]])","v":"Wyoming, Goshen County"},3]
[null,null,null,null,null,null,null,null,null,null,null,null,null,"Wyoming","Hot Springs County",{"$f":"CONCATENATE(tLists4[[#This Row],[State]],\", \",tLists4[[#This Row],[County]])","v":"Wyoming, Hot Springs County"},3]
[null,null,null,null,null,null,null,null,null,null,null,null,null,"Wyoming","Johnson County",{"$f":"CONCATENATE(tLists4[[#This Row],[State]],\", \",tLists4[[#This Row],[County]])","v":"Wyoming, Johnson County"},3]
[null,null,null,null,null,null,null,null,null,null,null,null,null,"Wyoming","Laramie County",{"$f":"CONCATENATE(tLists4[[#This Row],[State]],\", \",tLists4[[#This Row],[County]])","v":"Wyoming, Laramie County"},3]
[null,null,null,null,null,null,null,null,null,null,null,null,null,"Wyoming","Lincoln County",{"$f":"CONCATENATE(tLists4[[#This Row],[State]],\", \",tLists4[[#This Row],[County]])","v":"Wyoming, Lincoln County"},3]
[null,null,null,null,null,null,null,null,null,null,null,null,null,"Wyoming","Natrona County",{"$f":"CONCATENATE(tLists4[[#This Row],[State]],\", \",tLists4[[#This Row],[County]])","v":"Wyoming, Natrona County"},3]
[null,null,null,null,null,null,null,null,null,null,null,null,null,"Wyoming","Niobrara County",{"$f":"CONCATENATE(tLists4[[#This Row],[State]],\", \",tLists4[[#This Row],[County]])","v":"Wyoming, Niobrara County"},3]
[null,null,null,null,null,null,null,null,null,null,null,null,null,"Wyoming","Park County",{"$f":"CONCATENATE(tLists4[[#This Row],[State]],\", \",tLists4[[#This Row],[County]])","v":"Wyoming, Park County"},3]
[null,null,null,null,null,null,null,null,null,null,null,null,null,"Wyoming","Platte County",{"$f":"CONCATENATE(tLists4[[#This Row],[State]],\", \",tLists4[[#This Row],[County]])","v":"Wyoming, Platte County"},3]
[null,null,null,null,null,null,null,null,null,null,null,null,null,"Wyoming","Sheridan County",{"$f":"CONCATENATE(tLists4[[#This Row],[State]],\", \",tLists4[[#This Row],[County]])","v":"Wyoming, Sheridan County"},3]
[null,null,null,null,null,null,null,null,null,null,null,null,null,"Wyoming","Sublette County",{"$f":"CONCATENATE(tLists4[[#This Row],[State]],\", \",tLists4[[#This Row],[County]])","v":"Wyoming, Sublette County"},3]
[null,null,null,null,null,null,null,null,null,null,null,null,null,"Wyoming","Sweetwater County",{"$f":"CONCATENATE(tLists4[[#This Row],[State]],\", \",tLists4[[#This Row],[County]])","v":"Wyoming, Sweetwater County"},3]
[null,null,null,null,null,null,null,null,null,null,null,null,null,"Wyoming","Teton County",{"$f":"CONCATENATE(tLists4[[#This Row],[State]],\", \",tLists4[[#This Row],[County]])","v":"Wyoming, Teton County"},2]
[null,null,null,null,null,null,null,null,null,null,null,null,null,"Wyoming","Uinta County",{"$f":"CONCATENATE(tLists4[[#This Row],[State]],\", \",tLists4[[#This Row],[County]])","v":"Wyoming, Uinta County"},3]
[null,null,null,null,null,null,null,null,null,null,null,null,null,"Wyoming","Washakie County",{"$f":"CONCATENATE(tLists4[[#This Row],[State]],\", \",tLists4[[#This Row],[County]])","v":"Wyoming, Washakie County"},3]
[null,null,null,null,null,null,null,null,null,null,null,null,null,"Wyoming","Weston County",{"$f":"CONCATENATE(tLists4[[#This Row],[State]],\", \",tLists4[[#This Row],[County]])","v":"Wyoming, Weston County"},3]